BEGIN:VCALENDAR
VERSION:2.0
PRODID:-//Teamlink and Shenandoah Mountain Guides - ECPv6.15.13.1//NONSGML v1.0//EN
CALSCALE:GREGORIAN
METHOD:PUBLISH
X-WR-CALNAME:Teamlink and Shenandoah Mountain Guides
X-ORIGINAL-URL:https://teamlinkinc.com
X-WR-CALDESC:Events for Teamlink and Shenandoah Mountain Guides
REFRESH-INTERVAL;VALUE=DURATION:PT1H
X-Robots-Tag:noindex
X-PUBLISHED-TTL:PT1H
BEGIN:VTIMEZONE
TZID:America/New_York
BEGIN:DAYLIGHT
TZOFFSETFROM:-0500
TZOFFSETTO:-0400
TZNAME:EDT
DTSTART:20250309T070000
END:DAYLIGHT
BEGIN:STANDARD
TZOFFSETFROM:-0400
TZOFFSETTO:-0500
TZNAME:EST
DTSTART:20251102T060000
END:STANDARD
BEGIN:DAYLIGHT
TZOFFSETFROM:-0500
TZOFFSETTO:-0400
TZNAME:EDT
DTSTART:20260308T070000
END:DAYLIGHT
BEGIN:STANDARD
TZOFFSETFROM:-0400
TZOFFSETTO:-0500
TZNAME:EST
DTSTART:20261101T060000
END:STANDARD
BEGIN:DAYLIGHT
TZOFFSETFROM:-0500
TZOFFSETTO:-0400
TZNAME:EDT
DTSTART:20270314T070000
END:DAYLIGHT
BEGIN:STANDARD
TZOFFSETFROM:-0400
TZOFFSETTO:-0500
TZNAME:EST
DTSTART:20271107T060000
END:STANDARD
END:VTIMEZONE
BEGIN:VEVENT
DTSTART;TZID=America/New_York:20260701T090000
DTEND;TZID=America/New_York:20260701T160000
DTSTAMP:20260423T144742
CREATED:20250110T214227Z
LAST-MODIFIED:20260210T162940Z
UID:23721-1782896400-1782921600@teamlinkinc.com
SUMMARY:Cascading 2
DESCRIPTION:Ready to step up your adventure level? \n\nHave you completed the level 1 adventure? Are you a swimmer? In pretty good physical condition? \nThen… this is for you!  This trip only runs a few times each year\, but if you are lucky enough to go\, you will NEVER forget it! \n…with multiple waterfall rappels\, exploring remote pools\, and traveling WAY  deep in the canyon\, there are hardly words to fully convey the experience. \n*strong swimming skills and comfort in deeper water are required for this adventure! \n 
URL:https://teamlinkinc.com/event/cascading-2-2/2026-07-01/
CATEGORIES:Cascading
END:VEVENT
BEGIN:VEVENT
DTSTART;TZID=America/New_York:20260708T090000
DTEND;TZID=America/New_York:20260708T160000
DTSTAMP:20260423T144742
CREATED:20250110T214227Z
LAST-MODIFIED:20250110T214227Z
UID:26933-1783501200-1783526400@teamlinkinc.com
SUMMARY:Cascading 2
DESCRIPTION:Ready to step up your adventure level? \n\nHave you completed the level 1 adventure? Are you a swimmer? In pretty good physical condition? \nThen… this is for you!  This trip only runs a few times each year\, but if you are lucky enough to go\, you will NEVER forget it! \n…with multiple waterfall rappels\, exploring remote pools\, and traveling WAY  deep in the canyon\, there are hardly words to fully convey the experience. \n*strong swimming skills and comfort in deeper water are required for this adventure! \n 
URL:https://teamlinkinc.com/event/cascading-2-2/2026-07-08/
CATEGORIES:Cascading
END:VEVENT
BEGIN:VEVENT
DTSTART;TZID=America/New_York:20260715T090000
DTEND;TZID=America/New_York:20260715T160000
DTSTAMP:20260423T144742
CREATED:20250110T214227Z
LAST-MODIFIED:20250110T214227Z
UID:26934-1784106000-1784131200@teamlinkinc.com
SUMMARY:Cascading 2
DESCRIPTION:Ready to step up your adventure level? \n\nHave you completed the level 1 adventure? Are you a swimmer? In pretty good physical condition? \nThen… this is for you!  This trip only runs a few times each year\, but if you are lucky enough to go\, you will NEVER forget it! \n…with multiple waterfall rappels\, exploring remote pools\, and traveling WAY  deep in the canyon\, there are hardly words to fully convey the experience. \n*strong swimming skills and comfort in deeper water are required for this adventure! \n 
URL:https://teamlinkinc.com/event/cascading-2-2/2026-07-15/
CATEGORIES:Cascading
END:VEVENT
BEGIN:VEVENT
DTSTART;TZID=America/New_York:20260722T090000
DTEND;TZID=America/New_York:20260722T160000
DTSTAMP:20260423T144742
CREATED:20250110T214227Z
LAST-MODIFIED:20250110T214227Z
UID:26935-1784710800-1784736000@teamlinkinc.com
SUMMARY:Cascading 2
DESCRIPTION:Ready to step up your adventure level? \n\nHave you completed the level 1 adventure? Are you a swimmer? In pretty good physical condition? \nThen… this is for you!  This trip only runs a few times each year\, but if you are lucky enough to go\, you will NEVER forget it! \n…with multiple waterfall rappels\, exploring remote pools\, and traveling WAY  deep in the canyon\, there are hardly words to fully convey the experience. \n*strong swimming skills and comfort in deeper water are required for this adventure! \n 
URL:https://teamlinkinc.com/event/cascading-2-2/2026-07-22/
CATEGORIES:Cascading
END:VEVENT
BEGIN:VEVENT
DTSTART;TZID=America/New_York:20260729T090000
DTEND;TZID=America/New_York:20260729T160000
DTSTAMP:20260423T144742
CREATED:20250110T214227Z
LAST-MODIFIED:20250110T214227Z
UID:26936-1785315600-1785340800@teamlinkinc.com
SUMMARY:Cascading 2
DESCRIPTION:Ready to step up your adventure level? \n\nHave you completed the level 1 adventure? Are you a swimmer? In pretty good physical condition? \nThen… this is for you!  This trip only runs a few times each year\, but if you are lucky enough to go\, you will NEVER forget it! \n…with multiple waterfall rappels\, exploring remote pools\, and traveling WAY  deep in the canyon\, there are hardly words to fully convey the experience. \n*strong swimming skills and comfort in deeper water are required for this adventure! \n 
URL:https://teamlinkinc.com/event/cascading-2-2/2026-07-29/
CATEGORIES:Cascading
END:VEVENT
BEGIN:VEVENT
DTSTART;TZID=America/New_York:20260805T090000
DTEND;TZID=America/New_York:20260805T160000
DTSTAMP:20260423T144742
CREATED:20250110T214227Z
LAST-MODIFIED:20250110T214227Z
UID:26937-1785920400-1785945600@teamlinkinc.com
SUMMARY:Cascading 2
DESCRIPTION:Ready to step up your adventure level? \n\nHave you completed the level 1 adventure? Are you a swimmer? In pretty good physical condition? \nThen… this is for you!  This trip only runs a few times each year\, but if you are lucky enough to go\, you will NEVER forget it! \n…with multiple waterfall rappels\, exploring remote pools\, and traveling WAY  deep in the canyon\, there are hardly words to fully convey the experience. \n*strong swimming skills and comfort in deeper water are required for this adventure! \n 
URL:https://teamlinkinc.com/event/cascading-2-2/2026-08-05/
CATEGORIES:Cascading
END:VEVENT
BEGIN:VEVENT
DTSTART;TZID=America/New_York:20260812T090000
DTEND;TZID=America/New_York:20260812T160000
DTSTAMP:20260423T144742
CREATED:20250110T214227Z
LAST-MODIFIED:20250110T214227Z
UID:26938-1786525200-1786550400@teamlinkinc.com
SUMMARY:Cascading 2
DESCRIPTION:Ready to step up your adventure level? \n\nHave you completed the level 1 adventure? Are you a swimmer? In pretty good physical condition? \nThen… this is for you!  This trip only runs a few times each year\, but if you are lucky enough to go\, you will NEVER forget it! \n…with multiple waterfall rappels\, exploring remote pools\, and traveling WAY  deep in the canyon\, there are hardly words to fully convey the experience. \n*strong swimming skills and comfort in deeper water are required for this adventure! \n 
URL:https://teamlinkinc.com/event/cascading-2-2/2026-08-12/
CATEGORIES:Cascading
END:VEVENT
BEGIN:VEVENT
DTSTART;TZID=America/New_York:20260819T090000
DTEND;TZID=America/New_York:20260819T160000
DTSTAMP:20260423T144742
CREATED:20250110T214227Z
LAST-MODIFIED:20250110T214227Z
UID:26939-1787130000-1787155200@teamlinkinc.com
SUMMARY:Cascading 2
DESCRIPTION:Ready to step up your adventure level? \n\nHave you completed the level 1 adventure? Are you a swimmer? In pretty good physical condition? \nThen… this is for you!  This trip only runs a few times each year\, but if you are lucky enough to go\, you will NEVER forget it! \n…with multiple waterfall rappels\, exploring remote pools\, and traveling WAY  deep in the canyon\, there are hardly words to fully convey the experience. \n*strong swimming skills and comfort in deeper water are required for this adventure! \n 
URL:https://teamlinkinc.com/event/cascading-2-2/2026-08-19/
CATEGORIES:Cascading
END:VEVENT
BEGIN:VEVENT
DTSTART;TZID=America/New_York:20260826T090000
DTEND;TZID=America/New_York:20260826T160000
DTSTAMP:20260423T144742
CREATED:20250110T214227Z
LAST-MODIFIED:20250110T214227Z
UID:26940-1787734800-1787760000@teamlinkinc.com
SUMMARY:Cascading 2
DESCRIPTION:Ready to step up your adventure level? \n\nHave you completed the level 1 adventure? Are you a swimmer? In pretty good physical condition? \nThen… this is for you!  This trip only runs a few times each year\, but if you are lucky enough to go\, you will NEVER forget it! \n…with multiple waterfall rappels\, exploring remote pools\, and traveling WAY  deep in the canyon\, there are hardly words to fully convey the experience. \n*strong swimming skills and comfort in deeper water are required for this adventure! \n 
URL:https://teamlinkinc.com/event/cascading-2-2/2026-08-26/
CATEGORIES:Cascading
END:VEVENT
BEGIN:VEVENT
DTSTART;TZID=America/New_York:20260902T090000
DTEND;TZID=America/New_York:20260902T160000
DTSTAMP:20260423T144742
CREATED:20250110T214227Z
LAST-MODIFIED:20250110T214227Z
UID:26941-1788339600-1788364800@teamlinkinc.com
SUMMARY:Cascading 2
DESCRIPTION:Ready to step up your adventure level? \n\nHave you completed the level 1 adventure? Are you a swimmer? In pretty good physical condition? \nThen… this is for you!  This trip only runs a few times each year\, but if you are lucky enough to go\, you will NEVER forget it! \n…with multiple waterfall rappels\, exploring remote pools\, and traveling WAY  deep in the canyon\, there are hardly words to fully convey the experience. \n*strong swimming skills and comfort in deeper water are required for this adventure! \n 
URL:https://teamlinkinc.com/event/cascading-2-2/2026-09-02/
CATEGORIES:Cascading
END:VEVENT
BEGIN:VEVENT
DTSTART;TZID=America/New_York:20260909T090000
DTEND;TZID=America/New_York:20260909T160000
DTSTAMP:20260423T144742
CREATED:20250110T214227Z
LAST-MODIFIED:20250110T214227Z
UID:26942-1788944400-1788969600@teamlinkinc.com
SUMMARY:Cascading 2
DESCRIPTION:Ready to step up your adventure level? \n\nHave you completed the level 1 adventure? Are you a swimmer? In pretty good physical condition? \nThen… this is for you!  This trip only runs a few times each year\, but if you are lucky enough to go\, you will NEVER forget it! \n…with multiple waterfall rappels\, exploring remote pools\, and traveling WAY  deep in the canyon\, there are hardly words to fully convey the experience. \n*strong swimming skills and comfort in deeper water are required for this adventure! \n 
URL:https://teamlinkinc.com/event/cascading-2-2/2026-09-09/
CATEGORIES:Cascading
END:VEVENT
BEGIN:VEVENT
DTSTART;TZID=America/New_York:20260916T090000
DTEND;TZID=America/New_York:20260916T160000
DTSTAMP:20260423T144742
CREATED:20250110T214227Z
LAST-MODIFIED:20250110T214227Z
UID:26943-1789549200-1789574400@teamlinkinc.com
SUMMARY:Cascading 2
DESCRIPTION:Ready to step up your adventure level? \n\nHave you completed the level 1 adventure? Are you a swimmer? In pretty good physical condition? \nThen… this is for you!  This trip only runs a few times each year\, but if you are lucky enough to go\, you will NEVER forget it! \n…with multiple waterfall rappels\, exploring remote pools\, and traveling WAY  deep in the canyon\, there are hardly words to fully convey the experience. \n*strong swimming skills and comfort in deeper water are required for this adventure! \n 
URL:https://teamlinkinc.com/event/cascading-2-2/2026-09-16/
CATEGORIES:Cascading
END:VEVENT
END:VCALENDAR