BEGIN:VCALENDAR
VERSION:2.0
PRODID:-//Teamlink and Shenandoah Mountain Guides - ECPv6.15.13.1//NONSGML v1.0//EN
CALSCALE:GREGORIAN
METHOD:PUBLISH
X-ORIGINAL-URL:https://teamlinkinc.com
X-WR-CALDESC:Events for Teamlink and Shenandoah Mountain Guides
REFRESH-INTERVAL;VALUE=DURATION:PT1H
X-Robots-Tag:noindex
X-PUBLISHED-TTL:PT1H
BEGIN:VTIMEZONE
TZID:America/New_York
BEGIN:DAYLIGHT
TZOFFSETFROM:-0500
TZOFFSETTO:-0400
TZNAME:EDT
DTSTART:20240310T070000
END:DAYLIGHT
BEGIN:STANDARD
TZOFFSETFROM:-0400
TZOFFSETTO:-0500
TZNAME:EST
DTSTART:20241103T060000
END:STANDARD
BEGIN:DAYLIGHT
TZOFFSETFROM:-0500
TZOFFSETTO:-0400
TZNAME:EDT
DTSTART:20250309T070000
END:DAYLIGHT
BEGIN:STANDARD
TZOFFSETFROM:-0400
TZOFFSETTO:-0500
TZNAME:EST
DTSTART:20251102T060000
END:STANDARD
BEGIN:DAYLIGHT
TZOFFSETFROM:-0500
TZOFFSETTO:-0400
TZNAME:EDT
DTSTART:20260308T070000
END:DAYLIGHT
BEGIN:STANDARD
TZOFFSETFROM:-0400
TZOFFSETTO:-0500
TZNAME:EST
DTSTART:20261101T060000
END:STANDARD
END:VTIMEZONE
BEGIN:VEVENT
DTSTART;TZID=America/New_York:20251121T090000
DTEND;TZID=America/New_York:20251121T153000
DTSTAMP:20260423T145130
CREATED:20201113T175414Z
LAST-MODIFIED:20251015T133434Z
UID:17567-1763715600-1763739000@teamlinkinc.com
SUMMARY:Take Shelter!   (Shelter Basics)
DESCRIPTION:SHELTER BASICS… and  how to rig them!\n \nFrom tents… to tarps… to trash bags … to snow caves (quinzhees)…\nThey can all be amazing shelters… IF you know how to use them! \nMany folks have tried tents (“they all leak”) with little success. \nMost people have used tarps (“they suck”) with no knowledge of what it takes to make a tarp work .. \nAnd camping in the snow has GOT TO BE cold… (its not!) \nAll of these shelter types have been used for thousands of years with great success\, even without the modern materials available today… all it requires is the know how to use them properly. \n… and\, the knowledge of knots! \n(All materials can be provided\, however we strongly encourage participants to bring their own\, to learn how to provide optimal shelter for themselves with their own gear.) \nThis class\, a component of our outdoor leadership program\, can be offered any time by request…
URL:https://teamlinkinc.com/event/take-shelter-shelter-basics/2025-11-21/
CATEGORIES:Outdoor skill classes
END:VEVENT
END:VCALENDAR