BEGIN:VCALENDAR
VERSION:2.0
PRODID:-//Teamlink and Shenandoah Mountain Guides - ECPv6.15.13.1//NONSGML v1.0//EN
CALSCALE:GREGORIAN
METHOD:PUBLISH
X-ORIGINAL-URL:https://teamlinkinc.com
X-WR-CALDESC:Events for Teamlink and Shenandoah Mountain Guides
REFRESH-INTERVAL;VALUE=DURATION:PT1H
X-Robots-Tag:noindex
X-PUBLISHED-TTL:PT1H
BEGIN:VTIMEZONE
TZID:UTC
BEGIN:STANDARD
TZOFFSETFROM:+0000
TZOFFSETTO:+0000
TZNAME:UTC
DTSTART:20250101T000000
END:STANDARD
END:VTIMEZONE
BEGIN:VEVENT
DTSTART;TZID=UTC:20260921T090000
DTEND;TZID=UTC:20260921T150000
DTSTAMP:20260423T232827
CREATED:20200829T010334Z
LAST-MODIFIED:20260210T163547Z
UID:25294-1789981200-1790002800@teamlinkinc.com
SUMMARY:Cascading 1 (mtn swimming)
DESCRIPTION:There is nothing as sweet as a few laps in some of our mountain pools.. all spring fed\, all bracingly cool\, all dazzlingly crystal clear. These mountain treasures have been destinations for years… the hotter the midsummer day\, the better! Add a few jumping rocks\, a “waterfall jacuzzi”\, a smooth waterslide\, a stream to wade\, and a waterfall to rappel through….  and it is the perfect getaway adventure day.. for families and friends. \nCascading is basically wet\, very wet\, canyoneering. \nAll cascading days are led by Andy Nichols\, one of the top outdoor adventure educators in the country. Andy has been recognized as an “Outdoor Legend” by “Blue Ridge Outdoors” magazine\, and has been featured in magazines including National Geographic Adventure and Southern Living. His students range from Tier 1 operators to Scouts\, from corporate executives to family vacationers\, from NPS Search and Rescue teams to foreign embassy staff. Andy and his team pioneered this sport in the East. His many years of experience will guarantee that you will have an amazing time! \n \nIn fact\, Southern Living Magazine has declared our cascading program as “ the best summer adventure in the South”! Come see why!
URL:https://teamlinkinc.com/event/cascading-1-mtn-swimming/2026-09-21/
LOCATION:Various
CATEGORIES:Cascading
END:VEVENT
BEGIN:VEVENT
DTSTART;TZID=UTC:20260923T090000
DTEND;TZID=UTC:20260923T150000
DTSTAMP:20260423T232827
CREATED:20200829T010334Z
LAST-MODIFIED:20260210T163549Z
UID:25295-1790154000-1790175600@teamlinkinc.com
SUMMARY:Cascading 1 (mtn swimming)
DESCRIPTION:There is nothing as sweet as a few laps in some of our mountain pools.. all spring fed\, all bracingly cool\, all dazzlingly crystal clear. These mountain treasures have been destinations for years… the hotter the midsummer day\, the better! Add a few jumping rocks\, a “waterfall jacuzzi”\, a smooth waterslide\, a stream to wade\, and a waterfall to rappel through….  and it is the perfect getaway adventure day.. for families and friends. \nCascading is basically wet\, very wet\, canyoneering. \nAll cascading days are led by Andy Nichols\, one of the top outdoor adventure educators in the country. Andy has been recognized as an “Outdoor Legend” by “Blue Ridge Outdoors” magazine\, and has been featured in magazines including National Geographic Adventure and Southern Living. His students range from Tier 1 operators to Scouts\, from corporate executives to family vacationers\, from NPS Search and Rescue teams to foreign embassy staff. Andy and his team pioneered this sport in the East. His many years of experience will guarantee that you will have an amazing time! \n \nIn fact\, Southern Living Magazine has declared our cascading program as “ the best summer adventure in the South”! Come see why!
URL:https://teamlinkinc.com/event/cascading-1-mtn-swimming/2026-09-23/
LOCATION:Various
CATEGORIES:Cascading
END:VEVENT
BEGIN:VEVENT
DTSTART;TZID=UTC:20260925T090000
DTEND;TZID=UTC:20260925T150000
DTSTAMP:20260423T232827
CREATED:20200829T010334Z
LAST-MODIFIED:20260210T163551Z
UID:25296-1790326800-1790348400@teamlinkinc.com
SUMMARY:Cascading 1 (mtn swimming)
DESCRIPTION:There is nothing as sweet as a few laps in some of our mountain pools.. all spring fed\, all bracingly cool\, all dazzlingly crystal clear. These mountain treasures have been destinations for years… the hotter the midsummer day\, the better! Add a few jumping rocks\, a “waterfall jacuzzi”\, a smooth waterslide\, a stream to wade\, and a waterfall to rappel through….  and it is the perfect getaway adventure day.. for families and friends. \nCascading is basically wet\, very wet\, canyoneering. \nAll cascading days are led by Andy Nichols\, one of the top outdoor adventure educators in the country. Andy has been recognized as an “Outdoor Legend” by “Blue Ridge Outdoors” magazine\, and has been featured in magazines including National Geographic Adventure and Southern Living. His students range from Tier 1 operators to Scouts\, from corporate executives to family vacationers\, from NPS Search and Rescue teams to foreign embassy staff. Andy and his team pioneered this sport in the East. His many years of experience will guarantee that you will have an amazing time! \n \nIn fact\, Southern Living Magazine has declared our cascading program as “ the best summer adventure in the South”! Come see why!
URL:https://teamlinkinc.com/event/cascading-1-mtn-swimming/2026-09-25/
LOCATION:Various
CATEGORIES:Cascading
END:VEVENT
END:VCALENDAR