BEGIN:VCALENDAR
VERSION:2.0
PRODID:-//Teamlink and Shenandoah Mountain Guides - ECPv6.15.13.1//NONSGML v1.0//EN
CALSCALE:GREGORIAN
METHOD:PUBLISH
X-WR-CALNAME:Teamlink and Shenandoah Mountain Guides
X-ORIGINAL-URL:https://teamlinkinc.com
X-WR-CALDESC:Events for Teamlink and Shenandoah Mountain Guides
REFRESH-INTERVAL;VALUE=DURATION:PT1H
X-Robots-Tag:noindex
X-PUBLISHED-TTL:PT1H
BEGIN:VTIMEZONE
TZID:America/New_York
BEGIN:DAYLIGHT
TZOFFSETFROM:-0500
TZOFFSETTO:-0400
TZNAME:EDT
DTSTART:20250309T070000
END:DAYLIGHT
BEGIN:STANDARD
TZOFFSETFROM:-0400
TZOFFSETTO:-0500
TZNAME:EST
DTSTART:20251102T060000
END:STANDARD
BEGIN:DAYLIGHT
TZOFFSETFROM:-0500
TZOFFSETTO:-0400
TZNAME:EDT
DTSTART:20260308T070000
END:DAYLIGHT
BEGIN:STANDARD
TZOFFSETFROM:-0400
TZOFFSETTO:-0500
TZNAME:EST
DTSTART:20261101T060000
END:STANDARD
BEGIN:DAYLIGHT
TZOFFSETFROM:-0500
TZOFFSETTO:-0400
TZNAME:EDT
DTSTART:20270314T070000
END:DAYLIGHT
BEGIN:STANDARD
TZOFFSETFROM:-0400
TZOFFSETTO:-0500
TZNAME:EST
DTSTART:20271107T060000
END:STANDARD
END:VTIMEZONE
BEGIN:VEVENT
DTSTART;TZID=America/New_York:20260525T090000
DTEND;TZID=America/New_York:20260525T150000
DTSTAMP:20260423T162314
CREATED:20230418T012210Z
LAST-MODIFIED:20230418T012210Z
UID:27040-1779699600-1779721200@teamlinkinc.com
SUMMARY:Guided Hiking
DESCRIPTION:The magic of Shenandoah can’t be experienced from behind a windshield… The real magic of Shenandoah is waiting to be discovered in the backcountry on the hundreds of miles of trails and old roads found within the park’s boundaries. \nOur Guided Hikes range from 2 to six hours (you choose) and the destinations can range from windswept mountaintops to spectacular waterfalls\, from wildflower-filled meadows\, to traces of old mountain communities. \n \nFlora\, fauna\, geology and history.. Shenandoah in all of her glory! \nAll hikes are led by our founder and noted outdoor/wilderness educator\, Andy Nichols. Andy is a native son\, who has worked around the world. An EMT (wilderness)\, a passionate teacher and park steward\, he is both insured and permitted to guide and teach in Shenandoah. \n  \nDiscover the magic!
URL:https://teamlinkinc.com/event/guided-hiking/2026-05-25/
CATEGORIES:Hiking
END:VEVENT
BEGIN:VEVENT
DTSTART;TZID=America/New_York:20260526T090000
DTEND;TZID=America/New_York:20260526T150000
DTSTAMP:20260423T162314
CREATED:20230418T012210Z
LAST-MODIFIED:20230418T012210Z
UID:27041-1779786000-1779807600@teamlinkinc.com
SUMMARY:Guided Hiking
DESCRIPTION:The magic of Shenandoah can’t be experienced from behind a windshield… The real magic of Shenandoah is waiting to be discovered in the backcountry on the hundreds of miles of trails and old roads found within the park’s boundaries. \nOur Guided Hikes range from 2 to six hours (you choose) and the destinations can range from windswept mountaintops to spectacular waterfalls\, from wildflower-filled meadows\, to traces of old mountain communities. \n \nFlora\, fauna\, geology and history.. Shenandoah in all of her glory! \nAll hikes are led by our founder and noted outdoor/wilderness educator\, Andy Nichols. Andy is a native son\, who has worked around the world. An EMT (wilderness)\, a passionate teacher and park steward\, he is both insured and permitted to guide and teach in Shenandoah. \n  \nDiscover the magic!
URL:https://teamlinkinc.com/event/guided-hiking/2026-05-26/
CATEGORIES:Hiking
END:VEVENT
BEGIN:VEVENT
DTSTART;TZID=America/New_York:20260527T090000
DTEND;TZID=America/New_York:20260527T150000
DTSTAMP:20260423T162314
CREATED:20230418T012210Z
LAST-MODIFIED:20230418T012210Z
UID:27042-1779872400-1779894000@teamlinkinc.com
SUMMARY:Guided Hiking
DESCRIPTION:The magic of Shenandoah can’t be experienced from behind a windshield… The real magic of Shenandoah is waiting to be discovered in the backcountry on the hundreds of miles of trails and old roads found within the park’s boundaries. \nOur Guided Hikes range from 2 to six hours (you choose) and the destinations can range from windswept mountaintops to spectacular waterfalls\, from wildflower-filled meadows\, to traces of old mountain communities. \n \nFlora\, fauna\, geology and history.. Shenandoah in all of her glory! \nAll hikes are led by our founder and noted outdoor/wilderness educator\, Andy Nichols. Andy is a native son\, who has worked around the world. An EMT (wilderness)\, a passionate teacher and park steward\, he is both insured and permitted to guide and teach in Shenandoah. \n  \nDiscover the magic!
URL:https://teamlinkinc.com/event/guided-hiking/2026-05-27/
CATEGORIES:Hiking
END:VEVENT
BEGIN:VEVENT
DTSTART;TZID=America/New_York:20260528T090000
DTEND;TZID=America/New_York:20260528T150000
DTSTAMP:20260423T162314
CREATED:20230418T012210Z
LAST-MODIFIED:20230418T012210Z
UID:27043-1779958800-1779980400@teamlinkinc.com
SUMMARY:Guided Hiking
DESCRIPTION:The magic of Shenandoah can’t be experienced from behind a windshield… The real magic of Shenandoah is waiting to be discovered in the backcountry on the hundreds of miles of trails and old roads found within the park’s boundaries. \nOur Guided Hikes range from 2 to six hours (you choose) and the destinations can range from windswept mountaintops to spectacular waterfalls\, from wildflower-filled meadows\, to traces of old mountain communities. \n \nFlora\, fauna\, geology and history.. Shenandoah in all of her glory! \nAll hikes are led by our founder and noted outdoor/wilderness educator\, Andy Nichols. Andy is a native son\, who has worked around the world. An EMT (wilderness)\, a passionate teacher and park steward\, he is both insured and permitted to guide and teach in Shenandoah. \n  \nDiscover the magic!
URL:https://teamlinkinc.com/event/guided-hiking/2026-05-28/
CATEGORIES:Hiking
END:VEVENT
BEGIN:VEVENT
DTSTART;TZID=America/New_York:20260529T090000
DTEND;TZID=America/New_York:20260529T150000
DTSTAMP:20260423T162314
CREATED:20230418T012210Z
LAST-MODIFIED:20230418T012210Z
UID:27044-1780045200-1780066800@teamlinkinc.com
SUMMARY:Guided Hiking
DESCRIPTION:The magic of Shenandoah can’t be experienced from behind a windshield… The real magic of Shenandoah is waiting to be discovered in the backcountry on the hundreds of miles of trails and old roads found within the park’s boundaries. \nOur Guided Hikes range from 2 to six hours (you choose) and the destinations can range from windswept mountaintops to spectacular waterfalls\, from wildflower-filled meadows\, to traces of old mountain communities. \n \nFlora\, fauna\, geology and history.. Shenandoah in all of her glory! \nAll hikes are led by our founder and noted outdoor/wilderness educator\, Andy Nichols. Andy is a native son\, who has worked around the world. An EMT (wilderness)\, a passionate teacher and park steward\, he is both insured and permitted to guide and teach in Shenandoah. \n  \nDiscover the magic!
URL:https://teamlinkinc.com/event/guided-hiking/2026-05-29/
CATEGORIES:Hiking
END:VEVENT
BEGIN:VEVENT
DTSTART;TZID=America/New_York:20260530T090000
DTEND;TZID=America/New_York:20260530T150000
DTSTAMP:20260423T162314
CREATED:20230418T012210Z
LAST-MODIFIED:20230418T012210Z
UID:27045-1780131600-1780153200@teamlinkinc.com
SUMMARY:Guided Hiking
DESCRIPTION:The magic of Shenandoah can’t be experienced from behind a windshield… The real magic of Shenandoah is waiting to be discovered in the backcountry on the hundreds of miles of trails and old roads found within the park’s boundaries. \nOur Guided Hikes range from 2 to six hours (you choose) and the destinations can range from windswept mountaintops to spectacular waterfalls\, from wildflower-filled meadows\, to traces of old mountain communities. \n \nFlora\, fauna\, geology and history.. Shenandoah in all of her glory! \nAll hikes are led by our founder and noted outdoor/wilderness educator\, Andy Nichols. Andy is a native son\, who has worked around the world. An EMT (wilderness)\, a passionate teacher and park steward\, he is both insured and permitted to guide and teach in Shenandoah. \n  \nDiscover the magic!
URL:https://teamlinkinc.com/event/guided-hiking/2026-05-30/
CATEGORIES:Hiking
END:VEVENT
BEGIN:VEVENT
DTSTART;TZID=America/New_York:20260531T090000
DTEND;TZID=America/New_York:20260531T150000
DTSTAMP:20260423T162314
CREATED:20230418T012210Z
LAST-MODIFIED:20230418T012210Z
UID:27046-1780218000-1780239600@teamlinkinc.com
SUMMARY:Guided Hiking
DESCRIPTION:The magic of Shenandoah can’t be experienced from behind a windshield… The real magic of Shenandoah is waiting to be discovered in the backcountry on the hundreds of miles of trails and old roads found within the park’s boundaries. \nOur Guided Hikes range from 2 to six hours (you choose) and the destinations can range from windswept mountaintops to spectacular waterfalls\, from wildflower-filled meadows\, to traces of old mountain communities. \n \nFlora\, fauna\, geology and history.. Shenandoah in all of her glory! \nAll hikes are led by our founder and noted outdoor/wilderness educator\, Andy Nichols. Andy is a native son\, who has worked around the world. An EMT (wilderness)\, a passionate teacher and park steward\, he is both insured and permitted to guide and teach in Shenandoah. \n  \nDiscover the magic!
URL:https://teamlinkinc.com/event/guided-hiking/2026-05-31/
CATEGORIES:Hiking
END:VEVENT
END:VCALENDAR