BEGIN:VCALENDAR
VERSION:2.0
PRODID:-//Teamlink and Shenandoah Mountain Guides - ECPv6.15.13.1//NONSGML v1.0//EN
CALSCALE:GREGORIAN
METHOD:PUBLISH
X-WR-CALNAME:Teamlink and Shenandoah Mountain Guides
X-ORIGINAL-URL:https://teamlinkinc.com
X-WR-CALDESC:Events for Teamlink and Shenandoah Mountain Guides
REFRESH-INTERVAL;VALUE=DURATION:PT1H
X-Robots-Tag:noindex
X-PUBLISHED-TTL:PT1H
BEGIN:VTIMEZONE
TZID:UTC
BEGIN:STANDARD
TZOFFSETFROM:+0000
TZOFFSETTO:+0000
TZNAME:UTC
DTSTART:20250101T000000
END:STANDARD
END:VTIMEZONE
BEGIN:VEVENT
DTSTART;TZID=UTC:20260501T090000
DTEND;TZID=UTC:20260501T153000
DTSTAMP:20260423T133452
CREATED:20170406T011944Z
LAST-MODIFIED:20260422T005312Z
UID:14311-1777626000-1777649400@teamlinkinc.com
SUMMARY:Map and Compass (Land Navigation)
DESCRIPTION:Learn about land navigation in the absence of technology. Magnetic Compass\, topographic map.. even the Sun! Learn how to find out: Where you are; Where you are going; and\, How you are going to get there. This is a full day course\, taught outdoors\, in the mountains! All needed equipment is provided. Never feel helplessly lost again! \nNavigation in the absence of technology is a thousands of years old skill…. But it’s not rocket science. Too many navigation courses become needlessly complex and overly complicated… and leave students more frustrated than empowered… and that is definitely not fun! \nSee why our class draws students from all over the country.\nIt’s simple\, it’s effective\, it’s fun! \n  \nTaught in the mountains of Virginia’s Shenandoah National Park National Park\, and Maryland’s Catoctin Mountains\, the scenery just adds to the magic! \nMaryland dates: \nMarch 6\, April 3\, May 1\, August 7\, September 4\, October 2\, November 6 \n*This class can be offered anytime during the year and in many locations. It is not restricted to just the dates shown. Contact us to schedule your custom class. \n 
URL:https://teamlinkinc.com/event/map-compass-land-navigation/2026-05-01/
LOCATION:Various
CATEGORIES:Outdoor skill classes
ORGANIZER;CN="Shenandoah Mountain Guides":MAILTO:mtnjedi@gmail.com
END:VEVENT
BEGIN:VEVENT
DTSTART;TZID=UTC:20260508T090000
DTEND;TZID=UTC:20260508T153000
DTSTAMP:20260423T133452
CREATED:20170406T020046Z
LAST-MODIFIED:20260422T005441Z
UID:14327-1778230800-1778254200@teamlinkinc.com
SUMMARY:Intro to Outdoor Survival/Basic Skills
DESCRIPTION:When everything goes wrong\, learn to not just survive\, but to thrive! \nIf you are interested in preparing for the worst\, this is a great place to start! \nHighly experiential.. learn the skills to survive! Build your own survival kit.. This is fieldcraft and outdoor knowledge and wisdom at the next level.. learn about water acquisition\, shelter\, signalling\, fire building\, navigation and so much more.The first half is class the second half is in the field.\nNo one who enjoys the outdoors should be without this class! \nThis was developed by Teamlink for the Discovery Channel in support of their Bear Grylls series… \n(Classes are offered in Shenandoah National Park\, Virginia and the Catoctin Mountains of Maryland) \nMaryland dates: \nMarch 27\, April 24\, May 22\, June 26\, August 28\, September 25\, October 23 \n*This class can be scheduled upon demand. It is not restricted to the dates indicated
URL:https://teamlinkinc.com/event/introduction-to-survival/2026-05-08/
LOCATION:Various
CATEGORIES:Outdoor skill classes
ORGANIZER;CN="Shenandoah Mountain Guides":MAILTO:mtnjedi@gmail.com
END:VEVENT
BEGIN:VEVENT
DTSTART;TZID=UTC:20260515T090000
DTEND;TZID=UTC:20260515T153000
DTSTAMP:20260423T133452
CREATED:20170406T011944Z
LAST-MODIFIED:20260422T005313Z
UID:26543-1778835600-1778859000@teamlinkinc.com
SUMMARY:Map and Compass (Land Navigation)
DESCRIPTION:Learn about land navigation in the absence of technology. Magnetic Compass\, topographic map.. even the Sun! Learn how to find out: Where you are; Where you are going; and\, How you are going to get there. This is a full day course\, taught outdoors\, in the mountains! All needed equipment is provided. Never feel helplessly lost again! \nNavigation in the absence of technology is a thousands of years old skill…. But it’s not rocket science. Too many navigation courses become needlessly complex and overly complicated… and leave students more frustrated than empowered… and that is definitely not fun! \nSee why our class draws students from all over the country.\nIt’s simple\, it’s effective\, it’s fun! \n  \nTaught in the mountains of Virginia’s Shenandoah National Park National Park\, and Maryland’s Catoctin Mountains\, the scenery just adds to the magic! \nMaryland dates: \nMarch 6\, April 3\, May 1\, August 7\, September 4\, October 2\, November 6 \n*This class can be offered anytime during the year and in many locations. It is not restricted to just the dates shown. Contact us to schedule your custom class. \n 
URL:https://teamlinkinc.com/event/map-compass-land-navigation/2026-05-15/
LOCATION:Various
CATEGORIES:Outdoor skill classes
ORGANIZER;CN="Shenandoah Mountain Guides":MAILTO:mtnjedi@gmail.com
END:VEVENT
BEGIN:VEVENT
DTSTART;TZID=UTC:20260522T090000
DTEND;TZID=UTC:20260522T153000
DTSTAMP:20260423T133452
CREATED:20170406T020046Z
LAST-MODIFIED:20260422T005442Z
UID:26450-1779440400-1779463800@teamlinkinc.com
SUMMARY:Intro to Outdoor Survival/Basic Skills
DESCRIPTION:When everything goes wrong\, learn to not just survive\, but to thrive! \nIf you are interested in preparing for the worst\, this is a great place to start! \nHighly experiential.. learn the skills to survive! Build your own survival kit.. This is fieldcraft and outdoor knowledge and wisdom at the next level.. learn about water acquisition\, shelter\, signalling\, fire building\, navigation and so much more.The first half is class the second half is in the field.\nNo one who enjoys the outdoors should be without this class! \nThis was developed by Teamlink for the Discovery Channel in support of their Bear Grylls series… \n(Classes are offered in Shenandoah National Park\, Virginia and the Catoctin Mountains of Maryland) \nMaryland dates: \nMarch 27\, April 24\, May 22\, June 26\, August 28\, September 25\, October 23 \n*This class can be scheduled upon demand. It is not restricted to the dates indicated
URL:https://teamlinkinc.com/event/introduction-to-survival/2026-05-22/
LOCATION:Various
CATEGORIES:Outdoor skill classes
ORGANIZER;CN="Shenandoah Mountain Guides":MAILTO:mtnjedi@gmail.com
END:VEVENT
END:VCALENDAR