BEGIN:VCALENDAR
VERSION:2.0
PRODID:-//Teamlink and Shenandoah Mountain Guides - ECPv6.15.13.1//NONSGML v1.0//EN
CALSCALE:GREGORIAN
METHOD:PUBLISH
X-WR-CALNAME:Teamlink and Shenandoah Mountain Guides
X-ORIGINAL-URL:https://teamlinkinc.com
X-WR-CALDESC:Events for Teamlink and Shenandoah Mountain Guides
REFRESH-INTERVAL;VALUE=DURATION:PT1H
X-Robots-Tag:noindex
X-PUBLISHED-TTL:PT1H
BEGIN:VTIMEZONE
TZID:America/New_York
BEGIN:DAYLIGHT
TZOFFSETFROM:-0500
TZOFFSETTO:-0400
TZNAME:EDT
DTSTART:20250309T070000
END:DAYLIGHT
BEGIN:STANDARD
TZOFFSETFROM:-0400
TZOFFSETTO:-0500
TZNAME:EST
DTSTART:20251102T060000
END:STANDARD
BEGIN:DAYLIGHT
TZOFFSETFROM:-0500
TZOFFSETTO:-0400
TZNAME:EDT
DTSTART:20260308T070000
END:DAYLIGHT
BEGIN:STANDARD
TZOFFSETFROM:-0400
TZOFFSETTO:-0500
TZNAME:EST
DTSTART:20261101T060000
END:STANDARD
BEGIN:DAYLIGHT
TZOFFSETFROM:-0500
TZOFFSETTO:-0400
TZNAME:EDT
DTSTART:20270314T070000
END:DAYLIGHT
BEGIN:STANDARD
TZOFFSETFROM:-0400
TZOFFSETTO:-0500
TZNAME:EST
DTSTART:20271107T060000
END:STANDARD
END:VTIMEZONE
BEGIN:VEVENT
DTSTART;TZID=America/New_York:20260613T090000
DTEND;TZID=America/New_York:20260613T153000
DTSTAMP:20260423T164856
CREATED:20240124T190439Z
LAST-MODIFIED:20260412T213208Z
UID:25448-1781341200-1781364600@teamlinkinc.com
SUMMARY:Rappelling
DESCRIPTION:Experience the thrill of accessing places in the vertical realm! \n \n  \n  \nLearn the techniques to harness gravity to explore cliffs\, canyons and structures. Rappelling is a skill used for recreation\, work and rescue \nEquipment\, self rescue\, safety\, knots\, anchors and so much more are covered in this comprehensive introduction. \nAll necessary equipment his provided for this class. \n 
URL:https://teamlinkinc.com/event/rappelling/2026-06-13/
CATEGORIES:Outdoor skills
END:VEVENT
END:VCALENDAR