BEGIN:VCALENDAR
VERSION:2.0
PRODID:-//Teamlink and Shenandoah Mountain Guides - ECPv6.15.13.1//NONSGML v1.0//EN
CALSCALE:GREGORIAN
METHOD:PUBLISH
X-ORIGINAL-URL:https://teamlinkinc.com
X-WR-CALDESC:Events for Teamlink and Shenandoah Mountain Guides
REFRESH-INTERVAL;VALUE=DURATION:PT1H
X-Robots-Tag:noindex
X-PUBLISHED-TTL:PT1H
BEGIN:VTIMEZONE
TZID:America/New_York
BEGIN:DAYLIGHT
TZOFFSETFROM:-0500
TZOFFSETTO:-0400
TZNAME:EDT
DTSTART:20200308T070000
END:DAYLIGHT
BEGIN:STANDARD
TZOFFSETFROM:-0400
TZOFFSETTO:-0500
TZNAME:EST
DTSTART:20201101T060000
END:STANDARD
BEGIN:DAYLIGHT
TZOFFSETFROM:-0500
TZOFFSETTO:-0400
TZNAME:EDT
DTSTART:20210314T070000
END:DAYLIGHT
BEGIN:STANDARD
TZOFFSETFROM:-0400
TZOFFSETTO:-0500
TZNAME:EST
DTSTART:20211107T060000
END:STANDARD
BEGIN:DAYLIGHT
TZOFFSETFROM:-0500
TZOFFSETTO:-0400
TZNAME:EDT
DTSTART:20220313T070000
END:DAYLIGHT
BEGIN:STANDARD
TZOFFSETFROM:-0400
TZOFFSETTO:-0500
TZNAME:EST
DTSTART:20221106T060000
END:STANDARD
END:VTIMEZONE
BEGIN:VTIMEZONE
TZID:UTC
BEGIN:STANDARD
TZOFFSETFROM:+0000
TZOFFSETTO:+0000
TZNAME:UTC
DTSTART:20170101T000000
END:STANDARD
END:VTIMEZONE
BEGIN:VEVENT
DTSTART;TZID=America/New_York:20210307T123000
DTEND;TZID=America/New_York:20210307T163000
DTSTAMP:20260423T133635
CREATED:20201119T172648Z
LAST-MODIFIED:20210208T164459Z
UID:17594-1615120200-1615134600@teamlinkinc.com
SUMMARY:Climbing Clinic
DESCRIPTION:TOP ROPE BASICS\nThese fun afternoon mini-sessions are great ways to learn new skills and to practice your existing skills!\nThese are highly approachable events\, oriented towards the beginner to intermediate climber\, or those transitioning from gym climbing to outdoor climbing.. fun for families and friends alike!\n-Natural anchors\n-Artificial Anchors\n-Knots\n-Belaying…\n-…. and of course\, CLIMBING\n 
URL:https://teamlinkinc.com/event/climbing-clinic/2021-03-07/
CATEGORIES:Rock Climbing
END:VEVENT
BEGIN:VEVENT
DTSTART;TZID=UTC:20201008T090000
DTEND;TZID=UTC:20201008T153000
DTSTAMP:20260423T133635
CREATED:20170402T031224Z
LAST-MODIFIED:20200922T113042Z
UID:17345-1602147600-1602171000@teamlinkinc.com
SUMMARY:Rock Climbing
DESCRIPTION:  \n \nGet that “aired-out” feeling\, while climbing almost 3000’ above the Shenandoah Valley floor*. This is an unforgettable experience that will make your trip to Shenandoah National Park complete*… a full day of adventure for both young and young at heart. All necessary gear is provided. Advance registration is required. This is an introductory thru intermediate level climbing program. \n \nThe climbing programs are not extraordinarily physically demanding (for a person of average fitness)\, but they can be psychologically challenging.\nAll participants should bring a camera for this exciting day!\n*For convenience\, we have permits for guiding at climbing sites throughout the four state (PA\, MD\, VA and WV) region. \n 
URL:https://teamlinkinc.com/event/rock-climbing-2020-06-09-2020-10-08/
LOCATION:Shenandoah National Park
CATEGORIES:Rock Climbing
ORGANIZER;CN="Shenandoah Mountain Guides":MAILTO:mtnjedi@gmail.com
END:VEVENT
BEGIN:VEVENT
DTSTART;TZID=UTC:20200425T090000
DTEND;TZID=UTC:20200425T153000
DTSTAMP:20260423T133635
CREATED:20170402T031224Z
LAST-MODIFIED:20200130T153748Z
UID:16455-1587805200-1587828600@teamlinkinc.com
SUMMARY:Rock Climbing
DESCRIPTION:  \n \nGet that “aired-out” feeling\, while climbing almost 3000’ above the Shenandoah Valley floor*. This is an unforgettable experience that will make your trip to Shenandoah National Park complete*… a full day of adventure for both young and young at heart. All necessary gear is provided. Advance registration is required. This is an introductory thru intermediate level climbing program. \n \nThe climbing programs are not extraordinarily physically demanding (for a person of average fitness)\, but they can be psychologically challenging.\nAll participants should bring a camera for this exciting day!\n*For convenience\, we have permits for guiding at climbing sites throughout the four state (PA\, MD\, VA and WV) region. \n 
URL:https://teamlinkinc.com/event/rock-climbing-2020-04-25/
LOCATION:Shenandoah National Park
CATEGORIES:Rock Climbing
ORGANIZER;CN="Shenandoah Mountain Guides":MAILTO:mtnjedi@gmail.com
END:VEVENT
BEGIN:VEVENT
DTSTART;TZID=UTC:20180506T123000
DTEND;TZID=UTC:20180506T170000
DTSTAMP:20260423T133635
CREATED:20170401T020512Z
LAST-MODIFIED:20180412T193853Z
UID:13582-1525609800-1525626000@teamlinkinc.com
SUMMARY:Introduction to Rock Climbing
DESCRIPTION:An afternoon of fun for the entire family! Learn the basic of anchors\, belaying and climbing… a fantastic family activity! \nMinimum age is 5 years old. Any youth under the age of 16 must be accompanied by a parent. All gear is provided. \n 
URL:https://teamlinkinc.com/event/introduction-rock-climbing/2018-05-06/
LOCATION:Frederick Watershed\, Mountaindale Rd\, Thurmont\, MD\, United States
CATEGORIES:Rock Climbing
ORGANIZER;CN="Shenandoah Mountain Guides":MAILTO:mtnjedi@gmail.com
GEO:39.5255079;-77.4589989
X-APPLE-STRUCTURED-LOCATION;VALUE=URI;X-ADDRESS=Frederick Watershed Mountaindale Rd Thurmont MD United States;X-APPLE-RADIUS=500;X-TITLE=Mountaindale Rd:geo:-77.4589989,39.5255079
END:VEVENT
END:VCALENDAR