BEGIN:VCALENDAR
VERSION:2.0
PRODID:-//Teamlink and Shenandoah Mountain Guides - ECPv6.15.13.1//NONSGML v1.0//EN
CALSCALE:GREGORIAN
METHOD:PUBLISH
X-ORIGINAL-URL:https://teamlinkinc.com
X-WR-CALDESC:Events for Teamlink and Shenandoah Mountain Guides
REFRESH-INTERVAL;VALUE=DURATION:PT1H
X-Robots-Tag:noindex
X-PUBLISHED-TTL:PT1H
BEGIN:VTIMEZONE
TZID:UTC
BEGIN:STANDARD
TZOFFSETFROM:+0000
TZOFFSETTO:+0000
TZNAME:UTC
DTSTART:20250101T000000
END:STANDARD
END:VTIMEZONE
BEGIN:VEVENT
DTSTART;TZID=UTC:20260427T090000
DTEND;TZID=UTC:20260427T150000
DTSTAMP:20260423T133741
CREATED:20170402T031224Z
LAST-MODIFIED:20260422T004734Z
UID:16903-1777280400-1777302000@teamlinkinc.com
SUMMARY:Rock Climbing
DESCRIPTION:Get that “aired-out” feeling\, while climbing almost 3000’ above the Shenandoah Valley floor*. This is an unforgettable experience that will make your trip to Shenandoah National Park complete*… a full day of adventure for both young and young at heart. All necessary gear is provided. Advance registration isrequired. This is an introductory thru intermediate level climbing program. \n \nThe climbing programs are not extraordinarily physically demanding (for a person of average fitness)\, but they can be psychologically challenging.\nAll participants should bring a camera for this exciting day!\n*For convenience\, we have permits for guiding at climbing sites throughout the four state (PA\, MD\, VA and WV) region. \nAll climbing days are led by Andy Nichols\, one of the top outdoor adventure educators in the country. Andy has been recognized as an “Outdoor Legend” by “Blue Ridge Outdoors” magazine\, and has been featured in magazines including National Geographic Adventure and Southern Living. His students range from Tier 1 operators to Scouts\, from corporate executives to family vacationers\, from NPS Search and Rescue teams to foreign embassy staff. His more than 50 years of experience will guarantee that you will have an amazing time! \n**If you have a day in mind for a climbing adventure\, and it is not shown on the calendar\, with sufficient advance planning we can probably arrange it. \nCall us at 301.667.3560 or email mtnjedi@gmail for more information \n 
URL:https://teamlinkinc.com/event/rock-climbing-2020-06-09/2026-04-27/
LOCATION:Shenandoah National Park
CATEGORIES:Rock Climbing
ORGANIZER;CN="Shenandoah Mountain Guides":MAILTO:mtnjedi@gmail.com
END:VEVENT
BEGIN:VEVENT
DTSTART;TZID=UTC:20260428T090000
DTEND;TZID=UTC:20260428T150000
DTSTAMP:20260423T133741
CREATED:20170402T031224Z
LAST-MODIFIED:20260422T004735Z
UID:25526-1777366800-1777388400@teamlinkinc.com
SUMMARY:Rock Climbing
DESCRIPTION:Get that “aired-out” feeling\, while climbing almost 3000’ above the Shenandoah Valley floor*. This is an unforgettable experience that will make your trip to Shenandoah National Park complete*… a full day of adventure for both young and young at heart. All necessary gear is provided. Advance registration isrequired. This is an introductory thru intermediate level climbing program. \n \nThe climbing programs are not extraordinarily physically demanding (for a person of average fitness)\, but they can be psychologically challenging.\nAll participants should bring a camera for this exciting day!\n*For convenience\, we have permits for guiding at climbing sites throughout the four state (PA\, MD\, VA and WV) region. \nAll climbing days are led by Andy Nichols\, one of the top outdoor adventure educators in the country. Andy has been recognized as an “Outdoor Legend” by “Blue Ridge Outdoors” magazine\, and has been featured in magazines including National Geographic Adventure and Southern Living. His students range from Tier 1 operators to Scouts\, from corporate executives to family vacationers\, from NPS Search and Rescue teams to foreign embassy staff. His more than 50 years of experience will guarantee that you will have an amazing time! \n**If you have a day in mind for a climbing adventure\, and it is not shown on the calendar\, with sufficient advance planning we can probably arrange it. \nCall us at 301.667.3560 or email mtnjedi@gmail for more information \n 
URL:https://teamlinkinc.com/event/rock-climbing-2020-06-09/2026-04-28/
LOCATION:Shenandoah National Park
CATEGORIES:Rock Climbing
ORGANIZER;CN="Shenandoah Mountain Guides":MAILTO:mtnjedi@gmail.com
END:VEVENT
BEGIN:VEVENT
DTSTART;TZID=UTC:20260430T090000
DTEND;TZID=UTC:20260430T150000
DTSTAMP:20260423T133741
CREATED:20170402T031224Z
LAST-MODIFIED:20260422T004735Z
UID:25528-1777539600-1777561200@teamlinkinc.com
SUMMARY:Rock Climbing
DESCRIPTION:Get that “aired-out” feeling\, while climbing almost 3000’ above the Shenandoah Valley floor*. This is an unforgettable experience that will make your trip to Shenandoah National Park complete*… a full day of adventure for both young and young at heart. All necessary gear is provided. Advance registration isrequired. This is an introductory thru intermediate level climbing program. \n \nThe climbing programs are not extraordinarily physically demanding (for a person of average fitness)\, but they can be psychologically challenging.\nAll participants should bring a camera for this exciting day!\n*For convenience\, we have permits for guiding at climbing sites throughout the four state (PA\, MD\, VA and WV) region. \nAll climbing days are led by Andy Nichols\, one of the top outdoor adventure educators in the country. Andy has been recognized as an “Outdoor Legend” by “Blue Ridge Outdoors” magazine\, and has been featured in magazines including National Geographic Adventure and Southern Living. His students range from Tier 1 operators to Scouts\, from corporate executives to family vacationers\, from NPS Search and Rescue teams to foreign embassy staff. His more than 50 years of experience will guarantee that you will have an amazing time! \n**If you have a day in mind for a climbing adventure\, and it is not shown on the calendar\, with sufficient advance planning we can probably arrange it. \nCall us at 301.667.3560 or email mtnjedi@gmail for more information \n 
URL:https://teamlinkinc.com/event/rock-climbing-2020-06-09/2026-04-30/
LOCATION:Shenandoah National Park
CATEGORIES:Rock Climbing
ORGANIZER;CN="Shenandoah Mountain Guides":MAILTO:mtnjedi@gmail.com
END:VEVENT
BEGIN:VEVENT
DTSTART;TZID=UTC:20260502T090000
DTEND;TZID=UTC:20260502T150000
DTSTAMP:20260423T133741
CREATED:20170402T031224Z
LAST-MODIFIED:20260422T004735Z
UID:25529-1777712400-1777734000@teamlinkinc.com
SUMMARY:Rock Climbing
DESCRIPTION:Get that “aired-out” feeling\, while climbing almost 3000’ above the Shenandoah Valley floor*. This is an unforgettable experience that will make your trip to Shenandoah National Park complete*… a full day of adventure for both young and young at heart. All necessary gear is provided. Advance registration isrequired. This is an introductory thru intermediate level climbing program. \n \nThe climbing programs are not extraordinarily physically demanding (for a person of average fitness)\, but they can be psychologically challenging.\nAll participants should bring a camera for this exciting day!\n*For convenience\, we have permits for guiding at climbing sites throughout the four state (PA\, MD\, VA and WV) region. \nAll climbing days are led by Andy Nichols\, one of the top outdoor adventure educators in the country. Andy has been recognized as an “Outdoor Legend” by “Blue Ridge Outdoors” magazine\, and has been featured in magazines including National Geographic Adventure and Southern Living. His students range from Tier 1 operators to Scouts\, from corporate executives to family vacationers\, from NPS Search and Rescue teams to foreign embassy staff. His more than 50 years of experience will guarantee that you will have an amazing time! \n**If you have a day in mind for a climbing adventure\, and it is not shown on the calendar\, with sufficient advance planning we can probably arrange it. \nCall us at 301.667.3560 or email mtnjedi@gmail for more information \n 
URL:https://teamlinkinc.com/event/rock-climbing-2020-06-09/2026-05-02/
LOCATION:Shenandoah National Park
CATEGORIES:Rock Climbing
ORGANIZER;CN="Shenandoah Mountain Guides":MAILTO:mtnjedi@gmail.com
END:VEVENT
END:VCALENDAR