BEGIN:VCALENDAR
VERSION:2.0
PRODID:-//Teamlink and Shenandoah Mountain Guides - ECPv6.15.13.1//NONSGML v1.0//EN
CALSCALE:GREGORIAN
METHOD:PUBLISH
X-WR-CALNAME:Teamlink and Shenandoah Mountain Guides
X-ORIGINAL-URL:https://teamlinkinc.com
X-WR-CALDESC:Events for Teamlink and Shenandoah Mountain Guides
REFRESH-INTERVAL;VALUE=DURATION:PT1H
X-Robots-Tag:noindex
X-PUBLISHED-TTL:PT1H
BEGIN:VTIMEZONE
TZID:America/New_York
BEGIN:DAYLIGHT
TZOFFSETFROM:-0500
TZOFFSETTO:-0400
TZNAME:EDT
DTSTART:20190310T070000
END:DAYLIGHT
BEGIN:STANDARD
TZOFFSETFROM:-0400
TZOFFSETTO:-0500
TZNAME:EST
DTSTART:20191103T060000
END:STANDARD
BEGIN:DAYLIGHT
TZOFFSETFROM:-0500
TZOFFSETTO:-0400
TZNAME:EDT
DTSTART:20200308T070000
END:DAYLIGHT
BEGIN:STANDARD
TZOFFSETFROM:-0400
TZOFFSETTO:-0500
TZNAME:EST
DTSTART:20201101T060000
END:STANDARD
BEGIN:DAYLIGHT
TZOFFSETFROM:-0500
TZOFFSETTO:-0400
TZNAME:EDT
DTSTART:20210314T070000
END:DAYLIGHT
BEGIN:STANDARD
TZOFFSETFROM:-0400
TZOFFSETTO:-0500
TZNAME:EST
DTSTART:20211107T060000
END:STANDARD
BEGIN:DAYLIGHT
TZOFFSETFROM:-0500
TZOFFSETTO:-0400
TZNAME:EDT
DTSTART:20220313T070000
END:DAYLIGHT
BEGIN:STANDARD
TZOFFSETFROM:-0400
TZOFFSETTO:-0500
TZNAME:EST
DTSTART:20221106T060000
END:STANDARD
BEGIN:DAYLIGHT
TZOFFSETFROM:-0500
TZOFFSETTO:-0400
TZNAME:EDT
DTSTART:20230312T070000
END:DAYLIGHT
BEGIN:STANDARD
TZOFFSETFROM:-0400
TZOFFSETTO:-0500
TZNAME:EST
DTSTART:20231105T060000
END:STANDARD
BEGIN:DAYLIGHT
TZOFFSETFROM:-0500
TZOFFSETTO:-0400
TZNAME:EDT
DTSTART:20240310T070000
END:DAYLIGHT
BEGIN:STANDARD
TZOFFSETFROM:-0400
TZOFFSETTO:-0500
TZNAME:EST
DTSTART:20241103T060000
END:STANDARD
BEGIN:DAYLIGHT
TZOFFSETFROM:-0500
TZOFFSETTO:-0400
TZNAME:EDT
DTSTART:20250309T070000
END:DAYLIGHT
BEGIN:STANDARD
TZOFFSETFROM:-0400
TZOFFSETTO:-0500
TZNAME:EST
DTSTART:20251102T060000
END:STANDARD
BEGIN:DAYLIGHT
TZOFFSETFROM:-0500
TZOFFSETTO:-0400
TZNAME:EDT
DTSTART:20260308T070000
END:DAYLIGHT
BEGIN:STANDARD
TZOFFSETFROM:-0400
TZOFFSETTO:-0500
TZNAME:EST
DTSTART:20261101T060000
END:STANDARD
END:VTIMEZONE
BEGIN:VTIMEZONE
TZID:UTC
BEGIN:STANDARD
TZOFFSETFROM:+0000
TZOFFSETTO:+0000
TZNAME:UTC
DTSTART:20190101T000000
END:STANDARD
END:VTIMEZONE
BEGIN:VEVENT
DTSTART;TZID=America/New_York:20251001T080000
DTEND;TZID=America/New_York:20251001T170000
DTSTAMP:20260423T195452
CREATED:20210627T165240Z
LAST-MODIFIED:20250415T182347Z
UID:24030-1759305600-1759338000@teamlinkinc.com
SUMMARY:*more scheduling and registration info*
DESCRIPTION:*** SCHEDULE\, AVAILABILITY and REGISTRATION INFORMATION*** \nIf there is a class or adventure that you do not see listed\, or you would like to arrange a group or private activity\, or\, you are curious about our schedule and availability\, OR you are having trouble with registration\, please call or text us at 301.667.3560… or email mtnjedi@gmail.com
URL:https://teamlinkinc.com/event/more-info-on-schedule-availability-301-667-3560/2025-10-01/
END:VEVENT
BEGIN:VEVENT
DTSTART;TZID=America/New_York:20250901T080000
DTEND;TZID=America/New_York:20250901T170000
DTSTAMP:20260423T195452
CREATED:20210627T165240Z
LAST-MODIFIED:20250415T182345Z
UID:24029-1756713600-1756746000@teamlinkinc.com
SUMMARY:*more scheduling and registration info*
DESCRIPTION:*** SCHEDULE\, AVAILABILITY and REGISTRATION INFORMATION*** \nIf there is a class or adventure that you do not see listed\, or you would like to arrange a group or private activity\, or\, you are curious about our schedule and availability\, OR you are having trouble with registration\, please call or text us at 301.667.3560… or email mtnjedi@gmail.com
URL:https://teamlinkinc.com/event/more-info-on-schedule-availability-301-667-3560/2025-09-01/
END:VEVENT
BEGIN:VEVENT
DTSTART;TZID=America/New_York:20250801T080000
DTEND;TZID=America/New_York:20250801T170000
DTSTAMP:20260423T195452
CREATED:20210627T165240Z
LAST-MODIFIED:20250415T182343Z
UID:24028-1754035200-1754067600@teamlinkinc.com
SUMMARY:*more scheduling and registration info*
DESCRIPTION:*** SCHEDULE\, AVAILABILITY and REGISTRATION INFORMATION*** \nIf there is a class or adventure that you do not see listed\, or you would like to arrange a group or private activity\, or\, you are curious about our schedule and availability\, OR you are having trouble with registration\, please call or text us at 301.667.3560… or email mtnjedi@gmail.com
URL:https://teamlinkinc.com/event/more-info-on-schedule-availability-301-667-3560/2025-08-01/
END:VEVENT
BEGIN:VEVENT
DTSTART;TZID=America/New_York:20250726T080000
DTEND;TZID=America/New_York:20250726T170000
DTSTAMP:20260423T195452
CREATED:20250710T105415Z
LAST-MODIFIED:20250712T141201Z
UID:24531-1753516800-1753549200@teamlinkinc.com
SUMMARY:Special
DESCRIPTION:Private event
URL:https://teamlinkinc.com/event/special/
END:VEVENT
BEGIN:VEVENT
DTSTART;TZID=America/New_York:20250701T080000
DTEND;TZID=America/New_York:20250701T170000
DTSTAMP:20260423T195452
CREATED:20210627T165240Z
LAST-MODIFIED:20250415T182342Z
UID:24027-1751356800-1751389200@teamlinkinc.com
SUMMARY:*more scheduling and registration info*
DESCRIPTION:*** SCHEDULE\, AVAILABILITY and REGISTRATION INFORMATION*** \nIf there is a class or adventure that you do not see listed\, or you would like to arrange a group or private activity\, or\, you are curious about our schedule and availability\, OR you are having trouble with registration\, please call or text us at 301.667.3560… or email mtnjedi@gmail.com
URL:https://teamlinkinc.com/event/more-info-on-schedule-availability-301-667-3560/2025-07-01/
END:VEVENT
BEGIN:VEVENT
DTSTART;TZID=America/New_York:20250601T080000
DTEND;TZID=America/New_York:20250601T170000
DTSTAMP:20260423T195452
CREATED:20210627T165240Z
LAST-MODIFIED:20250415T182341Z
UID:24026-1748764800-1748797200@teamlinkinc.com
SUMMARY:*more scheduling and registration info*
DESCRIPTION:*** SCHEDULE\, AVAILABILITY and REGISTRATION INFORMATION*** \nIf there is a class or adventure that you do not see listed\, or you would like to arrange a group or private activity\, or\, you are curious about our schedule and availability\, OR you are having trouble with registration\, please call or text us at 301.667.3560… or email mtnjedi@gmail.com
URL:https://teamlinkinc.com/event/more-info-on-schedule-availability-301-667-3560/2025-06-01/
END:VEVENT
BEGIN:VEVENT
DTSTART;TZID=America/New_York:20250501T080000
DTEND;TZID=America/New_York:20250501T170000
DTSTAMP:20260423T195452
CREATED:20210627T165240Z
LAST-MODIFIED:20250415T182339Z
UID:24025-1746086400-1746118800@teamlinkinc.com
SUMMARY:*more scheduling and registration info*
DESCRIPTION:*** SCHEDULE\, AVAILABILITY and REGISTRATION INFORMATION*** \nIf there is a class or adventure that you do not see listed\, or you would like to arrange a group or private activity\, or\, you are curious about our schedule and availability\, OR you are having trouble with registration\, please call or text us at 301.667.3560… or email mtnjedi@gmail.com
URL:https://teamlinkinc.com/event/more-info-on-schedule-availability-301-667-3560/2025-05-01/
END:VEVENT
BEGIN:VEVENT
DTSTART;TZID=America/New_York:20250401T080000
DTEND;TZID=America/New_York:20250401T170000
DTSTAMP:20260423T195452
CREATED:20210627T165240Z
LAST-MODIFIED:20250415T182337Z
UID:24024-1743494400-1743526800@teamlinkinc.com
SUMMARY:*more scheduling and registration info*
DESCRIPTION:*** SCHEDULE\, AVAILABILITY and REGISTRATION INFORMATION*** \nIf there is a class or adventure that you do not see listed\, or you would like to arrange a group or private activity\, or\, you are curious about our schedule and availability\, OR you are having trouble with registration\, please call or text us at 301.667.3560… or email mtnjedi@gmail.com
URL:https://teamlinkinc.com/event/more-info-on-schedule-availability-301-667-3560/2025-04-01/
END:VEVENT
BEGIN:VEVENT
DTSTART;TZID=America/New_York:20250301T080000
DTEND;TZID=America/New_York:20250301T170000
DTSTAMP:20260423T195452
CREATED:20210627T165240Z
LAST-MODIFIED:20250415T182334Z
UID:24023-1740816000-1740848400@teamlinkinc.com
SUMMARY:*more scheduling and registration info*
DESCRIPTION:*** SCHEDULE\, AVAILABILITY and REGISTRATION INFORMATION*** \nIf there is a class or adventure that you do not see listed\, or you would like to arrange a group or private activity\, or\, you are curious about our schedule and availability\, OR you are having trouble with registration\, please call or text us at 301.667.3560… or email mtnjedi@gmail.com
URL:https://teamlinkinc.com/event/more-info-on-schedule-availability-301-667-3560/2025-03-01/
END:VEVENT
BEGIN:VEVENT
DTSTART;TZID=America/New_York:20250201T080000
DTEND;TZID=America/New_York:20250201T170000
DTSTAMP:20260423T195452
CREATED:20210627T165240Z
LAST-MODIFIED:20250415T182332Z
UID:24022-1738396800-1738429200@teamlinkinc.com
SUMMARY:*more scheduling and registration info*
DESCRIPTION:*** SCHEDULE\, AVAILABILITY and REGISTRATION INFORMATION*** \nIf there is a class or adventure that you do not see listed\, or you would like to arrange a group or private activity\, or\, you are curious about our schedule and availability\, OR you are having trouble with registration\, please call or text us at 301.667.3560… or email mtnjedi@gmail.com
URL:https://teamlinkinc.com/event/more-info-on-schedule-availability-301-667-3560/2025-02-01/
END:VEVENT
BEGIN:VEVENT
DTSTART;TZID=America/New_York:20250101T080000
DTEND;TZID=America/New_York:20250101T170000
DTSTAMP:20260423T195452
CREATED:20210627T165240Z
LAST-MODIFIED:20250415T182331Z
UID:24021-1735718400-1735750800@teamlinkinc.com
SUMMARY:*more scheduling and registration info*
DESCRIPTION:*** SCHEDULE\, AVAILABILITY and REGISTRATION INFORMATION*** \nIf there is a class or adventure that you do not see listed\, or you would like to arrange a group or private activity\, or\, you are curious about our schedule and availability\, OR you are having trouble with registration\, please call or text us at 301.667.3560… or email mtnjedi@gmail.com
URL:https://teamlinkinc.com/event/more-info-on-schedule-availability-301-667-3560/2025-01-01/
END:VEVENT
BEGIN:VEVENT
DTSTART;TZID=America/New_York:20241201T080000
DTEND;TZID=America/New_York:20241201T170000
DTSTAMP:20260423T195452
CREATED:20210627T165240Z
LAST-MODIFIED:20250415T182325Z
UID:21470-1733040000-1733072400@teamlinkinc.com
SUMMARY:*more scheduling and registration info*
DESCRIPTION:*** SCHEDULE\, AVAILABILITY and REGISTRATION INFORMATION*** \nIf there is a class or adventure that you do not see listed\, or you would like to arrange a group or private activity\, or\, you are curious about our schedule and availability\, OR you are having trouble with registration\, please call or text us at 301.667.3560… or email mtnjedi@gmail.com
URL:https://teamlinkinc.com/event/more-info-on-schedule-availability-301-667-3560/2024-12-01/
END:VEVENT
BEGIN:VEVENT
DTSTART;TZID=America/New_York:20241101T080000
DTEND;TZID=America/New_York:20241101T170000
DTSTAMP:20260423T195452
CREATED:20210627T165240Z
LAST-MODIFIED:20250415T182322Z
UID:21469-1730448000-1730480400@teamlinkinc.com
SUMMARY:*more scheduling and registration info*
DESCRIPTION:*** SCHEDULE\, AVAILABILITY and REGISTRATION INFORMATION*** \nIf there is a class or adventure that you do not see listed\, or you would like to arrange a group or private activity\, or\, you are curious about our schedule and availability\, OR you are having trouble with registration\, please call or text us at 301.667.3560… or email mtnjedi@gmail.com
URL:https://teamlinkinc.com/event/more-info-on-schedule-availability-301-667-3560/2024-11-01/
END:VEVENT
BEGIN:VEVENT
DTSTART;TZID=America/New_York:20241001T080000
DTEND;TZID=America/New_York:20241001T170000
DTSTAMP:20260423T195452
CREATED:20210627T165240Z
LAST-MODIFIED:20250415T182319Z
UID:21468-1727769600-1727802000@teamlinkinc.com
SUMMARY:*more scheduling and registration info*
DESCRIPTION:*** SCHEDULE\, AVAILABILITY and REGISTRATION INFORMATION*** \nIf there is a class or adventure that you do not see listed\, or you would like to arrange a group or private activity\, or\, you are curious about our schedule and availability\, OR you are having trouble with registration\, please call or text us at 301.667.3560… or email mtnjedi@gmail.com
URL:https://teamlinkinc.com/event/more-info-on-schedule-availability-301-667-3560/2024-10-01/
END:VEVENT
BEGIN:VEVENT
DTSTART;TZID=America/New_York:20240925T090000
DTEND;TZID=America/New_York:20240925T160000
DTSTAMP:20260423T195452
CREATED:20240123T164318Z
LAST-MODIFIED:20240911T141159Z
UID:22007-1727254800-1727280000@teamlinkinc.com
SUMMARY:Cascading 2
DESCRIPTION:When you are ready to take it to the next level! \nBasic rope skills gained from our Cascading 1 adventure and competent deep water skills are needed to tackle this challenge that occurs in remote settings. \nOf all the adventures we offer\, this is the pinnacle! This should be on everyones bucket list!
URL:https://teamlinkinc.com/event/cascading-2/2024-09-25/
END:VEVENT
BEGIN:VEVENT
DTSTART;TZID=America/New_York:20240901T080000
DTEND;TZID=America/New_York:20240901T170000
DTSTAMP:20260423T195452
CREATED:20210627T165240Z
LAST-MODIFIED:20250415T182316Z
UID:21467-1725177600-1725210000@teamlinkinc.com
SUMMARY:*more scheduling and registration info*
DESCRIPTION:*** SCHEDULE\, AVAILABILITY and REGISTRATION INFORMATION*** \nIf there is a class or adventure that you do not see listed\, or you would like to arrange a group or private activity\, or\, you are curious about our schedule and availability\, OR you are having trouble with registration\, please call or text us at 301.667.3560… or email mtnjedi@gmail.com
URL:https://teamlinkinc.com/event/more-info-on-schedule-availability-301-667-3560/2024-09-01/
END:VEVENT
BEGIN:VEVENT
DTSTART;TZID=America/New_York:20240801T080000
DTEND;TZID=America/New_York:20240801T170000
DTSTAMP:20260423T195452
CREATED:20210627T165240Z
LAST-MODIFIED:20250415T182313Z
UID:21466-1722499200-1722531600@teamlinkinc.com
SUMMARY:*more scheduling and registration info*
DESCRIPTION:*** SCHEDULE\, AVAILABILITY and REGISTRATION INFORMATION*** \nIf there is a class or adventure that you do not see listed\, or you would like to arrange a group or private activity\, or\, you are curious about our schedule and availability\, OR you are having trouble with registration\, please call or text us at 301.667.3560… or email mtnjedi@gmail.com
URL:https://teamlinkinc.com/event/more-info-on-schedule-availability-301-667-3560/2024-08-01/
END:VEVENT
BEGIN:VEVENT
DTSTART;TZID=America/New_York:20240701T080000
DTEND;TZID=America/New_York:20240701T170000
DTSTAMP:20260423T195452
CREATED:20210627T165240Z
LAST-MODIFIED:20250415T182310Z
UID:21465-1719820800-1719853200@teamlinkinc.com
SUMMARY:*more scheduling and registration info*
DESCRIPTION:*** SCHEDULE\, AVAILABILITY and REGISTRATION INFORMATION*** \nIf there is a class or adventure that you do not see listed\, or you would like to arrange a group or private activity\, or\, you are curious about our schedule and availability\, OR you are having trouble with registration\, please call or text us at 301.667.3560… or email mtnjedi@gmail.com
URL:https://teamlinkinc.com/event/more-info-on-schedule-availability-301-667-3560/2024-07-01/
END:VEVENT
BEGIN:VEVENT
DTSTART;TZID=America/New_York:20240601T080000
DTEND;TZID=America/New_York:20240601T170000
DTSTAMP:20260423T195452
CREATED:20210627T165240Z
LAST-MODIFIED:20250415T182306Z
UID:21464-1717228800-1717261200@teamlinkinc.com
SUMMARY:*more scheduling and registration info*
DESCRIPTION:*** SCHEDULE\, AVAILABILITY and REGISTRATION INFORMATION*** \nIf there is a class or adventure that you do not see listed\, or you would like to arrange a group or private activity\, or\, you are curious about our schedule and availability\, OR you are having trouble with registration\, please call or text us at 301.667.3560… or email mtnjedi@gmail.com
URL:https://teamlinkinc.com/event/more-info-on-schedule-availability-301-667-3560/2024-06-01/
END:VEVENT
BEGIN:VEVENT
DTSTART;VALUE=DATE:20240519
DTEND;VALUE=DATE:20240521
DTSTAMP:20260423T195452
CREATED:20220201T145359Z
LAST-MODIFIED:20230522T120735Z
UID:19688-1716076800-1716249599@teamlinkinc.com
SUMMARY:Survival Overnight Workshop
DESCRIPTION:This overnight workshop picks up where the one day introductory class leaves off. \nMental outlook\, problem solving\, water acquisition\, fire\, shelter…
URL:https://teamlinkinc.com/event/survival-overnight-workshop/
CATEGORIES:Outdoor skill classes
END:VEVENT
BEGIN:VEVENT
DTSTART;TZID=America/New_York:20240501T080000
DTEND;TZID=America/New_York:20240501T170000
DTSTAMP:20260423T195452
CREATED:20210627T165240Z
LAST-MODIFIED:20250415T182258Z
UID:21463-1714550400-1714582800@teamlinkinc.com
SUMMARY:*more scheduling and registration info*
DESCRIPTION:*** SCHEDULE\, AVAILABILITY and REGISTRATION INFORMATION*** \nIf there is a class or adventure that you do not see listed\, or you would like to arrange a group or private activity\, or\, you are curious about our schedule and availability\, OR you are having trouble with registration\, please call or text us at 301.667.3560… or email mtnjedi@gmail.com
URL:https://teamlinkinc.com/event/more-info-on-schedule-availability-301-667-3560/2024-05-01/
END:VEVENT
BEGIN:VEVENT
DTSTART;TZID=America/New_York:20220201T080000
DTEND;TZID=America/New_York:20220201T170000
DTSTAMP:20260423T195452
CREATED:20210627T165240Z
LAST-MODIFIED:20250415T182158Z
UID:18017-1643702400-1643734800@teamlinkinc.com
SUMMARY:*more scheduling and registration info*
DESCRIPTION:*** SCHEDULE\, AVAILABILITY and REGISTRATION INFORMATION*** \nIf there is a class or adventure that you do not see listed\, or you would like to arrange a group or private activity\, or\, you are curious about our schedule and availability\, OR you are having trouble with registration\, please call or text us at 301.667.3560… or email mtnjedi@gmail.com
URL:https://teamlinkinc.com/event/more-info-on-schedule-availability-301-667-3560/2022-02-01/
END:VEVENT
BEGIN:VEVENT
DTSTART;TZID=America/New_York:20210322T080000
DTEND;TZID=America/New_York:20210430T170000
DTSTAMP:20260423T195452
CREATED:20210301T131752Z
LAST-MODIFIED:20210301T131752Z
UID:17706-1616400000-1619802000@teamlinkinc.com
SUMMARY:NO AVAILABILITY
DESCRIPTION:
URL:https://teamlinkinc.com/event/no-availability-6/
END:VEVENT
BEGIN:VEVENT
DTSTART;TZID=America/New_York:20210307T123000
DTEND;TZID=America/New_York:20210307T163000
DTSTAMP:20260423T195452
CREATED:20201119T172648Z
LAST-MODIFIED:20210208T164459Z
UID:17594-1615120200-1615134600@teamlinkinc.com
SUMMARY:Climbing Clinic
DESCRIPTION:TOP ROPE BASICS\nThese fun afternoon mini-sessions are great ways to learn new skills and to practice your existing skills!\nThese are highly approachable events\, oriented towards the beginner to intermediate climber\, or those transitioning from gym climbing to outdoor climbing.. fun for families and friends alike!\n-Natural anchors\n-Artificial Anchors\n-Knots\n-Belaying…\n-…. and of course\, CLIMBING\n 
URL:https://teamlinkinc.com/event/climbing-clinic/2021-03-07/
CATEGORIES:Rock Climbing
END:VEVENT
BEGIN:VEVENT
DTSTART;TZID=UTC:20201218T090000
DTEND;TZID=UTC:20201218T153000
DTSTAMP:20260423T195452
CREATED:20170406T011944Z
LAST-MODIFIED:20201113T172018Z
UID:17557-1608282000-1608305400@teamlinkinc.com
SUMMARY:Map and Compass (Land Navigation)
DESCRIPTION:Learn about land navigation in the absence of technology. Magnetic Compass\, topographic map.. even the Sun! Learn how to find out: Where you are; Where you are going; and\, How you are going to get there. This is a full day course\, taught outdoors\, in the mountains! All needed equipment is provided. Never feel helplessly lost again! \n*This class can be offered anytime during the year and in many locations. It is not restricted to just the dates shown. Contact us to schedule your custom class. \n 
URL:https://teamlinkinc.com/event/map-compass-land-navigation-2020-12-25/
LOCATION:Various
CATEGORIES:Outdoor skill classes
ORGANIZER;CN="Shenandoah Mountain Guides":MAILTO:mtnjedi@gmail.com
END:VEVENT
BEGIN:VEVENT
DTSTART;TZID=UTC:20201211T090000
DTEND;TZID=UTC:20201211T153000
DTSTAMP:20260423T195452
CREATED:20170406T020046Z
LAST-MODIFIED:20201024T142545Z
UID:17410-1607677200-1607700600@teamlinkinc.com
SUMMARY:Introduction to Outdoor Survival
DESCRIPTION:When everything goes wrong\, learn to not just survive\, but to thrive! \nHighly experiential.. learn the skills to survive! Build your own survival kit.. This is fieldcraft and outdoor knowledge and wisdom at the next level.. learn about water acquisition\, shelter\, signalling\, fire building\, navigation and so much more.The first half is class the second half is in the field.\nNo one who enjoys the outdoors should be without this class! \nThis was developed by Teamlink for the Discovery Channel in support of their Bear Grylls series… \n*This class can be scheduled upon demand. It is not restricted to the dates indicated
URL:https://teamlinkinc.com/event/introduction-to-survival-2020-11-13/
LOCATION:Various
CATEGORIES:Outdoor skill classes
ORGANIZER;CN="Shenandoah Mountain Guides":MAILTO:mtnjedi@gmail.com
END:VEVENT
BEGIN:VEVENT
DTSTART;TZID=UTC:20201211T090000
DTEND;TZID=UTC:20201211T153000
DTSTAMP:20260423T195452
CREATED:20170406T020046Z
LAST-MODIFIED:20201226T170054Z
UID:17411-1607677200-1607700600@teamlinkinc.com
SUMMARY:Introduction to Outdoor Survival
DESCRIPTION:When everything goes wrong\, learn to not just survive\, but to thrive! \nHighly experiential.. learn the skills to survive! Build your own survival kit.. This is fieldcraft and outdoor knowledge and wisdom at the next level.. learn about water acquisition\, shelter\, signalling\, fire building\, navigation and so much more.The first half is class the second half is in the field.\nNo one who enjoys the outdoors should be without this class! \nThis was developed by Teamlink for the Discovery Channel in support of their Bear Grylls series… \n*This class can be scheduled upon demand. It is not restricted to the dates indicated
URL:https://teamlinkinc.com/event/introduction-to-survival-2020-12-11/
LOCATION:Various
CATEGORIES:Outdoor skill classes
ORGANIZER;CN="Shenandoah Mountain Guides":MAILTO:mtnjedi@gmail.com
END:VEVENT
BEGIN:VEVENT
DTSTART;TZID=UTC:20201008T090000
DTEND;TZID=UTC:20201008T153000
DTSTAMP:20260423T195452
CREATED:20170402T031224Z
LAST-MODIFIED:20200922T113042Z
UID:17345-1602147600-1602171000@teamlinkinc.com
SUMMARY:Rock Climbing
DESCRIPTION:  \n \nGet that “aired-out” feeling\, while climbing almost 3000’ above the Shenandoah Valley floor*. This is an unforgettable experience that will make your trip to Shenandoah National Park complete*… a full day of adventure for both young and young at heart. All necessary gear is provided. Advance registration is required. This is an introductory thru intermediate level climbing program. \n \nThe climbing programs are not extraordinarily physically demanding (for a person of average fitness)\, but they can be psychologically challenging.\nAll participants should bring a camera for this exciting day!\n*For convenience\, we have permits for guiding at climbing sites throughout the four state (PA\, MD\, VA and WV) region. \n 
URL:https://teamlinkinc.com/event/rock-climbing-2020-06-09-2020-10-08/
LOCATION:Shenandoah National Park
CATEGORIES:Rock Climbing
ORGANIZER;CN="Shenandoah Mountain Guides":MAILTO:mtnjedi@gmail.com
END:VEVENT
BEGIN:VEVENT
DTSTART;VALUE=DATE:20200901
DTEND;VALUE=DATE:20200902
DTSTAMP:20260423T195452
CREATED:20200830T133559Z
LAST-MODIFIED:20200902T001821Z
UID:17328-1598918400-1599004799@teamlinkinc.com
SUMMARY:Calendar malfunction.. call 301.667.3560 or click *here*.
DESCRIPTION:Unfortunately\, we are experiencing intermittent technical difficulties with our site\, which is rendering our calendar and on-line registration (occasionally)useless.. Reach us directly at 301.667.3560 or mtnjedi@gmail.com.. \nWe are currently operating at our full summer schedule with Rock Climbing\, Cascading\, Hiking and all of our outdoor skills courses on a daily basis.. \nIf you have difficulty making a reservation\, we are taking registrations by phone 301.667.3560\, and by email: mtnjedi@gmail.com \nWe are sorry for this inconvenience. \n(A Google Calendar can be found on our Shenandoah Breezes blog (www.shenandoahbreezes.blogspot.com) and limited info is on our Shenandoah Mountain Guides FaceBook page.)
URL:https://teamlinkinc.com/event/calendar-malfunction-call-3011-667-3560-for-more-information/
END:VEVENT
BEGIN:VEVENT
DTSTART;TZID=America/New_York:20200817T080000
DTEND;TZID=America/New_York:20200817T170000
DTSTAMP:20260423T195452
CREATED:20200130T154500Z
LAST-MODIFIED:20200130T154500Z
UID:16672-1597651200-1597683600@teamlinkinc.com
SUMMARY:No Availability
DESCRIPTION:
URL:https://teamlinkinc.com/event/no-availability-5/2020-08-17/
END:VEVENT
END:VCALENDAR