BEGIN:VCALENDAR
VERSION:2.0
PRODID:-//Teamlink and Shenandoah Mountain Guides - ECPv6.15.13.1//NONSGML v1.0//EN
CALSCALE:GREGORIAN
METHOD:PUBLISH
X-WR-CALNAME:Teamlink and Shenandoah Mountain Guides
X-ORIGINAL-URL:https://teamlinkinc.com
X-WR-CALDESC:Events for Teamlink and Shenandoah Mountain Guides
REFRESH-INTERVAL;VALUE=DURATION:PT1H
X-Robots-Tag:noindex
X-PUBLISHED-TTL:PT1H
BEGIN:VTIMEZONE
TZID:America/New_York
BEGIN:DAYLIGHT
TZOFFSETFROM:-0500
TZOFFSETTO:-0400
TZNAME:EDT
DTSTART:20180311T070000
END:DAYLIGHT
BEGIN:STANDARD
TZOFFSETFROM:-0400
TZOFFSETTO:-0500
TZNAME:EST
DTSTART:20181104T060000
END:STANDARD
BEGIN:DAYLIGHT
TZOFFSETFROM:-0500
TZOFFSETTO:-0400
TZNAME:EDT
DTSTART:20190310T070000
END:DAYLIGHT
BEGIN:STANDARD
TZOFFSETFROM:-0400
TZOFFSETTO:-0500
TZNAME:EST
DTSTART:20191103T060000
END:STANDARD
BEGIN:DAYLIGHT
TZOFFSETFROM:-0500
TZOFFSETTO:-0400
TZNAME:EDT
DTSTART:20200308T070000
END:DAYLIGHT
BEGIN:STANDARD
TZOFFSETFROM:-0400
TZOFFSETTO:-0500
TZNAME:EST
DTSTART:20201101T060000
END:STANDARD
END:VTIMEZONE
BEGIN:VTIMEZONE
TZID:UTC
BEGIN:STANDARD
TZOFFSETFROM:+0000
TZOFFSETTO:+0000
TZNAME:UTC
DTSTART:20150101T000000
END:STANDARD
END:VTIMEZONE
BEGIN:VEVENT
DTSTART;VALUE=DATE:20190708
DTEND;VALUE=DATE:20190709
DTSTAMP:20260423T183901
CREATED:20190626T004844Z
LAST-MODIFIED:20190626T004844Z
UID:16180-1562544000-1562630399@teamlinkinc.com
SUMMARY:No Availability
DESCRIPTION:
URL:https://teamlinkinc.com/event/no-availability-4/
END:VEVENT
BEGIN:VEVENT
DTSTART;VALUE=DATE:20190706
DTEND;VALUE=DATE:20190707
DTSTAMP:20260423T183901
CREATED:20190626T004554Z
LAST-MODIFIED:20190626T004627Z
UID:16176-1562371200-1562457599@teamlinkinc.com
SUMMARY:No Availability
DESCRIPTION:
URL:https://teamlinkinc.com/event/no-availability-2/
END:VEVENT
BEGIN:VEVENT
DTSTART;VALUE=DATE:20190705
DTEND;VALUE=DATE:20190706
DTSTAMP:20260423T183901
CREATED:20190626T004729Z
LAST-MODIFIED:20190626T004729Z
UID:16178-1562284800-1562371199@teamlinkinc.com
SUMMARY:No Availability
DESCRIPTION:
URL:https://teamlinkinc.com/event/no-availability-3/
END:VEVENT
BEGIN:VEVENT
DTSTART;VALUE=DATE:20190704
DTEND;VALUE=DATE:20190705
DTSTAMP:20260423T183901
CREATED:20190626T004417Z
LAST-MODIFIED:20190626T004417Z
UID:16174-1562198400-1562284799@teamlinkinc.com
SUMMARY:No Availability
DESCRIPTION:
URL:https://teamlinkinc.com/event/no-availability/
END:VEVENT
BEGIN:VEVENT
DTSTART;VALUE=DATE:20190613
DTEND;VALUE=DATE:20190614
DTSTAMP:20260423T183901
CREATED:20190517T201420Z
LAST-MODIFIED:20190517T201420Z
UID:16106-1560384000-1560470399@teamlinkinc.com
SUMMARY:No Availability
DESCRIPTION:
URL:https://teamlinkinc.com/event/no-availability-19/2019-06-13/
END:VEVENT
BEGIN:VEVENT
DTSTART;TZID=UTC:20190124T090000
DTEND;TZID=UTC:20190124T160000
DTSTAMP:20260423T183901
CREATED:20170401T065037Z
LAST-MODIFIED:20190125T000846Z
UID:15440-1548320400-1548345600@teamlinkinc.com
SUMMARY:Basic Outdoor Skills (BOS)
DESCRIPTION:BASIC OUTDOOR SKILLS (BOS)\nEnjoy the outdoors? Want to develop greater confidence and comfort in wilderness settings? This basic school is for you! Navigation\, Water\, Shelter\, Fire\, Food\, Emergencies\, First Aid…\nIt is all here in this unforgettable program. Morning is spent learning theory\, afternoon is practical application on the nearby mountainside. \n*This class can be scheduled upon demand and is not restricted to just the dates shown.
URL:https://teamlinkinc.com/event/basic-outdoor-skills-bos-2019-01-24/2019-01-24/
CATEGORIES:Outdoor skill classes
ORGANIZER;CN="Shenandoah Mountain Guides":MAILTO:mtnjedi@gmail.com
END:VEVENT
BEGIN:VEVENT
DTSTART;TZID=UTC:20180506T123000
DTEND;TZID=UTC:20180506T170000
DTSTAMP:20260423T183901
CREATED:20170401T020512Z
LAST-MODIFIED:20180412T193853Z
UID:13582-1525609800-1525626000@teamlinkinc.com
SUMMARY:Introduction to Rock Climbing
DESCRIPTION:An afternoon of fun for the entire family! Learn the basic of anchors\, belaying and climbing… a fantastic family activity! \nMinimum age is 5 years old. Any youth under the age of 16 must be accompanied by a parent. All gear is provided. \n 
URL:https://teamlinkinc.com/event/introduction-rock-climbing/2018-05-06/
LOCATION:Frederick Watershed\, Mountaindale Rd\, Thurmont\, MD\, United States
CATEGORIES:Rock Climbing
ORGANIZER;CN="Shenandoah Mountain Guides":MAILTO:mtnjedi@gmail.com
GEO:39.5255079;-77.4589989
X-APPLE-STRUCTURED-LOCATION;VALUE=URI;X-ADDRESS=Frederick Watershed Mountaindale Rd Thurmont MD United States;X-APPLE-RADIUS=500;X-TITLE=Mountaindale Rd:geo:-77.4589989,39.5255079
END:VEVENT
BEGIN:VEVENT
DTSTART;TZID=UTC:20180113T090000
DTEND;TZID=UTC:20180113T160000
DTSTAMP:20260423T183901
CREATED:20170401T065037Z
LAST-MODIFIED:20181109T212121Z
UID:13590-1515834000-1515859200@teamlinkinc.com
SUMMARY:Basic Outdoor Skills (BOS)
DESCRIPTION:BASIC OUTDOOR SKILLS (BOS)\nEnjoy the outdoors? Want to develop greater confidence and comfort in wilderness settings? This basic school is for you! Navigation\, Water\, Shelter\, Fire\, Food\, Emergencies\, First Aid…\nIt is all here in this unforgettable program. Morning is spent learning theory\, afternoon is practical application on the nearby mountainside. \n*This class can be scheduled upon demand and is not restricted to just the dates shown.
URL:https://teamlinkinc.com/event/basic-outdoor-skills-bos/2018-01-13/
CATEGORIES:Outdoor skill classes
ORGANIZER;CN="Shenandoah Mountain Guides":MAILTO:mtnjedi@gmail.com
END:VEVENT
BEGIN:VEVENT
DTSTART;TZID=UTC:20170908T080000
DTEND;TZID=UTC:20170910T170000
DTSTAMP:20260423T183901
CREATED:20170406T170040Z
LAST-MODIFIED:20170418T060602Z
UID:14513-1504857600-1505062800@teamlinkinc.com
SUMMARY:Backpacking
DESCRIPTION:These three-day and two-day  tours are designed for adventurers of all levels.. beginner – intermediate – advanced. Each trip loops thru the best backcountry trails of the region: waterfalls\, high meadows\, rugged mountaintops\, abandoned mountaineer farming communities. With diverse flora and fauna\, spectacular terrain and the master educators and guides of Shenandoah Mountain Guides\, these trips are unforgettable experiences. Arrangements exclusively through Shenandoah Mountain Guides (includes food and backpacking gear) \nThese can be scheduled at times convenient to you! We have a fixed date trip just to get it on the schedule…
URL:https://teamlinkinc.com/event/backpacking/
LOCATION:Various
CATEGORIES:Trekking
ORGANIZER;CN="Shenandoah Mountain Guides":MAILTO:mtnjedi@gmail.com
END:VEVENT
BEGIN:VEVENT
DTSTART;TZID=UTC:20170605T060000
DTEND;TZID=UTC:20170605T063000
DTSTAMP:20260423T183901
CREATED:20170401T154933Z
LAST-MODIFIED:20170401T154933Z
UID:13600-1496642400-1496644200@teamlinkinc.com
SUMMARY:OPENING DAY CASCADING SEASON!!!
DESCRIPTION:
URL:https://teamlinkinc.com/event/opening-day-cascading-season/
END:VEVENT
BEGIN:VEVENT
DTSTART;TZID=UTC:20170429T080000
DTEND;TZID=UTC:20170429T170000
DTSTAMP:20260423T183901
CREATED:20170418T053732Z
LAST-MODIFIED:20170418T054217Z
UID:14827-1493452800-1493485200@teamlinkinc.com
SUMMARY:Canoeing on the Monocacy River
DESCRIPTION:Paddle the scenic\, gently flowing Monocacy River. All needed equipment is provided (boat\, PFD\, paddles)  Once you are on the water\, feel like you are transported a thousand miles away: birds\, wildlife\, wildflowers\, stunning beauty and quiet. minimum of two persons required. If you have your own boat\, we can provide shuttle services to your put in. \nFor those who would like a guide\, or a bit of on the water instruction\, an accompanying guide can be arranged. \nFull day and half day trips are available. Two person minimum. Sorry no alcohol allowed.
URL:https://teamlinkinc.com/event/canoeing-monocacy-river-2/2017-04-29/
LOCATION:Monocacy River
CATEGORIES:Canoeing
END:VEVENT
BEGIN:VEVENT
DTSTART;TZID=UTC:20170331T080000
DTEND;TZID=UTC:20170331T170000
DTSTAMP:20260423T183901
CREATED:20170330T205637Z
LAST-MODIFIED:20170330T205637Z
UID:13547-1490947200-1490979600@teamlinkinc.com
SUMMARY:Canoeing on the Monocacy River
DESCRIPTION:
URL:https://teamlinkinc.com/event/canoeing-monocacy-river/
LOCATION:Buckeystown Park\, MD\, United States
GEO:39.0457549;-76.6412712
END:VEVENT
BEGIN:VEVENT
DTSTART;TZID=UTC:20170325T080000
DTEND;TZID=UTC:20170325T120000
DTSTAMP:20260423T183901
CREATED:20170228T235922Z
LAST-MODIFIED:20170228T235922Z
UID:13454-1490428800-1490443200@teamlinkinc.com
SUMMARY:Cascading 101
DESCRIPTION:
URL:https://teamlinkinc.com/event/cascading-101/
LOCATION:Central Park\, Brooklyn\, NY 10036\, New York\, AK\, United States
CATEGORIES:Cascading
GEO:65.4936111;-167.6841667
X-APPLE-STRUCTURED-LOCATION;VALUE=URI;X-ADDRESS=Central Park Brooklyn NY 10036 New York AK United States;X-APPLE-RADIUS=500;X-TITLE=Brooklyn\, NY 10036:geo:-167.6841667,65.4936111
END:VEVENT
BEGIN:VEVENT
DTSTART;VALUE=DATE:20170317
DTEND;VALUE=DATE:20170318
DTSTAMP:20260423T183901
CREATED:20170223T233132Z
LAST-MODIFIED:20170223T233132Z
UID:13392-1489708800-1489795199@teamlinkinc.com
SUMMARY:St. Patricks Day
DESCRIPTION:
URL:https://teamlinkinc.com/event/st-patricks-day/
END:VEVENT
BEGIN:VEVENT
DTSTART;VALUE=DATE:20160826
DTEND;VALUE=DATE:20160831
DTSTAMP:20260423T183901
CREATED:20160607T112615Z
LAST-MODIFIED:20160607T112615Z
UID:13232-1472169600-1472601599@teamlinkinc.com
SUMMARY:Festival Foods Granddad Half Marathon
DESCRIPTION:Cras dapibus ullamcorper dictum. Vivamus nec erat placerat felis scelerisque porttitor in ac turpis. In nec imperdiet turpis. Suspendisse quis orci ut orci pulvinar eleifend. Nulla eu mattis ipsum. Integer eget sagittis nulla. Praesent consectetur lacus et maximus eleifend. Integer non lacus dui. Mauris tortor diam\, laoreet quis commodo vitae\, sodales vel augue.| Sed rutrum\, libero non pretium tristique\, arcu mi sollicitudin ex\, quis venenatis orci tellus vel dolor. Donec gravida\, dolor ut auctor facilisis\, enim dolor pellentesque lectus\, nec vehicula nibh risus ac leo. Mauris volutpat aliquam tellus nec rhoncus. Aliquam et nibh pulvinar\, sodales nibh et\, pretium urna. Vivamus quam augue\, maximus in consequat imperdiet\, iaculis non nibh. Aliquam erat volutpat. Curabitur venenatis massa sed lacus tristique\, non auctor nisl sodales. Sed ultricies lacus ut libero faucibus fringilla. Ut nisi tellus\, posuere vel mattis nec\, convallis a metus. Nullam elementum molestie felis nec lobortis. Cras at justo eu elit semper tempor sed quis orci. In risus magna\, malesuada vel elementum ut\, finibus et nunc. \n 
URL:https://teamlinkinc.com/event/festival-foods-granddad-half-marathon-2/
LOCATION:Central Park\, Brooklyn\, NY 10036\, New York\, AK\, United States
CATEGORIES:Festival Foods
ATTACH;FMTTYPE=image/jpeg:https://teamlinkinc.com/wp-content/uploads/2016/08/06.jpg
ORGANIZER;CN="Nick Sims":MAILTO:sims@example.com
GEO:65.4936111;-167.6841667
X-APPLE-STRUCTURED-LOCATION;VALUE=URI;X-ADDRESS=Central Park Brooklyn NY 10036 New York AK United States;X-APPLE-RADIUS=500;X-TITLE=Brooklyn\, NY 10036:geo:-167.6841667,65.4936111
END:VEVENT
BEGIN:VEVENT
DTSTART;VALUE=DATE:20160826
DTEND;VALUE=DATE:20160831
DTSTAMP:20260423T183901
CREATED:20160607T112615Z
LAST-MODIFIED:20160607T112615Z
UID:10805-1472169600-1472601599@teamlinkinc.com
SUMMARY:Festival Foods Granddad Half Marathon
DESCRIPTION:Cras dapibus ullamcorper dictum. Vivamus nec erat placerat felis scelerisque porttitor in ac turpis. In nec imperdiet turpis. Suspendisse quis orci ut orci pulvinar eleifend. Nulla eu mattis ipsum. Integer eget sagittis nulla. Praesent consectetur lacus et maximus eleifend. Integer non lacus dui. Mauris tortor diam\, laoreet quis commodo vitae\, sodales vel augue.| Sed rutrum\, libero non pretium tristique\, arcu mi sollicitudin ex\, quis venenatis orci tellus vel dolor. Donec gravida\, dolor ut auctor facilisis\, enim dolor pellentesque lectus\, nec vehicula nibh risus ac leo. Mauris volutpat aliquam tellus nec rhoncus. Aliquam et nibh pulvinar\, sodales nibh et\, pretium urna. Vivamus quam augue\, maximus in consequat imperdiet\, iaculis non nibh. Aliquam erat volutpat. Curabitur venenatis massa sed lacus tristique\, non auctor nisl sodales. Sed ultricies lacus ut libero faucibus fringilla. Ut nisi tellus\, posuere vel mattis nec\, convallis a metus. Nullam elementum molestie felis nec lobortis. Cras at justo eu elit semper tempor sed quis orci. In risus magna\, malesuada vel elementum ut\, finibus et nunc. \n 
URL:https://teamlinkinc.com/event/festival-foods-granddad-half-marathon/
LOCATION:Central Park\, Brooklyn\, NY 10036\, New York\, AK\, United States
CATEGORIES:Festival Foods
ATTACH;FMTTYPE=image/jpeg:https://teamlinkinc.com/wp-content/uploads/2016/08/06.jpg
ORGANIZER;CN="Nick Sims":MAILTO:sims@example.com
GEO:65.4936111;-167.6841667
X-APPLE-STRUCTURED-LOCATION;VALUE=URI;X-ADDRESS=Central Park Brooklyn NY 10036 New York AK United States;X-APPLE-RADIUS=500;X-TITLE=Brooklyn\, NY 10036:geo:-167.6841667,65.4936111
END:VEVENT
BEGIN:VEVENT
DTSTART;VALUE=DATE:20160818
DTEND;VALUE=DATE:20160823
DTSTAMP:20260423T183901
CREATED:20160607T112159Z
LAST-MODIFIED:20160607T112159Z
UID:13231-1471478400-1471910399@teamlinkinc.com
SUMMARY:Northwest VegFest
DESCRIPTION:Cras dapibus ullamcorper dictum. Vivamus nec erat placerat felis scelerisque porttitor in ac turpis. In nec imperdiet turpis. Suspendisse quis orci ut orci pulvinar eleifend. Nulla eu mattis ipsum. Integer eget sagittis nulla. Praesent consectetur lacus et maximus eleifend. Integer non lacus dui. Mauris tortor diam\, laoreet quis commodo vitae\, sodales vel augue.| Sed rutrum\, libero non pretium tristique\, arcu mi sollicitudin ex\, quis venenatis orci tellus vel dolor. Donec gravida\, dolor ut auctor facilisis\, enim dolor pellentesque lectus\, nec vehicula nibh risus ac leo. Mauris volutpat aliquam tellus nec rhoncus. Aliquam et nibh pulvinar\, sodales nibh et\, pretium urna. Vivamus quam augue\, maximus in consequat imperdiet\, iaculis non nibh. Aliquam erat volutpat. Curabitur venenatis massa sed lacus tristique\, non auctor nisl sodales. Sed ultricies lacus ut libero faucibus fringilla. Ut nisi tellus\, posuere vel mattis nec\, convallis a metus. Nullam elementum molestie felis nec lobortis. Cras at justo eu elit semper tempor sed quis orci. In risus magna\, malesuada vel elementum ut\, finibus et nunc. \n 
URL:https://teamlinkinc.com/event/northwest-vegfest-2/
LOCATION:Central Park\, Brooklyn\, NY 10036\, New York\, AK\, United States
CATEGORIES:Festival Foods
ATTACH;FMTTYPE=image/jpeg:https://teamlinkinc.com/wp-content/uploads/2016/08/05.jpg
ORGANIZER;CN="Nick Sims":MAILTO:sims@example.com
GEO:65.4936111;-167.6841667
X-APPLE-STRUCTURED-LOCATION;VALUE=URI;X-ADDRESS=Central Park Brooklyn NY 10036 New York AK United States;X-APPLE-RADIUS=500;X-TITLE=Brooklyn\, NY 10036:geo:-167.6841667,65.4936111
END:VEVENT
BEGIN:VEVENT
DTSTART;VALUE=DATE:20160818
DTEND;VALUE=DATE:20160823
DTSTAMP:20260423T183901
CREATED:20160607T112159Z
LAST-MODIFIED:20160607T112159Z
UID:10803-1471478400-1471910399@teamlinkinc.com
SUMMARY:Northwest VegFest
DESCRIPTION:Cras dapibus ullamcorper dictum. Vivamus nec erat placerat felis scelerisque porttitor in ac turpis. In nec imperdiet turpis. Suspendisse quis orci ut orci pulvinar eleifend. Nulla eu mattis ipsum. Integer eget sagittis nulla. Praesent consectetur lacus et maximus eleifend. Integer non lacus dui. Mauris tortor diam\, laoreet quis commodo vitae\, sodales vel augue.| Sed rutrum\, libero non pretium tristique\, arcu mi sollicitudin ex\, quis venenatis orci tellus vel dolor. Donec gravida\, dolor ut auctor facilisis\, enim dolor pellentesque lectus\, nec vehicula nibh risus ac leo. Mauris volutpat aliquam tellus nec rhoncus. Aliquam et nibh pulvinar\, sodales nibh et\, pretium urna. Vivamus quam augue\, maximus in consequat imperdiet\, iaculis non nibh. Aliquam erat volutpat. Curabitur venenatis massa sed lacus tristique\, non auctor nisl sodales. Sed ultricies lacus ut libero faucibus fringilla. Ut nisi tellus\, posuere vel mattis nec\, convallis a metus. Nullam elementum molestie felis nec lobortis. Cras at justo eu elit semper tempor sed quis orci. In risus magna\, malesuada vel elementum ut\, finibus et nunc. \n 
URL:https://teamlinkinc.com/event/northwest-vegfest/
LOCATION:Central Park\, Brooklyn\, NY 10036\, New York\, AK\, United States
CATEGORIES:Festival Foods
ATTACH;FMTTYPE=image/jpeg:https://teamlinkinc.com/wp-content/uploads/2016/08/05.jpg
ORGANIZER;CN="Nick Sims":MAILTO:sims@example.com
GEO:65.4936111;-167.6841667
X-APPLE-STRUCTURED-LOCATION;VALUE=URI;X-ADDRESS=Central Park Brooklyn NY 10036 New York AK United States;X-APPLE-RADIUS=500;X-TITLE=Brooklyn\, NY 10036:geo:-167.6841667,65.4936111
END:VEVENT
BEGIN:VEVENT
DTSTART;VALUE=DATE:20160813
DTEND;VALUE=DATE:20160818
DTSTAMP:20260423T183901
CREATED:20160607T111957Z
LAST-MODIFIED:20160607T111957Z
UID:13230-1471046400-1471478399@teamlinkinc.com
SUMMARY:Happy Festivals and Other Health-Related Festivals
DESCRIPTION:Cras dapibus ullamcorper dictum. Vivamus nec erat placerat felis scelerisque porttitor in ac turpis. In nec imperdiet turpis. Suspendisse quis orci ut orci pulvinar eleifend. Nulla eu mattis ipsum. Integer eget sagittis nulla. Praesent consectetur lacus et maximus eleifend. Integer non lacus dui. Mauris tortor diam\, laoreet quis commodo vitae\, sodales vel augue.| Sed rutrum\, libero non pretium tristique\, arcu mi sollicitudin ex\, quis venenatis orci tellus vel dolor. Donec gravida\, dolor ut auctor facilisis\, enim dolor pellentesque lectus\, nec vehicula nibh risus ac leo. Mauris volutpat aliquam tellus nec rhoncus. Aliquam et nibh pulvinar\, sodales nibh et\, pretium urna. Vivamus quam augue\, maximus in consequat imperdiet\, iaculis non nibh. Aliquam erat volutpat. Curabitur venenatis massa sed lacus tristique\, non auctor nisl sodales. Sed ultricies lacus ut libero faucibus fringilla. Ut nisi tellus\, posuere vel mattis nec\, convallis a metus. Nullam elementum molestie felis nec lobortis. Cras at justo eu elit semper tempor sed quis orci. In risus magna\, malesuada vel elementum ut\, finibus et nunc. \n 
URL:https://teamlinkinc.com/event/happy-festivals-and-other-health-related-festivals-2/
LOCATION:Central Park\, Brooklyn\, NY 10036\, New York\, AK\, United States
CATEGORIES:Happy Festivals
ATTACH;FMTTYPE=image/jpeg:https://teamlinkinc.com/wp-content/uploads/2016/08/04.jpg
ORGANIZER;CN="Nick Sims":MAILTO:sims@example.com
GEO:65.4936111;-167.6841667
X-APPLE-STRUCTURED-LOCATION;VALUE=URI;X-ADDRESS=Central Park Brooklyn NY 10036 New York AK United States;X-APPLE-RADIUS=500;X-TITLE=Brooklyn\, NY 10036:geo:-167.6841667,65.4936111
END:VEVENT
BEGIN:VEVENT
DTSTART;VALUE=DATE:20160813
DTEND;VALUE=DATE:20160818
DTSTAMP:20260423T183901
CREATED:20160607T111957Z
LAST-MODIFIED:20160607T111957Z
UID:10801-1471046400-1471478399@teamlinkinc.com
SUMMARY:Happy Festivals and Other Health-Related Festivals
DESCRIPTION:Cras dapibus ullamcorper dictum. Vivamus nec erat placerat felis scelerisque porttitor in ac turpis. In nec imperdiet turpis. Suspendisse quis orci ut orci pulvinar eleifend. Nulla eu mattis ipsum. Integer eget sagittis nulla. Praesent consectetur lacus et maximus eleifend. Integer non lacus dui. Mauris tortor diam\, laoreet quis commodo vitae\, sodales vel augue.| Sed rutrum\, libero non pretium tristique\, arcu mi sollicitudin ex\, quis venenatis orci tellus vel dolor. Donec gravida\, dolor ut auctor facilisis\, enim dolor pellentesque lectus\, nec vehicula nibh risus ac leo. Mauris volutpat aliquam tellus nec rhoncus. Aliquam et nibh pulvinar\, sodales nibh et\, pretium urna. Vivamus quam augue\, maximus in consequat imperdiet\, iaculis non nibh. Aliquam erat volutpat. Curabitur venenatis massa sed lacus tristique\, non auctor nisl sodales. Sed ultricies lacus ut libero faucibus fringilla. Ut nisi tellus\, posuere vel mattis nec\, convallis a metus. Nullam elementum molestie felis nec lobortis. Cras at justo eu elit semper tempor sed quis orci. In risus magna\, malesuada vel elementum ut\, finibus et nunc. \n 
URL:https://teamlinkinc.com/event/happy-festivals-and-other-health-related-festivals/
LOCATION:Central Park\, Brooklyn\, NY 10036\, New York\, AK\, United States
CATEGORIES:Happy Festivals
ATTACH;FMTTYPE=image/jpeg:https://teamlinkinc.com/wp-content/uploads/2016/08/04.jpg
ORGANIZER;CN="Nick Sims":MAILTO:sims@example.com
GEO:65.4936111;-167.6841667
X-APPLE-STRUCTURED-LOCATION;VALUE=URI;X-ADDRESS=Central Park Brooklyn NY 10036 New York AK United States;X-APPLE-RADIUS=500;X-TITLE=Brooklyn\, NY 10036:geo:-167.6841667,65.4936111
END:VEVENT
BEGIN:VEVENT
DTSTART;VALUE=DATE:20160805
DTEND;VALUE=DATE:20160810
DTSTAMP:20260423T183901
CREATED:20160607T111338Z
LAST-MODIFIED:20160607T111338Z
UID:10800-1470355200-1470787199@teamlinkinc.com
SUMMARY:Healthy Living Festival
DESCRIPTION:Cras dapibus ullamcorper dictum. Vivamus nec erat placerat felis scelerisque porttitor in ac turpis. In nec imperdiet turpis. Suspendisse quis orci ut orci pulvinar eleifend. Nulla eu mattis ipsum. Integer eget sagittis nulla. Praesent consectetur lacus et maximus eleifend. Integer non lacus dui. Mauris tortor diam\, laoreet quis commodo vitae\, sodales vel augue.| Sed rutrum\, libero non pretium tristique\, arcu mi sollicitudin ex\, quis venenatis orci tellus vel dolor. Donec gravida\, dolor ut auctor facilisis\, enim dolor pellentesque lectus\, nec vehicula nibh risus ac leo. Mauris volutpat aliquam tellus nec rhoncus. Aliquam et nibh pulvinar\, sodales nibh et\, pretium urna. Vivamus quam augue\, maximus in consequat imperdiet\, iaculis non nibh. Aliquam erat volutpat. Curabitur venenatis massa sed lacus tristique\, non auctor nisl sodales. Sed ultricies lacus ut libero faucibus fringilla. Ut nisi tellus\, posuere vel mattis nec\, convallis a metus. Nullam elementum molestie felis nec lobortis. Cras at justo eu elit semper tempor sed quis orci. In risus magna\, malesuada vel elementum ut\, finibus et nunc. \n 
URL:https://teamlinkinc.com/event/healthy-living-festival/
LOCATION:Central Park\, Brooklyn\, NY 10036\, New York\, AK\, United States
CATEGORIES:Healthy Festival
ATTACH;FMTTYPE=image/jpeg:https://teamlinkinc.com/wp-content/uploads/2016/08/03.jpg
ORGANIZER;CN="Nick Sims":MAILTO:sims@example.com
GEO:65.4936111;-167.6841667
X-APPLE-STRUCTURED-LOCATION;VALUE=URI;X-ADDRESS=Central Park Brooklyn NY 10036 New York AK United States;X-APPLE-RADIUS=500;X-TITLE=Brooklyn\, NY 10036:geo:-167.6841667,65.4936111
END:VEVENT
BEGIN:VEVENT
DTSTART;VALUE=DATE:20160805
DTEND;VALUE=DATE:20160810
DTSTAMP:20260423T183901
CREATED:20160607T111338Z
LAST-MODIFIED:20160607T111338Z
UID:13229-1470355200-1470787199@teamlinkinc.com
SUMMARY:Healthy Living Festival
DESCRIPTION:Cras dapibus ullamcorper dictum. Vivamus nec erat placerat felis scelerisque porttitor in ac turpis. In nec imperdiet turpis. Suspendisse quis orci ut orci pulvinar eleifend. Nulla eu mattis ipsum. Integer eget sagittis nulla. Praesent consectetur lacus et maximus eleifend. Integer non lacus dui. Mauris tortor diam\, laoreet quis commodo vitae\, sodales vel augue.| Sed rutrum\, libero non pretium tristique\, arcu mi sollicitudin ex\, quis venenatis orci tellus vel dolor. Donec gravida\, dolor ut auctor facilisis\, enim dolor pellentesque lectus\, nec vehicula nibh risus ac leo. Mauris volutpat aliquam tellus nec rhoncus. Aliquam et nibh pulvinar\, sodales nibh et\, pretium urna. Vivamus quam augue\, maximus in consequat imperdiet\, iaculis non nibh. Aliquam erat volutpat. Curabitur venenatis massa sed lacus tristique\, non auctor nisl sodales. Sed ultricies lacus ut libero faucibus fringilla. Ut nisi tellus\, posuere vel mattis nec\, convallis a metus. Nullam elementum molestie felis nec lobortis. Cras at justo eu elit semper tempor sed quis orci. In risus magna\, malesuada vel elementum ut\, finibus et nunc. \n 
URL:https://teamlinkinc.com/event/healthy-living-festival-2/
LOCATION:Central Park\, Brooklyn\, NY 10036\, New York\, AK\, United States
CATEGORIES:Healthy Festival
ATTACH;FMTTYPE=image/jpeg:https://teamlinkinc.com/wp-content/uploads/2016/08/03.jpg
ORGANIZER;CN="Nick Sims":MAILTO:sims@example.com
GEO:65.4936111;-167.6841667
X-APPLE-STRUCTURED-LOCATION;VALUE=URI;X-ADDRESS=Central Park Brooklyn NY 10036 New York AK United States;X-APPLE-RADIUS=500;X-TITLE=Brooklyn\, NY 10036:geo:-167.6841667,65.4936111
END:VEVENT
BEGIN:VEVENT
DTSTART;VALUE=DATE:20160801
DTEND;VALUE=DATE:20160804
DTSTAMP:20260423T183901
CREATED:20160607T105831Z
LAST-MODIFIED:20160607T105831Z
UID:10792-1470009600-1470268799@teamlinkinc.com
SUMMARY:Green Festivals
DESCRIPTION:Cras dapibus ullamcorper dictum. Vivamus nec erat placerat felis scelerisque porttitor in ac turpis. In nec imperdiet turpis. Suspendisse quis orci ut orci pulvinar eleifend. Nulla eu mattis ipsum. Integer eget sagittis nulla. Praesent consectetur lacus et maximus eleifend. Integer non lacus dui. Mauris tortor diam\, laoreet quis commodo vitae\, sodales vel augue.| Sed rutrum\, libero non pretium tristique\, arcu mi sollicitudin ex\, quis venenatis orci tellus vel dolor. Donec gravida\, dolor ut auctor facilisis\, enim dolor pellentesque lectus\, nec vehicula nibh risus ac leo. Mauris volutpat aliquam tellus nec rhoncus. Aliquam et nibh pulvinar\, sodales nibh et\, pretium urna. Vivamus quam augue\, maximus in consequat imperdiet\, iaculis non nibh. Aliquam erat volutpat. Curabitur venenatis massa sed lacus tristique\, non auctor nisl sodales. Sed ultricies lacus ut libero faucibus fringilla. Ut nisi tellus\, posuere vel mattis nec\, convallis a metus. Nullam elementum molestie felis nec lobortis. Cras at justo eu elit semper tempor sed quis orci. In risus magna\, malesuada vel elementum ut\, finibus et nunc. \n 
URL:https://teamlinkinc.com/event/green-festivals/
LOCATION:Central Park\, Brooklyn\, NY 10036\, New York\, AK\, United States
CATEGORIES:Festival Foods
ATTACH;FMTTYPE=image/jpeg:https://teamlinkinc.com/wp-content/uploads/2016/08/02.jpg
ORGANIZER;CN="Nick Sims":MAILTO:sims@example.com
GEO:65.4936111;-167.6841667
X-APPLE-STRUCTURED-LOCATION;VALUE=URI;X-ADDRESS=Central Park Brooklyn NY 10036 New York AK United States;X-APPLE-RADIUS=500;X-TITLE=Brooklyn\, NY 10036:geo:-167.6841667,65.4936111
END:VEVENT
BEGIN:VEVENT
DTSTART;VALUE=DATE:20160801
DTEND;VALUE=DATE:20160804
DTSTAMP:20260423T183901
CREATED:20160607T105831Z
LAST-MODIFIED:20160607T105831Z
UID:13228-1470009600-1470268799@teamlinkinc.com
SUMMARY:Green Festivals
DESCRIPTION:Cras dapibus ullamcorper dictum. Vivamus nec erat placerat felis scelerisque porttitor in ac turpis. In nec imperdiet turpis. Suspendisse quis orci ut orci pulvinar eleifend. Nulla eu mattis ipsum. Integer eget sagittis nulla. Praesent consectetur lacus et maximus eleifend. Integer non lacus dui. Mauris tortor diam\, laoreet quis commodo vitae\, sodales vel augue.| Sed rutrum\, libero non pretium tristique\, arcu mi sollicitudin ex\, quis venenatis orci tellus vel dolor. Donec gravida\, dolor ut auctor facilisis\, enim dolor pellentesque lectus\, nec vehicula nibh risus ac leo. Mauris volutpat aliquam tellus nec rhoncus. Aliquam et nibh pulvinar\, sodales nibh et\, pretium urna. Vivamus quam augue\, maximus in consequat imperdiet\, iaculis non nibh. Aliquam erat volutpat. Curabitur venenatis massa sed lacus tristique\, non auctor nisl sodales. Sed ultricies lacus ut libero faucibus fringilla. Ut nisi tellus\, posuere vel mattis nec\, convallis a metus. Nullam elementum molestie felis nec lobortis. Cras at justo eu elit semper tempor sed quis orci. In risus magna\, malesuada vel elementum ut\, finibus et nunc. \n 
URL:https://teamlinkinc.com/event/green-festivals-2/
LOCATION:Central Park\, Brooklyn\, NY 10036\, New York\, AK\, United States
CATEGORIES:Festival Foods
ATTACH;FMTTYPE=image/jpeg:https://teamlinkinc.com/wp-content/uploads/2016/08/02.jpg
ORGANIZER;CN="Nick Sims":MAILTO:sims@example.com
GEO:65.4936111;-167.6841667
X-APPLE-STRUCTURED-LOCATION;VALUE=URI;X-ADDRESS=Central Park Brooklyn NY 10036 New York AK United States;X-APPLE-RADIUS=500;X-TITLE=Brooklyn\, NY 10036:geo:-167.6841667,65.4936111
END:VEVENT
END:VCALENDAR