BEGIN:VCALENDAR
VERSION:2.0
PRODID:-//Teamlink and Shenandoah Mountain Guides - ECPv6.15.13.1//NONSGML v1.0//EN
CALSCALE:GREGORIAN
METHOD:PUBLISH
X-ORIGINAL-URL:https://teamlinkinc.com
X-WR-CALDESC:Events for Teamlink and Shenandoah Mountain Guides
REFRESH-INTERVAL;VALUE=DURATION:PT1H
X-Robots-Tag:noindex
X-PUBLISHED-TTL:PT1H
BEGIN:VTIMEZONE
TZID:America/New_York
BEGIN:DAYLIGHT
TZOFFSETFROM:-0500
TZOFFSETTO:-0400
TZNAME:EDT
DTSTART:20250309T070000
END:DAYLIGHT
BEGIN:STANDARD
TZOFFSETFROM:-0400
TZOFFSETTO:-0500
TZNAME:EST
DTSTART:20251102T060000
END:STANDARD
BEGIN:DAYLIGHT
TZOFFSETFROM:-0500
TZOFFSETTO:-0400
TZNAME:EDT
DTSTART:20260308T070000
END:DAYLIGHT
BEGIN:STANDARD
TZOFFSETFROM:-0400
TZOFFSETTO:-0500
TZNAME:EST
DTSTART:20261101T060000
END:STANDARD
BEGIN:DAYLIGHT
TZOFFSETFROM:-0500
TZOFFSETTO:-0400
TZNAME:EDT
DTSTART:20270314T070000
END:DAYLIGHT
BEGIN:STANDARD
TZOFFSETFROM:-0400
TZOFFSETTO:-0500
TZNAME:EST
DTSTART:20271107T060000
END:STANDARD
END:VTIMEZONE
BEGIN:VTIMEZONE
TZID:UTC
BEGIN:STANDARD
TZOFFSETFROM:+0000
TZOFFSETTO:+0000
TZNAME:UTC
DTSTART:20250101T000000
END:STANDARD
END:VTIMEZONE
BEGIN:VEVENT
DTSTART;TZID=America/New_York:20261201T080000
DTEND;TZID=America/New_York:20261201T170000
DTSTAMP:20260423T194012
CREATED:20250710T115341Z
LAST-MODIFIED:20260422T005008Z
UID:25992-1796112000-1796144400@teamlinkinc.com
SUMMARY:*Private Adventure
DESCRIPTION:Sometimes\, you just want to experience the exhilaration of adventure with just you\, your special friends and a guide. This is for you! You can choose from any of our adventures and classes\, or combine any of them into a custom trip. ( we can help you design the experience) \nAll trips are guided by Andy… \nAll Private Adventures are led by Andy Nichols\, one of the top outdoor adventure educators in the country. Andy has been recognized as an “Outdoor Legend” by “Blue Ridge Outdoors” magazine\, and has been featured in magazines including National Geographic Adventure and Southern Living. His students range from Tier 1 operators to Scouts\, from corporate executives to family vacationers\, from NPS Search and Rescue teams to foreign embassy staff. His more than 50 years of experience will guarantee that you will have an amazing time!
URL:https://teamlinkinc.com/event/private-adventure/2026-12-01/
END:VEVENT
BEGIN:VEVENT
DTSTART;TZID=America/New_York:20261202T080000
DTEND;TZID=America/New_York:20261202T170000
DTSTAMP:20260423T194012
CREATED:20250710T115341Z
LAST-MODIFIED:20260422T005009Z
UID:25993-1796198400-1796230800@teamlinkinc.com
SUMMARY:*Private Adventure
DESCRIPTION:Sometimes\, you just want to experience the exhilaration of adventure with just you\, your special friends and a guide. This is for you! You can choose from any of our adventures and classes\, or combine any of them into a custom trip. ( we can help you design the experience) \nAll trips are guided by Andy… \nAll Private Adventures are led by Andy Nichols\, one of the top outdoor adventure educators in the country. Andy has been recognized as an “Outdoor Legend” by “Blue Ridge Outdoors” magazine\, and has been featured in magazines including National Geographic Adventure and Southern Living. His students range from Tier 1 operators to Scouts\, from corporate executives to family vacationers\, from NPS Search and Rescue teams to foreign embassy staff. His more than 50 years of experience will guarantee that you will have an amazing time!
URL:https://teamlinkinc.com/event/private-adventure/2026-12-02/
END:VEVENT
BEGIN:VEVENT
DTSTART;TZID=America/New_York:20261203T080000
DTEND;TZID=America/New_York:20261203T170000
DTSTAMP:20260423T194012
CREATED:20250710T115341Z
LAST-MODIFIED:20260422T005009Z
UID:25994-1796284800-1796317200@teamlinkinc.com
SUMMARY:*Private Adventure
DESCRIPTION:Sometimes\, you just want to experience the exhilaration of adventure with just you\, your special friends and a guide. This is for you! You can choose from any of our adventures and classes\, or combine any of them into a custom trip. ( we can help you design the experience) \nAll trips are guided by Andy… \nAll Private Adventures are led by Andy Nichols\, one of the top outdoor adventure educators in the country. Andy has been recognized as an “Outdoor Legend” by “Blue Ridge Outdoors” magazine\, and has been featured in magazines including National Geographic Adventure and Southern Living. His students range from Tier 1 operators to Scouts\, from corporate executives to family vacationers\, from NPS Search and Rescue teams to foreign embassy staff. His more than 50 years of experience will guarantee that you will have an amazing time!
URL:https://teamlinkinc.com/event/private-adventure/2026-12-03/
END:VEVENT
BEGIN:VEVENT
DTSTART;TZID=America/New_York:20261204T080000
DTEND;TZID=America/New_York:20261204T170000
DTSTAMP:20260423T194012
CREATED:20250710T115341Z
LAST-MODIFIED:20260422T005009Z
UID:25995-1796371200-1796403600@teamlinkinc.com
SUMMARY:*Private Adventure
DESCRIPTION:Sometimes\, you just want to experience the exhilaration of adventure with just you\, your special friends and a guide. This is for you! You can choose from any of our adventures and classes\, or combine any of them into a custom trip. ( we can help you design the experience) \nAll trips are guided by Andy… \nAll Private Adventures are led by Andy Nichols\, one of the top outdoor adventure educators in the country. Andy has been recognized as an “Outdoor Legend” by “Blue Ridge Outdoors” magazine\, and has been featured in magazines including National Geographic Adventure and Southern Living. His students range from Tier 1 operators to Scouts\, from corporate executives to family vacationers\, from NPS Search and Rescue teams to foreign embassy staff. His more than 50 years of experience will guarantee that you will have an amazing time!
URL:https://teamlinkinc.com/event/private-adventure/2026-12-04/
END:VEVENT
BEGIN:VEVENT
DTSTART;TZID=UTC:20261204T090000
DTEND;TZID=UTC:20261204T153000
DTSTAMP:20260423T194012
CREATED:20170406T011944Z
LAST-MODIFIED:20260422T005319Z
UID:26556-1796374800-1796398200@teamlinkinc.com
SUMMARY:Map and Compass (Land Navigation)
DESCRIPTION:Learn about land navigation in the absence of technology. Magnetic Compass\, topographic map.. even the Sun! Learn how to find out: Where you are; Where you are going; and\, How you are going to get there. This is a full day course\, taught outdoors\, in the mountains! All needed equipment is provided. Never feel helplessly lost again! \nNavigation in the absence of technology is a thousands of years old skill…. But it’s not rocket science. Too many navigation courses become needlessly complex and overly complicated… and leave students more frustrated than empowered… and that is definitely not fun! \nSee why our class draws students from all over the country.\nIt’s simple\, it’s effective\, it’s fun! \n  \nTaught in the mountains of Virginia’s Shenandoah National Park National Park\, and Maryland’s Catoctin Mountains\, the scenery just adds to the magic! \nMaryland dates: \nMarch 6\, April 3\, May 1\, August 7\, September 4\, October 2\, November 6 \n*This class can be offered anytime during the year and in many locations. It is not restricted to just the dates shown. Contact us to schedule your custom class. \n 
URL:https://teamlinkinc.com/event/map-compass-land-navigation/2026-12-04/
LOCATION:Various
CATEGORIES:Outdoor skill classes
ORGANIZER;CN="Shenandoah Mountain Guides":MAILTO:mtnjedi@gmail.com
END:VEVENT
BEGIN:VEVENT
DTSTART;TZID=America/New_York:20261205T080000
DTEND;TZID=America/New_York:20261205T170000
DTSTAMP:20260423T194012
CREATED:20250710T115341Z
LAST-MODIFIED:20260422T005009Z
UID:25996-1796457600-1796490000@teamlinkinc.com
SUMMARY:*Private Adventure
DESCRIPTION:Sometimes\, you just want to experience the exhilaration of adventure with just you\, your special friends and a guide. This is for you! You can choose from any of our adventures and classes\, or combine any of them into a custom trip. ( we can help you design the experience) \nAll trips are guided by Andy… \nAll Private Adventures are led by Andy Nichols\, one of the top outdoor adventure educators in the country. Andy has been recognized as an “Outdoor Legend” by “Blue Ridge Outdoors” magazine\, and has been featured in magazines including National Geographic Adventure and Southern Living. His students range from Tier 1 operators to Scouts\, from corporate executives to family vacationers\, from NPS Search and Rescue teams to foreign embassy staff. His more than 50 years of experience will guarantee that you will have an amazing time!
URL:https://teamlinkinc.com/event/private-adventure/2026-12-05/
END:VEVENT
BEGIN:VEVENT
DTSTART;TZID=America/New_York:20261206T080000
DTEND;TZID=America/New_York:20261206T170000
DTSTAMP:20260423T194012
CREATED:20250710T115341Z
LAST-MODIFIED:20260422T005009Z
UID:25997-1796544000-1796576400@teamlinkinc.com
SUMMARY:*Private Adventure
DESCRIPTION:Sometimes\, you just want to experience the exhilaration of adventure with just you\, your special friends and a guide. This is for you! You can choose from any of our adventures and classes\, or combine any of them into a custom trip. ( we can help you design the experience) \nAll trips are guided by Andy… \nAll Private Adventures are led by Andy Nichols\, one of the top outdoor adventure educators in the country. Andy has been recognized as an “Outdoor Legend” by “Blue Ridge Outdoors” magazine\, and has been featured in magazines including National Geographic Adventure and Southern Living. His students range from Tier 1 operators to Scouts\, from corporate executives to family vacationers\, from NPS Search and Rescue teams to foreign embassy staff. His more than 50 years of experience will guarantee that you will have an amazing time!
URL:https://teamlinkinc.com/event/private-adventure/2026-12-06/
END:VEVENT
BEGIN:VEVENT
DTSTART;TZID=America/New_York:20261207T080000
DTEND;TZID=America/New_York:20261207T170000
DTSTAMP:20260423T194012
CREATED:20250710T115341Z
LAST-MODIFIED:20260422T005009Z
UID:25998-1796630400-1796662800@teamlinkinc.com
SUMMARY:*Private Adventure
DESCRIPTION:Sometimes\, you just want to experience the exhilaration of adventure with just you\, your special friends and a guide. This is for you! You can choose from any of our adventures and classes\, or combine any of them into a custom trip. ( we can help you design the experience) \nAll trips are guided by Andy… \nAll Private Adventures are led by Andy Nichols\, one of the top outdoor adventure educators in the country. Andy has been recognized as an “Outdoor Legend” by “Blue Ridge Outdoors” magazine\, and has been featured in magazines including National Geographic Adventure and Southern Living. His students range from Tier 1 operators to Scouts\, from corporate executives to family vacationers\, from NPS Search and Rescue teams to foreign embassy staff. His more than 50 years of experience will guarantee that you will have an amazing time!
URL:https://teamlinkinc.com/event/private-adventure/2026-12-07/
END:VEVENT
BEGIN:VEVENT
DTSTART;TZID=America/New_York:20261208T080000
DTEND;TZID=America/New_York:20261208T170000
DTSTAMP:20260423T194012
CREATED:20250710T115341Z
LAST-MODIFIED:20260422T005009Z
UID:25999-1796716800-1796749200@teamlinkinc.com
SUMMARY:*Private Adventure
DESCRIPTION:Sometimes\, you just want to experience the exhilaration of adventure with just you\, your special friends and a guide. This is for you! You can choose from any of our adventures and classes\, or combine any of them into a custom trip. ( we can help you design the experience) \nAll trips are guided by Andy… \nAll Private Adventures are led by Andy Nichols\, one of the top outdoor adventure educators in the country. Andy has been recognized as an “Outdoor Legend” by “Blue Ridge Outdoors” magazine\, and has been featured in magazines including National Geographic Adventure and Southern Living. His students range from Tier 1 operators to Scouts\, from corporate executives to family vacationers\, from NPS Search and Rescue teams to foreign embassy staff. His more than 50 years of experience will guarantee that you will have an amazing time!
URL:https://teamlinkinc.com/event/private-adventure/2026-12-08/
END:VEVENT
BEGIN:VEVENT
DTSTART;TZID=America/New_York:20261209T080000
DTEND;TZID=America/New_York:20261209T170000
DTSTAMP:20260423T194012
CREATED:20250710T115341Z
LAST-MODIFIED:20260422T005010Z
UID:26000-1796803200-1796835600@teamlinkinc.com
SUMMARY:*Private Adventure
DESCRIPTION:Sometimes\, you just want to experience the exhilaration of adventure with just you\, your special friends and a guide. This is for you! You can choose from any of our adventures and classes\, or combine any of them into a custom trip. ( we can help you design the experience) \nAll trips are guided by Andy… \nAll Private Adventures are led by Andy Nichols\, one of the top outdoor adventure educators in the country. Andy has been recognized as an “Outdoor Legend” by “Blue Ridge Outdoors” magazine\, and has been featured in magazines including National Geographic Adventure and Southern Living. His students range from Tier 1 operators to Scouts\, from corporate executives to family vacationers\, from NPS Search and Rescue teams to foreign embassy staff. His more than 50 years of experience will guarantee that you will have an amazing time!
URL:https://teamlinkinc.com/event/private-adventure/2026-12-09/
END:VEVENT
BEGIN:VEVENT
DTSTART;TZID=America/New_York:20261210T080000
DTEND;TZID=America/New_York:20261210T170000
DTSTAMP:20260423T194012
CREATED:20250710T115341Z
LAST-MODIFIED:20260422T005010Z
UID:26001-1796889600-1796922000@teamlinkinc.com
SUMMARY:*Private Adventure
DESCRIPTION:Sometimes\, you just want to experience the exhilaration of adventure with just you\, your special friends and a guide. This is for you! You can choose from any of our adventures and classes\, or combine any of them into a custom trip. ( we can help you design the experience) \nAll trips are guided by Andy… \nAll Private Adventures are led by Andy Nichols\, one of the top outdoor adventure educators in the country. Andy has been recognized as an “Outdoor Legend” by “Blue Ridge Outdoors” magazine\, and has been featured in magazines including National Geographic Adventure and Southern Living. His students range from Tier 1 operators to Scouts\, from corporate executives to family vacationers\, from NPS Search and Rescue teams to foreign embassy staff. His more than 50 years of experience will guarantee that you will have an amazing time!
URL:https://teamlinkinc.com/event/private-adventure/2026-12-10/
END:VEVENT
BEGIN:VEVENT
DTSTART;TZID=America/New_York:20261211T080000
DTEND;TZID=America/New_York:20261211T170000
DTSTAMP:20260423T194012
CREATED:20250710T115341Z
LAST-MODIFIED:20260422T005010Z
UID:26002-1796976000-1797008400@teamlinkinc.com
SUMMARY:*Private Adventure
DESCRIPTION:Sometimes\, you just want to experience the exhilaration of adventure with just you\, your special friends and a guide. This is for you! You can choose from any of our adventures and classes\, or combine any of them into a custom trip. ( we can help you design the experience) \nAll trips are guided by Andy… \nAll Private Adventures are led by Andy Nichols\, one of the top outdoor adventure educators in the country. Andy has been recognized as an “Outdoor Legend” by “Blue Ridge Outdoors” magazine\, and has been featured in magazines including National Geographic Adventure and Southern Living. His students range from Tier 1 operators to Scouts\, from corporate executives to family vacationers\, from NPS Search and Rescue teams to foreign embassy staff. His more than 50 years of experience will guarantee that you will have an amazing time!
URL:https://teamlinkinc.com/event/private-adventure/2026-12-11/
END:VEVENT
BEGIN:VEVENT
DTSTART;TZID=UTC:20261211T090000
DTEND;TZID=UTC:20261211T153000
DTSTAMP:20260423T194012
CREATED:20170406T020046Z
LAST-MODIFIED:20260422T005448Z
UID:25327-1796979600-1797003000@teamlinkinc.com
SUMMARY:Intro to Outdoor Survival/Basic Skills
DESCRIPTION:When everything goes wrong\, learn to not just survive\, but to thrive! \nIf you are interested in preparing for the worst\, this is a great place to start! \nHighly experiential.. learn the skills to survive! Build your own survival kit.. This is fieldcraft and outdoor knowledge and wisdom at the next level.. learn about water acquisition\, shelter\, signalling\, fire building\, navigation and so much more.The first half is class the second half is in the field.\nNo one who enjoys the outdoors should be without this class! \nThis was developed by Teamlink for the Discovery Channel in support of their Bear Grylls series… \n(Classes are offered in Shenandoah National Park\, Virginia and the Catoctin Mountains of Maryland) \nMaryland dates: \nMarch 27\, April 24\, May 22\, June 26\, August 28\, September 25\, October 23 \n*This class can be scheduled upon demand. It is not restricted to the dates indicated
URL:https://teamlinkinc.com/event/introduction-to-survival/2026-12-11/
LOCATION:Various
CATEGORIES:Outdoor skill classes
ORGANIZER;CN="Shenandoah Mountain Guides":MAILTO:mtnjedi@gmail.com
END:VEVENT
BEGIN:VEVENT
DTSTART;TZID=America/New_York:20261212T080000
DTEND;TZID=America/New_York:20261212T170000
DTSTAMP:20260423T194012
CREATED:20250710T115341Z
LAST-MODIFIED:20260422T005011Z
UID:26003-1797062400-1797094800@teamlinkinc.com
SUMMARY:*Private Adventure
DESCRIPTION:Sometimes\, you just want to experience the exhilaration of adventure with just you\, your special friends and a guide. This is for you! You can choose from any of our adventures and classes\, or combine any of them into a custom trip. ( we can help you design the experience) \nAll trips are guided by Andy… \nAll Private Adventures are led by Andy Nichols\, one of the top outdoor adventure educators in the country. Andy has been recognized as an “Outdoor Legend” by “Blue Ridge Outdoors” magazine\, and has been featured in magazines including National Geographic Adventure and Southern Living. His students range from Tier 1 operators to Scouts\, from corporate executives to family vacationers\, from NPS Search and Rescue teams to foreign embassy staff. His more than 50 years of experience will guarantee that you will have an amazing time!
URL:https://teamlinkinc.com/event/private-adventure/2026-12-12/
END:VEVENT
BEGIN:VEVENT
DTSTART;TZID=America/New_York:20261212T090000
DTEND;TZID=America/New_York:20261212T153000
DTSTAMP:20260423T194012
CREATED:20240124T190439Z
LAST-MODIFIED:20260412T213209Z
UID:25454-1797066000-1797089400@teamlinkinc.com
SUMMARY:Rappelling
DESCRIPTION:Experience the thrill of accessing places in the vertical realm! \n \n  \n  \nLearn the techniques to harness gravity to explore cliffs\, canyons and structures. Rappelling is a skill used for recreation\, work and rescue \nEquipment\, self rescue\, safety\, knots\, anchors and so much more are covered in this comprehensive introduction. \nAll necessary equipment his provided for this class. \n 
URL:https://teamlinkinc.com/event/rappelling/2026-12-12/
CATEGORIES:Outdoor skills
END:VEVENT
BEGIN:VEVENT
DTSTART;TZID=America/New_York:20261213T080000
DTEND;TZID=America/New_York:20261213T170000
DTSTAMP:20260423T194012
CREATED:20250710T115341Z
LAST-MODIFIED:20260422T005011Z
UID:26004-1797148800-1797181200@teamlinkinc.com
SUMMARY:*Private Adventure
DESCRIPTION:Sometimes\, you just want to experience the exhilaration of adventure with just you\, your special friends and a guide. This is for you! You can choose from any of our adventures and classes\, or combine any of them into a custom trip. ( we can help you design the experience) \nAll trips are guided by Andy… \nAll Private Adventures are led by Andy Nichols\, one of the top outdoor adventure educators in the country. Andy has been recognized as an “Outdoor Legend” by “Blue Ridge Outdoors” magazine\, and has been featured in magazines including National Geographic Adventure and Southern Living. His students range from Tier 1 operators to Scouts\, from corporate executives to family vacationers\, from NPS Search and Rescue teams to foreign embassy staff. His more than 50 years of experience will guarantee that you will have an amazing time!
URL:https://teamlinkinc.com/event/private-adventure/2026-12-13/
END:VEVENT
BEGIN:VEVENT
DTSTART;TZID=America/New_York:20261214T080000
DTEND;TZID=America/New_York:20261214T170000
DTSTAMP:20260423T194012
CREATED:20250710T115341Z
LAST-MODIFIED:20260422T005011Z
UID:26005-1797235200-1797267600@teamlinkinc.com
SUMMARY:*Private Adventure
DESCRIPTION:Sometimes\, you just want to experience the exhilaration of adventure with just you\, your special friends and a guide. This is for you! You can choose from any of our adventures and classes\, or combine any of them into a custom trip. ( we can help you design the experience) \nAll trips are guided by Andy… \nAll Private Adventures are led by Andy Nichols\, one of the top outdoor adventure educators in the country. Andy has been recognized as an “Outdoor Legend” by “Blue Ridge Outdoors” magazine\, and has been featured in magazines including National Geographic Adventure and Southern Living. His students range from Tier 1 operators to Scouts\, from corporate executives to family vacationers\, from NPS Search and Rescue teams to foreign embassy staff. His more than 50 years of experience will guarantee that you will have an amazing time!
URL:https://teamlinkinc.com/event/private-adventure/2026-12-14/
END:VEVENT
BEGIN:VEVENT
DTSTART;TZID=America/New_York:20261215T080000
DTEND;TZID=America/New_York:20261215T170000
DTSTAMP:20260423T194012
CREATED:20250710T115341Z
LAST-MODIFIED:20260422T005011Z
UID:26006-1797321600-1797354000@teamlinkinc.com
SUMMARY:*Private Adventure
DESCRIPTION:Sometimes\, you just want to experience the exhilaration of adventure with just you\, your special friends and a guide. This is for you! You can choose from any of our adventures and classes\, or combine any of them into a custom trip. ( we can help you design the experience) \nAll trips are guided by Andy… \nAll Private Adventures are led by Andy Nichols\, one of the top outdoor adventure educators in the country. Andy has been recognized as an “Outdoor Legend” by “Blue Ridge Outdoors” magazine\, and has been featured in magazines including National Geographic Adventure and Southern Living. His students range from Tier 1 operators to Scouts\, from corporate executives to family vacationers\, from NPS Search and Rescue teams to foreign embassy staff. His more than 50 years of experience will guarantee that you will have an amazing time!
URL:https://teamlinkinc.com/event/private-adventure/2026-12-15/
END:VEVENT
BEGIN:VEVENT
DTSTART;TZID=UTC:20261218T090000
DTEND;TZID=UTC:20261218T153000
DTSTAMP:20260423T194012
CREATED:20170406T011944Z
LAST-MODIFIED:20260422T005319Z
UID:26557-1797584400-1797607800@teamlinkinc.com
SUMMARY:Map and Compass (Land Navigation)
DESCRIPTION:Learn about land navigation in the absence of technology. Magnetic Compass\, topographic map.. even the Sun! Learn how to find out: Where you are; Where you are going; and\, How you are going to get there. This is a full day course\, taught outdoors\, in the mountains! All needed equipment is provided. Never feel helplessly lost again! \nNavigation in the absence of technology is a thousands of years old skill…. But it’s not rocket science. Too many navigation courses become needlessly complex and overly complicated… and leave students more frustrated than empowered… and that is definitely not fun! \nSee why our class draws students from all over the country.\nIt’s simple\, it’s effective\, it’s fun! \n  \nTaught in the mountains of Virginia’s Shenandoah National Park National Park\, and Maryland’s Catoctin Mountains\, the scenery just adds to the magic! \nMaryland dates: \nMarch 6\, April 3\, May 1\, August 7\, September 4\, October 2\, November 6 \n*This class can be offered anytime during the year and in many locations. It is not restricted to just the dates shown. Contact us to schedule your custom class. \n 
URL:https://teamlinkinc.com/event/map-compass-land-navigation/2026-12-18/
LOCATION:Various
CATEGORIES:Outdoor skill classes
ORGANIZER;CN="Shenandoah Mountain Guides":MAILTO:mtnjedi@gmail.com
END:VEVENT
BEGIN:VEVENT
DTSTART;TZID=UTC:20261225T090000
DTEND;TZID=UTC:20261225T153000
DTSTAMP:20260423T194012
CREATED:20170406T020046Z
LAST-MODIFIED:20260422T005448Z
UID:26458-1798189200-1798212600@teamlinkinc.com
SUMMARY:Intro to Outdoor Survival/Basic Skills
DESCRIPTION:When everything goes wrong\, learn to not just survive\, but to thrive! \nIf you are interested in preparing for the worst\, this is a great place to start! \nHighly experiential.. learn the skills to survive! Build your own survival kit.. This is fieldcraft and outdoor knowledge and wisdom at the next level.. learn about water acquisition\, shelter\, signalling\, fire building\, navigation and so much more.The first half is class the second half is in the field.\nNo one who enjoys the outdoors should be without this class! \nThis was developed by Teamlink for the Discovery Channel in support of their Bear Grylls series… \n(Classes are offered in Shenandoah National Park\, Virginia and the Catoctin Mountains of Maryland) \nMaryland dates: \nMarch 27\, April 24\, May 22\, June 26\, August 28\, September 25\, October 23 \n*This class can be scheduled upon demand. It is not restricted to the dates indicated
URL:https://teamlinkinc.com/event/introduction-to-survival/2026-12-25/
LOCATION:Various
CATEGORIES:Outdoor skill classes
ORGANIZER;CN="Shenandoah Mountain Guides":MAILTO:mtnjedi@gmail.com
END:VEVENT
END:VCALENDAR