BEGIN:VCALENDAR
VERSION:2.0
PRODID:-//Teamlink and Shenandoah Mountain Guides - ECPv6.15.13.1//NONSGML v1.0//EN
CALSCALE:GREGORIAN
METHOD:PUBLISH
X-WR-CALNAME:Teamlink and Shenandoah Mountain Guides
X-ORIGINAL-URL:https://teamlinkinc.com
X-WR-CALDESC:Events for Teamlink and Shenandoah Mountain Guides
REFRESH-INTERVAL;VALUE=DURATION:PT1H
X-Robots-Tag:noindex
X-PUBLISHED-TTL:PT1H
BEGIN:VTIMEZONE
TZID:America/New_York
BEGIN:DAYLIGHT
TZOFFSETFROM:-0500
TZOFFSETTO:-0400
TZNAME:EDT
DTSTART:20240310T070000
END:DAYLIGHT
BEGIN:STANDARD
TZOFFSETFROM:-0400
TZOFFSETTO:-0500
TZNAME:EST
DTSTART:20241103T060000
END:STANDARD
BEGIN:DAYLIGHT
TZOFFSETFROM:-0500
TZOFFSETTO:-0400
TZNAME:EDT
DTSTART:20250309T070000
END:DAYLIGHT
BEGIN:STANDARD
TZOFFSETFROM:-0400
TZOFFSETTO:-0500
TZNAME:EST
DTSTART:20251102T060000
END:STANDARD
BEGIN:DAYLIGHT
TZOFFSETFROM:-0500
TZOFFSETTO:-0400
TZNAME:EDT
DTSTART:20260308T070000
END:DAYLIGHT
BEGIN:STANDARD
TZOFFSETFROM:-0400
TZOFFSETTO:-0500
TZNAME:EST
DTSTART:20261101T060000
END:STANDARD
END:VTIMEZONE
BEGIN:VEVENT
DTSTART;TZID=America/New_York:20250726T080000
DTEND;TZID=America/New_York:20250726T170000
DTSTAMP:20260424T020648
CREATED:20250710T105415Z
LAST-MODIFIED:20250712T141201Z
UID:24531-1753516800-1753549200@teamlinkinc.com
SUMMARY:Special
DESCRIPTION:Private event
URL:https://teamlinkinc.com/event/special/
END:VEVENT
END:VCALENDAR