BEGIN:VCALENDAR
VERSION:2.0
PRODID:-//Teamlink and Shenandoah Mountain Guides - ECPv6.15.13.1//NONSGML v1.0//EN
CALSCALE:GREGORIAN
METHOD:PUBLISH
X-WR-CALNAME:Teamlink and Shenandoah Mountain Guides
X-ORIGINAL-URL:https://teamlinkinc.com
X-WR-CALDESC:Events for Teamlink and Shenandoah Mountain Guides
REFRESH-INTERVAL;VALUE=DURATION:PT1H
X-Robots-Tag:noindex
X-PUBLISHED-TTL:PT1H
BEGIN:VTIMEZONE
TZID:America/New_York
BEGIN:DAYLIGHT
TZOFFSETFROM:-0500
TZOFFSETTO:-0400
TZNAME:EDT
DTSTART:20250309T070000
END:DAYLIGHT
BEGIN:STANDARD
TZOFFSETFROM:-0400
TZOFFSETTO:-0500
TZNAME:EST
DTSTART:20251102T060000
END:STANDARD
BEGIN:DAYLIGHT
TZOFFSETFROM:-0500
TZOFFSETTO:-0400
TZNAME:EDT
DTSTART:20260308T070000
END:DAYLIGHT
BEGIN:STANDARD
TZOFFSETFROM:-0400
TZOFFSETTO:-0500
TZNAME:EST
DTSTART:20261101T060000
END:STANDARD
BEGIN:DAYLIGHT
TZOFFSETFROM:-0500
TZOFFSETTO:-0400
TZNAME:EDT
DTSTART:20270314T070000
END:DAYLIGHT
BEGIN:STANDARD
TZOFFSETFROM:-0400
TZOFFSETTO:-0500
TZNAME:EST
DTSTART:20271107T060000
END:STANDARD
END:VTIMEZONE
BEGIN:VTIMEZONE
TZID:UTC
BEGIN:STANDARD
TZOFFSETFROM:+0000
TZOFFSETTO:+0000
TZNAME:UTC
DTSTART:20250101T000000
END:STANDARD
END:VTIMEZONE
BEGIN:VEVENT
DTSTART;TZID=America/New_York:20260629T080000
DTEND;TZID=America/New_York:20260629T170000
DTSTAMP:20260423T144347
CREATED:20250710T115341Z
LAST-MODIFIED:20260422T004931Z
UID:25837-1782720000-1782752400@teamlinkinc.com
SUMMARY:*Private Adventure
DESCRIPTION:Sometimes\, you just want to experience the exhilaration of adventure with just you\, your special friends and a guide. This is for you! You can choose from any of our adventures and classes\, or combine any of them into a custom trip. ( we can help you design the experience) \nAll trips are guided by Andy… \nAll Private Adventures are led by Andy Nichols\, one of the top outdoor adventure educators in the country. Andy has been recognized as an “Outdoor Legend” by “Blue Ridge Outdoors” magazine\, and has been featured in magazines including National Geographic Adventure and Southern Living. His students range from Tier 1 operators to Scouts\, from corporate executives to family vacationers\, from NPS Search and Rescue teams to foreign embassy staff. His more than 50 years of experience will guarantee that you will have an amazing time!
URL:https://teamlinkinc.com/event/private-adventure/2026-06-29/
END:VEVENT
BEGIN:VEVENT
DTSTART;TZID=UTC:20260629T090000
DTEND;TZID=UTC:20260629T150000
DTSTAMP:20260423T144347
CREATED:20170402T031224Z
LAST-MODIFIED:20260422T004747Z
UID:25570-1782723600-1782745200@teamlinkinc.com
SUMMARY:Rock Climbing
DESCRIPTION:Get that “aired-out” feeling\, while climbing almost 3000’ above the Shenandoah Valley floor*. This is an unforgettable experience that will make your trip to Shenandoah National Park complete*… a full day of adventure for both young and young at heart. All necessary gear is provided. Advance registration isrequired. This is an introductory thru intermediate level climbing program. \n \nThe climbing programs are not extraordinarily physically demanding (for a person of average fitness)\, but they can be psychologically challenging.\nAll participants should bring a camera for this exciting day!\n*For convenience\, we have permits for guiding at climbing sites throughout the four state (PA\, MD\, VA and WV) region. \nAll climbing days are led by Andy Nichols\, one of the top outdoor adventure educators in the country. Andy has been recognized as an “Outdoor Legend” by “Blue Ridge Outdoors” magazine\, and has been featured in magazines including National Geographic Adventure and Southern Living. His students range from Tier 1 operators to Scouts\, from corporate executives to family vacationers\, from NPS Search and Rescue teams to foreign embassy staff. His more than 50 years of experience will guarantee that you will have an amazing time! \n**If you have a day in mind for a climbing adventure\, and it is not shown on the calendar\, with sufficient advance planning we can probably arrange it. \nCall us at 301.667.3560 or email mtnjedi@gmail for more information \n 
URL:https://teamlinkinc.com/event/rock-climbing-2020-06-09/2026-06-29/
LOCATION:Shenandoah National Park
CATEGORIES:Rock Climbing
ORGANIZER;CN="Shenandoah Mountain Guides":MAILTO:mtnjedi@gmail.com
END:VEVENT
BEGIN:VEVENT
DTSTART;TZID=UTC:20260629T090000
DTEND;TZID=UTC:20260629T150000
DTSTAMP:20260423T144347
CREATED:20200829T010334Z
LAST-MODIFIED:20260210T163424Z
UID:25258-1782723600-1782745200@teamlinkinc.com
SUMMARY:Cascading 1 (mtn swimming)
DESCRIPTION:There is nothing as sweet as a few laps in some of our mountain pools.. all spring fed\, all bracingly cool\, all dazzlingly crystal clear. These mountain treasures have been destinations for years… the hotter the midsummer day\, the better! Add a few jumping rocks\, a “waterfall jacuzzi”\, a smooth waterslide\, a stream to wade\, and a waterfall to rappel through….  and it is the perfect getaway adventure day.. for families and friends. \nCascading is basically wet\, very wet\, canyoneering. \nAll cascading days are led by Andy Nichols\, one of the top outdoor adventure educators in the country. Andy has been recognized as an “Outdoor Legend” by “Blue Ridge Outdoors” magazine\, and has been featured in magazines including National Geographic Adventure and Southern Living. His students range from Tier 1 operators to Scouts\, from corporate executives to family vacationers\, from NPS Search and Rescue teams to foreign embassy staff. Andy and his team pioneered this sport in the East. His many years of experience will guarantee that you will have an amazing time! \n \nIn fact\, Southern Living Magazine has declared our cascading program as “ the best summer adventure in the South”! Come see why!
URL:https://teamlinkinc.com/event/cascading-1-mtn-swimming/2026-06-29/
LOCATION:Various
CATEGORIES:Cascading
END:VEVENT
BEGIN:VEVENT
DTSTART;TZID=America/New_York:20260630T080000
DTEND;TZID=America/New_York:20260630T170000
DTSTAMP:20260423T144347
CREATED:20250710T115341Z
LAST-MODIFIED:20260422T004931Z
UID:25838-1782806400-1782838800@teamlinkinc.com
SUMMARY:*Private Adventure
DESCRIPTION:Sometimes\, you just want to experience the exhilaration of adventure with just you\, your special friends and a guide. This is for you! You can choose from any of our adventures and classes\, or combine any of them into a custom trip. ( we can help you design the experience) \nAll trips are guided by Andy… \nAll Private Adventures are led by Andy Nichols\, one of the top outdoor adventure educators in the country. Andy has been recognized as an “Outdoor Legend” by “Blue Ridge Outdoors” magazine\, and has been featured in magazines including National Geographic Adventure and Southern Living. His students range from Tier 1 operators to Scouts\, from corporate executives to family vacationers\, from NPS Search and Rescue teams to foreign embassy staff. His more than 50 years of experience will guarantee that you will have an amazing time!
URL:https://teamlinkinc.com/event/private-adventure/2026-06-30/
END:VEVENT
BEGIN:VEVENT
DTSTART;TZID=UTC:20260630T090000
DTEND;TZID=UTC:20260630T150000
DTSTAMP:20260423T144347
CREATED:20170402T031224Z
LAST-MODIFIED:20260422T004748Z
UID:25571-1782810000-1782831600@teamlinkinc.com
SUMMARY:Rock Climbing
DESCRIPTION:Get that “aired-out” feeling\, while climbing almost 3000’ above the Shenandoah Valley floor*. This is an unforgettable experience that will make your trip to Shenandoah National Park complete*… a full day of adventure for both young and young at heart. All necessary gear is provided. Advance registration isrequired. This is an introductory thru intermediate level climbing program. \n \nThe climbing programs are not extraordinarily physically demanding (for a person of average fitness)\, but they can be psychologically challenging.\nAll participants should bring a camera for this exciting day!\n*For convenience\, we have permits for guiding at climbing sites throughout the four state (PA\, MD\, VA and WV) region. \nAll climbing days are led by Andy Nichols\, one of the top outdoor adventure educators in the country. Andy has been recognized as an “Outdoor Legend” by “Blue Ridge Outdoors” magazine\, and has been featured in magazines including National Geographic Adventure and Southern Living. His students range from Tier 1 operators to Scouts\, from corporate executives to family vacationers\, from NPS Search and Rescue teams to foreign embassy staff. His more than 50 years of experience will guarantee that you will have an amazing time! \n**If you have a day in mind for a climbing adventure\, and it is not shown on the calendar\, with sufficient advance planning we can probably arrange it. \nCall us at 301.667.3560 or email mtnjedi@gmail for more information \n 
URL:https://teamlinkinc.com/event/rock-climbing-2020-06-09/2026-06-30/
LOCATION:Shenandoah National Park
CATEGORIES:Rock Climbing
ORGANIZER;CN="Shenandoah Mountain Guides":MAILTO:mtnjedi@gmail.com
END:VEVENT
BEGIN:VEVENT
DTSTART;TZID=America/New_York:20260701T080000
DTEND;TZID=America/New_York:20260701T170000
DTSTAMP:20260423T144347
CREATED:20250710T115341Z
LAST-MODIFIED:20260422T004932Z
UID:25839-1782892800-1782925200@teamlinkinc.com
SUMMARY:*Private Adventure
DESCRIPTION:Sometimes\, you just want to experience the exhilaration of adventure with just you\, your special friends and a guide. This is for you! You can choose from any of our adventures and classes\, or combine any of them into a custom trip. ( we can help you design the experience) \nAll trips are guided by Andy… \nAll Private Adventures are led by Andy Nichols\, one of the top outdoor adventure educators in the country. Andy has been recognized as an “Outdoor Legend” by “Blue Ridge Outdoors” magazine\, and has been featured in magazines including National Geographic Adventure and Southern Living. His students range from Tier 1 operators to Scouts\, from corporate executives to family vacationers\, from NPS Search and Rescue teams to foreign embassy staff. His more than 50 years of experience will guarantee that you will have an amazing time!
URL:https://teamlinkinc.com/event/private-adventure/2026-07-01/
END:VEVENT
BEGIN:VEVENT
DTSTART;TZID=UTC:20260701T090000
DTEND;TZID=UTC:20260701T150000
DTSTAMP:20260423T144347
CREATED:20200829T010334Z
LAST-MODIFIED:20260210T163426Z
UID:25259-1782896400-1782918000@teamlinkinc.com
SUMMARY:Cascading 1 (mtn swimming)
DESCRIPTION:There is nothing as sweet as a few laps in some of our mountain pools.. all spring fed\, all bracingly cool\, all dazzlingly crystal clear. These mountain treasures have been destinations for years… the hotter the midsummer day\, the better! Add a few jumping rocks\, a “waterfall jacuzzi”\, a smooth waterslide\, a stream to wade\, and a waterfall to rappel through….  and it is the perfect getaway adventure day.. for families and friends. \nCascading is basically wet\, very wet\, canyoneering. \nAll cascading days are led by Andy Nichols\, one of the top outdoor adventure educators in the country. Andy has been recognized as an “Outdoor Legend” by “Blue Ridge Outdoors” magazine\, and has been featured in magazines including National Geographic Adventure and Southern Living. His students range from Tier 1 operators to Scouts\, from corporate executives to family vacationers\, from NPS Search and Rescue teams to foreign embassy staff. Andy and his team pioneered this sport in the East. His many years of experience will guarantee that you will have an amazing time! \n \nIn fact\, Southern Living Magazine has declared our cascading program as “ the best summer adventure in the South”! Come see why!
URL:https://teamlinkinc.com/event/cascading-1-mtn-swimming/2026-07-01/
LOCATION:Various
CATEGORIES:Cascading
END:VEVENT
BEGIN:VEVENT
DTSTART;TZID=America/New_York:20260701T090000
DTEND;TZID=America/New_York:20260701T160000
DTSTAMP:20260423T144347
CREATED:20250110T214227Z
LAST-MODIFIED:20260210T162940Z
UID:23721-1782896400-1782921600@teamlinkinc.com
SUMMARY:Cascading 2
DESCRIPTION:Ready to step up your adventure level? \n\nHave you completed the level 1 adventure? Are you a swimmer? In pretty good physical condition? \nThen… this is for you!  This trip only runs a few times each year\, but if you are lucky enough to go\, you will NEVER forget it! \n…with multiple waterfall rappels\, exploring remote pools\, and traveling WAY  deep in the canyon\, there are hardly words to fully convey the experience. \n*strong swimming skills and comfort in deeper water are required for this adventure! \n 
URL:https://teamlinkinc.com/event/cascading-2-2/2026-07-01/
CATEGORIES:Cascading
END:VEVENT
BEGIN:VEVENT
DTSTART;TZID=America/New_York:20260702T080000
DTEND;TZID=America/New_York:20260702T170000
DTSTAMP:20260423T144347
CREATED:20250710T115341Z
LAST-MODIFIED:20260422T004932Z
UID:25840-1782979200-1783011600@teamlinkinc.com
SUMMARY:*Private Adventure
DESCRIPTION:Sometimes\, you just want to experience the exhilaration of adventure with just you\, your special friends and a guide. This is for you! You can choose from any of our adventures and classes\, or combine any of them into a custom trip. ( we can help you design the experience) \nAll trips are guided by Andy… \nAll Private Adventures are led by Andy Nichols\, one of the top outdoor adventure educators in the country. Andy has been recognized as an “Outdoor Legend” by “Blue Ridge Outdoors” magazine\, and has been featured in magazines including National Geographic Adventure and Southern Living. His students range from Tier 1 operators to Scouts\, from corporate executives to family vacationers\, from NPS Search and Rescue teams to foreign embassy staff. His more than 50 years of experience will guarantee that you will have an amazing time!
URL:https://teamlinkinc.com/event/private-adventure/2026-07-02/
END:VEVENT
BEGIN:VEVENT
DTSTART;TZID=UTC:20260702T090000
DTEND;TZID=UTC:20260702T150000
DTSTAMP:20260423T144347
CREATED:20170402T031224Z
LAST-MODIFIED:20260422T004748Z
UID:25573-1782982800-1783004400@teamlinkinc.com
SUMMARY:Rock Climbing
DESCRIPTION:Get that “aired-out” feeling\, while climbing almost 3000’ above the Shenandoah Valley floor*. This is an unforgettable experience that will make your trip to Shenandoah National Park complete*… a full day of adventure for both young and young at heart. All necessary gear is provided. Advance registration isrequired. This is an introductory thru intermediate level climbing program. \n \nThe climbing programs are not extraordinarily physically demanding (for a person of average fitness)\, but they can be psychologically challenging.\nAll participants should bring a camera for this exciting day!\n*For convenience\, we have permits for guiding at climbing sites throughout the four state (PA\, MD\, VA and WV) region. \nAll climbing days are led by Andy Nichols\, one of the top outdoor adventure educators in the country. Andy has been recognized as an “Outdoor Legend” by “Blue Ridge Outdoors” magazine\, and has been featured in magazines including National Geographic Adventure and Southern Living. His students range from Tier 1 operators to Scouts\, from corporate executives to family vacationers\, from NPS Search and Rescue teams to foreign embassy staff. His more than 50 years of experience will guarantee that you will have an amazing time! \n**If you have a day in mind for a climbing adventure\, and it is not shown on the calendar\, with sufficient advance planning we can probably arrange it. \nCall us at 301.667.3560 or email mtnjedi@gmail for more information \n 
URL:https://teamlinkinc.com/event/rock-climbing-2020-06-09/2026-07-02/
LOCATION:Shenandoah National Park
CATEGORIES:Rock Climbing
ORGANIZER;CN="Shenandoah Mountain Guides":MAILTO:mtnjedi@gmail.com
END:VEVENT
BEGIN:VEVENT
DTSTART;TZID=America/New_York:20260703T080000
DTEND;TZID=America/New_York:20260703T170000
DTSTAMP:20260423T144347
CREATED:20250710T115341Z
LAST-MODIFIED:20260422T004932Z
UID:25841-1783065600-1783098000@teamlinkinc.com
SUMMARY:*Private Adventure
DESCRIPTION:Sometimes\, you just want to experience the exhilaration of adventure with just you\, your special friends and a guide. This is for you! You can choose from any of our adventures and classes\, or combine any of them into a custom trip. ( we can help you design the experience) \nAll trips are guided by Andy… \nAll Private Adventures are led by Andy Nichols\, one of the top outdoor adventure educators in the country. Andy has been recognized as an “Outdoor Legend” by “Blue Ridge Outdoors” magazine\, and has been featured in magazines including National Geographic Adventure and Southern Living. His students range from Tier 1 operators to Scouts\, from corporate executives to family vacationers\, from NPS Search and Rescue teams to foreign embassy staff. His more than 50 years of experience will guarantee that you will have an amazing time!
URL:https://teamlinkinc.com/event/private-adventure/2026-07-03/
END:VEVENT
BEGIN:VEVENT
DTSTART;TZID=America/New_York:20260704T080000
DTEND;TZID=America/New_York:20260704T170000
DTSTAMP:20260423T144347
CREATED:20250710T115341Z
LAST-MODIFIED:20260422T004933Z
UID:25842-1783152000-1783184400@teamlinkinc.com
SUMMARY:*Private Adventure
DESCRIPTION:Sometimes\, you just want to experience the exhilaration of adventure with just you\, your special friends and a guide. This is for you! You can choose from any of our adventures and classes\, or combine any of them into a custom trip. ( we can help you design the experience) \nAll trips are guided by Andy… \nAll Private Adventures are led by Andy Nichols\, one of the top outdoor adventure educators in the country. Andy has been recognized as an “Outdoor Legend” by “Blue Ridge Outdoors” magazine\, and has been featured in magazines including National Geographic Adventure and Southern Living. His students range from Tier 1 operators to Scouts\, from corporate executives to family vacationers\, from NPS Search and Rescue teams to foreign embassy staff. His more than 50 years of experience will guarantee that you will have an amazing time!
URL:https://teamlinkinc.com/event/private-adventure/2026-07-04/
END:VEVENT
BEGIN:VEVENT
DTSTART;TZID=UTC:20260704T090000
DTEND;TZID=UTC:20260704T150000
DTSTAMP:20260423T144347
CREATED:20170402T031224Z
LAST-MODIFIED:20260422T004748Z
UID:25574-1783155600-1783177200@teamlinkinc.com
SUMMARY:Rock Climbing
DESCRIPTION:Get that “aired-out” feeling\, while climbing almost 3000’ above the Shenandoah Valley floor*. This is an unforgettable experience that will make your trip to Shenandoah National Park complete*… a full day of adventure for both young and young at heart. All necessary gear is provided. Advance registration isrequired. This is an introductory thru intermediate level climbing program. \n \nThe climbing programs are not extraordinarily physically demanding (for a person of average fitness)\, but they can be psychologically challenging.\nAll participants should bring a camera for this exciting day!\n*For convenience\, we have permits for guiding at climbing sites throughout the four state (PA\, MD\, VA and WV) region. \nAll climbing days are led by Andy Nichols\, one of the top outdoor adventure educators in the country. Andy has been recognized as an “Outdoor Legend” by “Blue Ridge Outdoors” magazine\, and has been featured in magazines including National Geographic Adventure and Southern Living. His students range from Tier 1 operators to Scouts\, from corporate executives to family vacationers\, from NPS Search and Rescue teams to foreign embassy staff. His more than 50 years of experience will guarantee that you will have an amazing time! \n**If you have a day in mind for a climbing adventure\, and it is not shown on the calendar\, with sufficient advance planning we can probably arrange it. \nCall us at 301.667.3560 or email mtnjedi@gmail for more information \n 
URL:https://teamlinkinc.com/event/rock-climbing-2020-06-09/2026-07-04/
LOCATION:Shenandoah National Park
CATEGORIES:Rock Climbing
ORGANIZER;CN="Shenandoah Mountain Guides":MAILTO:mtnjedi@gmail.com
END:VEVENT
BEGIN:VEVENT
DTSTART;TZID=America/New_York:20260705T080000
DTEND;TZID=America/New_York:20260705T170000
DTSTAMP:20260423T144347
CREATED:20250710T115341Z
LAST-MODIFIED:20260422T004933Z
UID:25843-1783238400-1783270800@teamlinkinc.com
SUMMARY:*Private Adventure
DESCRIPTION:Sometimes\, you just want to experience the exhilaration of adventure with just you\, your special friends and a guide. This is for you! You can choose from any of our adventures and classes\, or combine any of them into a custom trip. ( we can help you design the experience) \nAll trips are guided by Andy… \nAll Private Adventures are led by Andy Nichols\, one of the top outdoor adventure educators in the country. Andy has been recognized as an “Outdoor Legend” by “Blue Ridge Outdoors” magazine\, and has been featured in magazines including National Geographic Adventure and Southern Living. His students range from Tier 1 operators to Scouts\, from corporate executives to family vacationers\, from NPS Search and Rescue teams to foreign embassy staff. His more than 50 years of experience will guarantee that you will have an amazing time!
URL:https://teamlinkinc.com/event/private-adventure/2026-07-05/
END:VEVENT
END:VCALENDAR