BEGIN:VCALENDAR
VERSION:2.0
PRODID:-//Teamlink and Shenandoah Mountain Guides - ECPv6.15.13.1//NONSGML v1.0//EN
CALSCALE:GREGORIAN
METHOD:PUBLISH
X-ORIGINAL-URL:https://teamlinkinc.com
X-WR-CALDESC:Events for Teamlink and Shenandoah Mountain Guides
REFRESH-INTERVAL;VALUE=DURATION:PT1H
X-Robots-Tag:noindex
X-PUBLISHED-TTL:PT1H
BEGIN:VTIMEZONE
TZID:America/New_York
BEGIN:DAYLIGHT
TZOFFSETFROM:-0500
TZOFFSETTO:-0400
TZNAME:EDT
DTSTART:20250309T070000
END:DAYLIGHT
BEGIN:STANDARD
TZOFFSETFROM:-0400
TZOFFSETTO:-0500
TZNAME:EST
DTSTART:20251102T060000
END:STANDARD
BEGIN:DAYLIGHT
TZOFFSETFROM:-0500
TZOFFSETTO:-0400
TZNAME:EDT
DTSTART:20260308T070000
END:DAYLIGHT
BEGIN:STANDARD
TZOFFSETFROM:-0400
TZOFFSETTO:-0500
TZNAME:EST
DTSTART:20261101T060000
END:STANDARD
BEGIN:DAYLIGHT
TZOFFSETFROM:-0500
TZOFFSETTO:-0400
TZNAME:EDT
DTSTART:20270314T070000
END:DAYLIGHT
BEGIN:STANDARD
TZOFFSETFROM:-0400
TZOFFSETTO:-0500
TZNAME:EST
DTSTART:20271107T060000
END:STANDARD
END:VTIMEZONE
BEGIN:VTIMEZONE
TZID:UTC
BEGIN:STANDARD
TZOFFSETFROM:+0000
TZOFFSETTO:+0000
TZNAME:UTC
DTSTART:20250101T000000
END:STANDARD
END:VTIMEZONE
BEGIN:VEVENT
DTSTART;TZID=America/New_York:20260706T080000
DTEND;TZID=America/New_York:20260706T170000
DTSTAMP:20260423T172731
CREATED:20250710T115341Z
LAST-MODIFIED:20260422T004933Z
UID:25844-1783324800-1783357200@teamlinkinc.com
SUMMARY:*Private Adventure
DESCRIPTION:Sometimes\, you just want to experience the exhilaration of adventure with just you\, your special friends and a guide. This is for you! You can choose from any of our adventures and classes\, or combine any of them into a custom trip. ( we can help you design the experience) \nAll trips are guided by Andy… \nAll Private Adventures are led by Andy Nichols\, one of the top outdoor adventure educators in the country. Andy has been recognized as an “Outdoor Legend” by “Blue Ridge Outdoors” magazine\, and has been featured in magazines including National Geographic Adventure and Southern Living. His students range from Tier 1 operators to Scouts\, from corporate executives to family vacationers\, from NPS Search and Rescue teams to foreign embassy staff. His more than 50 years of experience will guarantee that you will have an amazing time!
URL:https://teamlinkinc.com/event/private-adventure/2026-07-06/
END:VEVENT
BEGIN:VEVENT
DTSTART;TZID=UTC:20260706T090000
DTEND;TZID=UTC:20260706T150000
DTSTAMP:20260423T172731
CREATED:20170402T031224Z
LAST-MODIFIED:20260422T004748Z
UID:25575-1783328400-1783350000@teamlinkinc.com
SUMMARY:Rock Climbing
DESCRIPTION:Get that “aired-out” feeling\, while climbing almost 3000’ above the Shenandoah Valley floor*. This is an unforgettable experience that will make your trip to Shenandoah National Park complete*… a full day of adventure for both young and young at heart. All necessary gear is provided. Advance registration isrequired. This is an introductory thru intermediate level climbing program. \n \nThe climbing programs are not extraordinarily physically demanding (for a person of average fitness)\, but they can be psychologically challenging.\nAll participants should bring a camera for this exciting day!\n*For convenience\, we have permits for guiding at climbing sites throughout the four state (PA\, MD\, VA and WV) region. \nAll climbing days are led by Andy Nichols\, one of the top outdoor adventure educators in the country. Andy has been recognized as an “Outdoor Legend” by “Blue Ridge Outdoors” magazine\, and has been featured in magazines including National Geographic Adventure and Southern Living. His students range from Tier 1 operators to Scouts\, from corporate executives to family vacationers\, from NPS Search and Rescue teams to foreign embassy staff. His more than 50 years of experience will guarantee that you will have an amazing time! \n**If you have a day in mind for a climbing adventure\, and it is not shown on the calendar\, with sufficient advance planning we can probably arrange it. \nCall us at 301.667.3560 or email mtnjedi@gmail for more information \n 
URL:https://teamlinkinc.com/event/rock-climbing-2020-06-09/2026-07-06/
LOCATION:Shenandoah National Park
CATEGORIES:Rock Climbing
ORGANIZER;CN="Shenandoah Mountain Guides":MAILTO:mtnjedi@gmail.com
END:VEVENT
BEGIN:VEVENT
DTSTART;TZID=UTC:20260706T090000
DTEND;TZID=UTC:20260706T150000
DTSTAMP:20260423T172731
CREATED:20200829T010334Z
LAST-MODIFIED:20260210T163428Z
UID:25261-1783328400-1783350000@teamlinkinc.com
SUMMARY:Cascading 1 (mtn swimming)
DESCRIPTION:There is nothing as sweet as a few laps in some of our mountain pools.. all spring fed\, all bracingly cool\, all dazzlingly crystal clear. These mountain treasures have been destinations for years… the hotter the midsummer day\, the better! Add a few jumping rocks\, a “waterfall jacuzzi”\, a smooth waterslide\, a stream to wade\, and a waterfall to rappel through….  and it is the perfect getaway adventure day.. for families and friends. \nCascading is basically wet\, very wet\, canyoneering. \nAll cascading days are led by Andy Nichols\, one of the top outdoor adventure educators in the country. Andy has been recognized as an “Outdoor Legend” by “Blue Ridge Outdoors” magazine\, and has been featured in magazines including National Geographic Adventure and Southern Living. His students range from Tier 1 operators to Scouts\, from corporate executives to family vacationers\, from NPS Search and Rescue teams to foreign embassy staff. Andy and his team pioneered this sport in the East. His many years of experience will guarantee that you will have an amazing time! \n \nIn fact\, Southern Living Magazine has declared our cascading program as “ the best summer adventure in the South”! Come see why!
URL:https://teamlinkinc.com/event/cascading-1-mtn-swimming/2026-07-06/
LOCATION:Various
CATEGORIES:Cascading
END:VEVENT
BEGIN:VEVENT
DTSTART;TZID=America/New_York:20260707T080000
DTEND;TZID=America/New_York:20260707T170000
DTSTAMP:20260423T172731
CREATED:20250710T115341Z
LAST-MODIFIED:20260422T004933Z
UID:25845-1783411200-1783443600@teamlinkinc.com
SUMMARY:*Private Adventure
DESCRIPTION:Sometimes\, you just want to experience the exhilaration of adventure with just you\, your special friends and a guide. This is for you! You can choose from any of our adventures and classes\, or combine any of them into a custom trip. ( we can help you design the experience) \nAll trips are guided by Andy… \nAll Private Adventures are led by Andy Nichols\, one of the top outdoor adventure educators in the country. Andy has been recognized as an “Outdoor Legend” by “Blue Ridge Outdoors” magazine\, and has been featured in magazines including National Geographic Adventure and Southern Living. His students range from Tier 1 operators to Scouts\, from corporate executives to family vacationers\, from NPS Search and Rescue teams to foreign embassy staff. His more than 50 years of experience will guarantee that you will have an amazing time!
URL:https://teamlinkinc.com/event/private-adventure/2026-07-07/
END:VEVENT
BEGIN:VEVENT
DTSTART;TZID=UTC:20260707T090000
DTEND;TZID=UTC:20260707T150000
DTSTAMP:20260423T172731
CREATED:20170402T031224Z
LAST-MODIFIED:20260422T004748Z
UID:25576-1783414800-1783436400@teamlinkinc.com
SUMMARY:Rock Climbing
DESCRIPTION:Get that “aired-out” feeling\, while climbing almost 3000’ above the Shenandoah Valley floor*. This is an unforgettable experience that will make your trip to Shenandoah National Park complete*… a full day of adventure for both young and young at heart. All necessary gear is provided. Advance registration isrequired. This is an introductory thru intermediate level climbing program. \n \nThe climbing programs are not extraordinarily physically demanding (for a person of average fitness)\, but they can be psychologically challenging.\nAll participants should bring a camera for this exciting day!\n*For convenience\, we have permits for guiding at climbing sites throughout the four state (PA\, MD\, VA and WV) region. \nAll climbing days are led by Andy Nichols\, one of the top outdoor adventure educators in the country. Andy has been recognized as an “Outdoor Legend” by “Blue Ridge Outdoors” magazine\, and has been featured in magazines including National Geographic Adventure and Southern Living. His students range from Tier 1 operators to Scouts\, from corporate executives to family vacationers\, from NPS Search and Rescue teams to foreign embassy staff. His more than 50 years of experience will guarantee that you will have an amazing time! \n**If you have a day in mind for a climbing adventure\, and it is not shown on the calendar\, with sufficient advance planning we can probably arrange it. \nCall us at 301.667.3560 or email mtnjedi@gmail for more information \n 
URL:https://teamlinkinc.com/event/rock-climbing-2020-06-09/2026-07-07/
LOCATION:Shenandoah National Park
CATEGORIES:Rock Climbing
ORGANIZER;CN="Shenandoah Mountain Guides":MAILTO:mtnjedi@gmail.com
END:VEVENT
BEGIN:VEVENT
DTSTART;TZID=America/New_York:20260708T080000
DTEND;TZID=America/New_York:20260708T170000
DTSTAMP:20260423T172731
CREATED:20250710T115341Z
LAST-MODIFIED:20260422T004933Z
UID:25846-1783497600-1783530000@teamlinkinc.com
SUMMARY:*Private Adventure
DESCRIPTION:Sometimes\, you just want to experience the exhilaration of adventure with just you\, your special friends and a guide. This is for you! You can choose from any of our adventures and classes\, or combine any of them into a custom trip. ( we can help you design the experience) \nAll trips are guided by Andy… \nAll Private Adventures are led by Andy Nichols\, one of the top outdoor adventure educators in the country. Andy has been recognized as an “Outdoor Legend” by “Blue Ridge Outdoors” magazine\, and has been featured in magazines including National Geographic Adventure and Southern Living. His students range from Tier 1 operators to Scouts\, from corporate executives to family vacationers\, from NPS Search and Rescue teams to foreign embassy staff. His more than 50 years of experience will guarantee that you will have an amazing time!
URL:https://teamlinkinc.com/event/private-adventure/2026-07-08/
END:VEVENT
BEGIN:VEVENT
DTSTART;TZID=UTC:20260708T090000
DTEND;TZID=UTC:20260708T150000
DTSTAMP:20260423T172731
CREATED:20200829T010334Z
LAST-MODIFIED:20260210T163430Z
UID:25262-1783501200-1783522800@teamlinkinc.com
SUMMARY:Cascading 1 (mtn swimming)
DESCRIPTION:There is nothing as sweet as a few laps in some of our mountain pools.. all spring fed\, all bracingly cool\, all dazzlingly crystal clear. These mountain treasures have been destinations for years… the hotter the midsummer day\, the better! Add a few jumping rocks\, a “waterfall jacuzzi”\, a smooth waterslide\, a stream to wade\, and a waterfall to rappel through….  and it is the perfect getaway adventure day.. for families and friends. \nCascading is basically wet\, very wet\, canyoneering. \nAll cascading days are led by Andy Nichols\, one of the top outdoor adventure educators in the country. Andy has been recognized as an “Outdoor Legend” by “Blue Ridge Outdoors” magazine\, and has been featured in magazines including National Geographic Adventure and Southern Living. His students range from Tier 1 operators to Scouts\, from corporate executives to family vacationers\, from NPS Search and Rescue teams to foreign embassy staff. Andy and his team pioneered this sport in the East. His many years of experience will guarantee that you will have an amazing time! \n \nIn fact\, Southern Living Magazine has declared our cascading program as “ the best summer adventure in the South”! Come see why!
URL:https://teamlinkinc.com/event/cascading-1-mtn-swimming/2026-07-08/
LOCATION:Various
CATEGORIES:Cascading
END:VEVENT
BEGIN:VEVENT
DTSTART;TZID=America/New_York:20260708T090000
DTEND;TZID=America/New_York:20260708T160000
DTSTAMP:20260423T172731
CREATED:20250110T214227Z
LAST-MODIFIED:20250110T214227Z
UID:26933-1783501200-1783526400@teamlinkinc.com
SUMMARY:Cascading 2
DESCRIPTION:Ready to step up your adventure level? \n\nHave you completed the level 1 adventure? Are you a swimmer? In pretty good physical condition? \nThen… this is for you!  This trip only runs a few times each year\, but if you are lucky enough to go\, you will NEVER forget it! \n…with multiple waterfall rappels\, exploring remote pools\, and traveling WAY  deep in the canyon\, there are hardly words to fully convey the experience. \n*strong swimming skills and comfort in deeper water are required for this adventure! \n 
URL:https://teamlinkinc.com/event/cascading-2-2/2026-07-08/
CATEGORIES:Cascading
END:VEVENT
BEGIN:VEVENT
DTSTART;TZID=America/New_York:20260709T080000
DTEND;TZID=America/New_York:20260709T170000
DTSTAMP:20260423T172731
CREATED:20250710T115341Z
LAST-MODIFIED:20260422T004934Z
UID:25847-1783584000-1783616400@teamlinkinc.com
SUMMARY:*Private Adventure
DESCRIPTION:Sometimes\, you just want to experience the exhilaration of adventure with just you\, your special friends and a guide. This is for you! You can choose from any of our adventures and classes\, or combine any of them into a custom trip. ( we can help you design the experience) \nAll trips are guided by Andy… \nAll Private Adventures are led by Andy Nichols\, one of the top outdoor adventure educators in the country. Andy has been recognized as an “Outdoor Legend” by “Blue Ridge Outdoors” magazine\, and has been featured in magazines including National Geographic Adventure and Southern Living. His students range from Tier 1 operators to Scouts\, from corporate executives to family vacationers\, from NPS Search and Rescue teams to foreign embassy staff. His more than 50 years of experience will guarantee that you will have an amazing time!
URL:https://teamlinkinc.com/event/private-adventure/2026-07-09/
END:VEVENT
BEGIN:VEVENT
DTSTART;TZID=UTC:20260709T090000
DTEND;TZID=UTC:20260709T150000
DTSTAMP:20260423T172731
CREATED:20170402T031224Z
LAST-MODIFIED:20260422T004748Z
UID:25578-1783587600-1783609200@teamlinkinc.com
SUMMARY:Rock Climbing
DESCRIPTION:Get that “aired-out” feeling\, while climbing almost 3000’ above the Shenandoah Valley floor*. This is an unforgettable experience that will make your trip to Shenandoah National Park complete*… a full day of adventure for both young and young at heart. All necessary gear is provided. Advance registration isrequired. This is an introductory thru intermediate level climbing program. \n \nThe climbing programs are not extraordinarily physically demanding (for a person of average fitness)\, but they can be psychologically challenging.\nAll participants should bring a camera for this exciting day!\n*For convenience\, we have permits for guiding at climbing sites throughout the four state (PA\, MD\, VA and WV) region. \nAll climbing days are led by Andy Nichols\, one of the top outdoor adventure educators in the country. Andy has been recognized as an “Outdoor Legend” by “Blue Ridge Outdoors” magazine\, and has been featured in magazines including National Geographic Adventure and Southern Living. His students range from Tier 1 operators to Scouts\, from corporate executives to family vacationers\, from NPS Search and Rescue teams to foreign embassy staff. His more than 50 years of experience will guarantee that you will have an amazing time! \n**If you have a day in mind for a climbing adventure\, and it is not shown on the calendar\, with sufficient advance planning we can probably arrange it. \nCall us at 301.667.3560 or email mtnjedi@gmail for more information \n 
URL:https://teamlinkinc.com/event/rock-climbing-2020-06-09/2026-07-09/
LOCATION:Shenandoah National Park
CATEGORIES:Rock Climbing
ORGANIZER;CN="Shenandoah Mountain Guides":MAILTO:mtnjedi@gmail.com
END:VEVENT
BEGIN:VEVENT
DTSTART;TZID=America/New_York:20260710T080000
DTEND;TZID=America/New_York:20260710T170000
DTSTAMP:20260423T172731
CREATED:20250710T115341Z
LAST-MODIFIED:20260422T004934Z
UID:25848-1783670400-1783702800@teamlinkinc.com
SUMMARY:*Private Adventure
DESCRIPTION:Sometimes\, you just want to experience the exhilaration of adventure with just you\, your special friends and a guide. This is for you! You can choose from any of our adventures and classes\, or combine any of them into a custom trip. ( we can help you design the experience) \nAll trips are guided by Andy… \nAll Private Adventures are led by Andy Nichols\, one of the top outdoor adventure educators in the country. Andy has been recognized as an “Outdoor Legend” by “Blue Ridge Outdoors” magazine\, and has been featured in magazines including National Geographic Adventure and Southern Living. His students range from Tier 1 operators to Scouts\, from corporate executives to family vacationers\, from NPS Search and Rescue teams to foreign embassy staff. His more than 50 years of experience will guarantee that you will have an amazing time!
URL:https://teamlinkinc.com/event/private-adventure/2026-07-10/
END:VEVENT
BEGIN:VEVENT
DTSTART;TZID=UTC:20260710T090000
DTEND;TZID=UTC:20260710T150000
DTSTAMP:20260423T172731
CREATED:20200829T010334Z
LAST-MODIFIED:20260210T163432Z
UID:25263-1783674000-1783695600@teamlinkinc.com
SUMMARY:Cascading 1 (mtn swimming)
DESCRIPTION:There is nothing as sweet as a few laps in some of our mountain pools.. all spring fed\, all bracingly cool\, all dazzlingly crystal clear. These mountain treasures have been destinations for years… the hotter the midsummer day\, the better! Add a few jumping rocks\, a “waterfall jacuzzi”\, a smooth waterslide\, a stream to wade\, and a waterfall to rappel through….  and it is the perfect getaway adventure day.. for families and friends. \nCascading is basically wet\, very wet\, canyoneering. \nAll cascading days are led by Andy Nichols\, one of the top outdoor adventure educators in the country. Andy has been recognized as an “Outdoor Legend” by “Blue Ridge Outdoors” magazine\, and has been featured in magazines including National Geographic Adventure and Southern Living. His students range from Tier 1 operators to Scouts\, from corporate executives to family vacationers\, from NPS Search and Rescue teams to foreign embassy staff. Andy and his team pioneered this sport in the East. His many years of experience will guarantee that you will have an amazing time! \n \nIn fact\, Southern Living Magazine has declared our cascading program as “ the best summer adventure in the South”! Come see why!
URL:https://teamlinkinc.com/event/cascading-1-mtn-swimming/2026-07-10/
LOCATION:Various
CATEGORIES:Cascading
END:VEVENT
BEGIN:VEVENT
DTSTART;TZID=UTC:20260710T090000
DTEND;TZID=UTC:20260710T153000
DTSTAMP:20260423T172731
CREATED:20170406T020046Z
LAST-MODIFIED:20260422T005442Z
UID:25322-1783674000-1783697400@teamlinkinc.com
SUMMARY:Intro to Outdoor Survival/Basic Skills
DESCRIPTION:When everything goes wrong\, learn to not just survive\, but to thrive! \nIf you are interested in preparing for the worst\, this is a great place to start! \nHighly experiential.. learn the skills to survive! Build your own survival kit.. This is fieldcraft and outdoor knowledge and wisdom at the next level.. learn about water acquisition\, shelter\, signalling\, fire building\, navigation and so much more.The first half is class the second half is in the field.\nNo one who enjoys the outdoors should be without this class! \nThis was developed by Teamlink for the Discovery Channel in support of their Bear Grylls series… \n(Classes are offered in Shenandoah National Park\, Virginia and the Catoctin Mountains of Maryland) \nMaryland dates: \nMarch 27\, April 24\, May 22\, June 26\, August 28\, September 25\, October 23 \n*This class can be scheduled upon demand. It is not restricted to the dates indicated
URL:https://teamlinkinc.com/event/introduction-to-survival/2026-07-10/
LOCATION:Various
CATEGORIES:Outdoor skill classes
ORGANIZER;CN="Shenandoah Mountain Guides":MAILTO:mtnjedi@gmail.com
END:VEVENT
BEGIN:VEVENT
DTSTART;TZID=America/New_York:20260711T080000
DTEND;TZID=America/New_York:20260711T170000
DTSTAMP:20260423T172731
CREATED:20250710T115341Z
LAST-MODIFIED:20260422T004934Z
UID:25849-1783756800-1783789200@teamlinkinc.com
SUMMARY:*Private Adventure
DESCRIPTION:Sometimes\, you just want to experience the exhilaration of adventure with just you\, your special friends and a guide. This is for you! You can choose from any of our adventures and classes\, or combine any of them into a custom trip. ( we can help you design the experience) \nAll trips are guided by Andy… \nAll Private Adventures are led by Andy Nichols\, one of the top outdoor adventure educators in the country. Andy has been recognized as an “Outdoor Legend” by “Blue Ridge Outdoors” magazine\, and has been featured in magazines including National Geographic Adventure and Southern Living. His students range from Tier 1 operators to Scouts\, from corporate executives to family vacationers\, from NPS Search and Rescue teams to foreign embassy staff. His more than 50 years of experience will guarantee that you will have an amazing time!
URL:https://teamlinkinc.com/event/private-adventure/2026-07-11/
END:VEVENT
BEGIN:VEVENT
DTSTART;TZID=UTC:20260711T090000
DTEND;TZID=UTC:20260711T150000
DTSTAMP:20260423T172731
CREATED:20170402T031224Z
LAST-MODIFIED:20260422T004749Z
UID:25579-1783760400-1783782000@teamlinkinc.com
SUMMARY:Rock Climbing
DESCRIPTION:Get that “aired-out” feeling\, while climbing almost 3000’ above the Shenandoah Valley floor*. This is an unforgettable experience that will make your trip to Shenandoah National Park complete*… a full day of adventure for both young and young at heart. All necessary gear is provided. Advance registration isrequired. This is an introductory thru intermediate level climbing program. \n \nThe climbing programs are not extraordinarily physically demanding (for a person of average fitness)\, but they can be psychologically challenging.\nAll participants should bring a camera for this exciting day!\n*For convenience\, we have permits for guiding at climbing sites throughout the four state (PA\, MD\, VA and WV) region. \nAll climbing days are led by Andy Nichols\, one of the top outdoor adventure educators in the country. Andy has been recognized as an “Outdoor Legend” by “Blue Ridge Outdoors” magazine\, and has been featured in magazines including National Geographic Adventure and Southern Living. His students range from Tier 1 operators to Scouts\, from corporate executives to family vacationers\, from NPS Search and Rescue teams to foreign embassy staff. His more than 50 years of experience will guarantee that you will have an amazing time! \n**If you have a day in mind for a climbing adventure\, and it is not shown on the calendar\, with sufficient advance planning we can probably arrange it. \nCall us at 301.667.3560 or email mtnjedi@gmail for more information \n 
URL:https://teamlinkinc.com/event/rock-climbing-2020-06-09/2026-07-11/
LOCATION:Shenandoah National Park
CATEGORIES:Rock Climbing
ORGANIZER;CN="Shenandoah Mountain Guides":MAILTO:mtnjedi@gmail.com
END:VEVENT
BEGIN:VEVENT
DTSTART;TZID=America/New_York:20260711T090000
DTEND;TZID=America/New_York:20260711T153000
DTSTAMP:20260423T172731
CREATED:20240124T190439Z
LAST-MODIFIED:20260412T213208Z
UID:25449-1783760400-1783783800@teamlinkinc.com
SUMMARY:Rappelling
DESCRIPTION:Experience the thrill of accessing places in the vertical realm! \n \n  \n  \nLearn the techniques to harness gravity to explore cliffs\, canyons and structures. Rappelling is a skill used for recreation\, work and rescue \nEquipment\, self rescue\, safety\, knots\, anchors and so much more are covered in this comprehensive introduction. \nAll necessary equipment his provided for this class. \n 
URL:https://teamlinkinc.com/event/rappelling/2026-07-11/
CATEGORIES:Outdoor skills
END:VEVENT
BEGIN:VEVENT
DTSTART;TZID=America/New_York:20260712T080000
DTEND;TZID=America/New_York:20260712T170000
DTSTAMP:20260423T172731
CREATED:20250710T115341Z
LAST-MODIFIED:20260422T004934Z
UID:25850-1783843200-1783875600@teamlinkinc.com
SUMMARY:*Private Adventure
DESCRIPTION:Sometimes\, you just want to experience the exhilaration of adventure with just you\, your special friends and a guide. This is for you! You can choose from any of our adventures and classes\, or combine any of them into a custom trip. ( we can help you design the experience) \nAll trips are guided by Andy… \nAll Private Adventures are led by Andy Nichols\, one of the top outdoor adventure educators in the country. Andy has been recognized as an “Outdoor Legend” by “Blue Ridge Outdoors” magazine\, and has been featured in magazines including National Geographic Adventure and Southern Living. His students range from Tier 1 operators to Scouts\, from corporate executives to family vacationers\, from NPS Search and Rescue teams to foreign embassy staff. His more than 50 years of experience will guarantee that you will have an amazing time!
URL:https://teamlinkinc.com/event/private-adventure/2026-07-12/
END:VEVENT
END:VCALENDAR