BEGIN:VCALENDAR
VERSION:2.0
PRODID:-//Teamlink and Shenandoah Mountain Guides - ECPv6.15.13.1//NONSGML v1.0//EN
CALSCALE:GREGORIAN
METHOD:PUBLISH
X-ORIGINAL-URL:https://teamlinkinc.com
X-WR-CALDESC:Events for Teamlink and Shenandoah Mountain Guides
REFRESH-INTERVAL;VALUE=DURATION:PT1H
X-Robots-Tag:noindex
X-PUBLISHED-TTL:PT1H
BEGIN:VTIMEZONE
TZID:America/New_York
BEGIN:DAYLIGHT
TZOFFSETFROM:-0500
TZOFFSETTO:-0400
TZNAME:EDT
DTSTART:20250309T070000
END:DAYLIGHT
BEGIN:STANDARD
TZOFFSETFROM:-0400
TZOFFSETTO:-0500
TZNAME:EST
DTSTART:20251102T060000
END:STANDARD
BEGIN:DAYLIGHT
TZOFFSETFROM:-0500
TZOFFSETTO:-0400
TZNAME:EDT
DTSTART:20260308T070000
END:DAYLIGHT
BEGIN:STANDARD
TZOFFSETFROM:-0400
TZOFFSETTO:-0500
TZNAME:EST
DTSTART:20261101T060000
END:STANDARD
BEGIN:DAYLIGHT
TZOFFSETFROM:-0500
TZOFFSETTO:-0400
TZNAME:EDT
DTSTART:20270314T070000
END:DAYLIGHT
BEGIN:STANDARD
TZOFFSETFROM:-0400
TZOFFSETTO:-0500
TZNAME:EST
DTSTART:20271107T060000
END:STANDARD
END:VTIMEZONE
BEGIN:VTIMEZONE
TZID:UTC
BEGIN:STANDARD
TZOFFSETFROM:+0000
TZOFFSETTO:+0000
TZNAME:UTC
DTSTART:20250101T000000
END:STANDARD
END:VTIMEZONE
BEGIN:VEVENT
DTSTART;TZID=America/New_York:20261130T080000
DTEND;TZID=America/New_York:20261130T170000
DTSTAMP:20260423T230225
CREATED:20250710T115341Z
LAST-MODIFIED:20260422T005007Z
UID:25991-1796025600-1796058000@teamlinkinc.com
SUMMARY:*Private Adventure
DESCRIPTION:Sometimes\, you just want to experience the exhilaration of adventure with just you\, your special friends and a guide. This is for you! You can choose from any of our adventures and classes\, or combine any of them into a custom trip. ( we can help you design the experience) \nAll trips are guided by Andy… \nAll Private Adventures are led by Andy Nichols\, one of the top outdoor adventure educators in the country. Andy has been recognized as an “Outdoor Legend” by “Blue Ridge Outdoors” magazine\, and has been featured in magazines including National Geographic Adventure and Southern Living. His students range from Tier 1 operators to Scouts\, from corporate executives to family vacationers\, from NPS Search and Rescue teams to foreign embassy staff. His more than 50 years of experience will guarantee that you will have an amazing time!
URL:https://teamlinkinc.com/event/private-adventure/2026-11-30/
END:VEVENT
BEGIN:VEVENT
DTSTART;TZID=America/New_York:20261201T080000
DTEND;TZID=America/New_York:20261201T170000
DTSTAMP:20260423T230225
CREATED:20250710T115341Z
LAST-MODIFIED:20260422T005008Z
UID:25992-1796112000-1796144400@teamlinkinc.com
SUMMARY:*Private Adventure
DESCRIPTION:Sometimes\, you just want to experience the exhilaration of adventure with just you\, your special friends and a guide. This is for you! You can choose from any of our adventures and classes\, or combine any of them into a custom trip. ( we can help you design the experience) \nAll trips are guided by Andy… \nAll Private Adventures are led by Andy Nichols\, one of the top outdoor adventure educators in the country. Andy has been recognized as an “Outdoor Legend” by “Blue Ridge Outdoors” magazine\, and has been featured in magazines including National Geographic Adventure and Southern Living. His students range from Tier 1 operators to Scouts\, from corporate executives to family vacationers\, from NPS Search and Rescue teams to foreign embassy staff. His more than 50 years of experience will guarantee that you will have an amazing time!
URL:https://teamlinkinc.com/event/private-adventure/2026-12-01/
END:VEVENT
BEGIN:VEVENT
DTSTART;TZID=America/New_York:20261202T080000
DTEND;TZID=America/New_York:20261202T170000
DTSTAMP:20260423T230225
CREATED:20250710T115341Z
LAST-MODIFIED:20260422T005009Z
UID:25993-1796198400-1796230800@teamlinkinc.com
SUMMARY:*Private Adventure
DESCRIPTION:Sometimes\, you just want to experience the exhilaration of adventure with just you\, your special friends and a guide. This is for you! You can choose from any of our adventures and classes\, or combine any of them into a custom trip. ( we can help you design the experience) \nAll trips are guided by Andy… \nAll Private Adventures are led by Andy Nichols\, one of the top outdoor adventure educators in the country. Andy has been recognized as an “Outdoor Legend” by “Blue Ridge Outdoors” magazine\, and has been featured in magazines including National Geographic Adventure and Southern Living. His students range from Tier 1 operators to Scouts\, from corporate executives to family vacationers\, from NPS Search and Rescue teams to foreign embassy staff. His more than 50 years of experience will guarantee that you will have an amazing time!
URL:https://teamlinkinc.com/event/private-adventure/2026-12-02/
END:VEVENT
BEGIN:VEVENT
DTSTART;TZID=America/New_York:20261203T080000
DTEND;TZID=America/New_York:20261203T170000
DTSTAMP:20260423T230225
CREATED:20250710T115341Z
LAST-MODIFIED:20260422T005009Z
UID:25994-1796284800-1796317200@teamlinkinc.com
SUMMARY:*Private Adventure
DESCRIPTION:Sometimes\, you just want to experience the exhilaration of adventure with just you\, your special friends and a guide. This is for you! You can choose from any of our adventures and classes\, or combine any of them into a custom trip. ( we can help you design the experience) \nAll trips are guided by Andy… \nAll Private Adventures are led by Andy Nichols\, one of the top outdoor adventure educators in the country. Andy has been recognized as an “Outdoor Legend” by “Blue Ridge Outdoors” magazine\, and has been featured in magazines including National Geographic Adventure and Southern Living. His students range from Tier 1 operators to Scouts\, from corporate executives to family vacationers\, from NPS Search and Rescue teams to foreign embassy staff. His more than 50 years of experience will guarantee that you will have an amazing time!
URL:https://teamlinkinc.com/event/private-adventure/2026-12-03/
END:VEVENT
BEGIN:VEVENT
DTSTART;TZID=America/New_York:20261204T080000
DTEND;TZID=America/New_York:20261204T170000
DTSTAMP:20260423T230225
CREATED:20250710T115341Z
LAST-MODIFIED:20260422T005009Z
UID:25995-1796371200-1796403600@teamlinkinc.com
SUMMARY:*Private Adventure
DESCRIPTION:Sometimes\, you just want to experience the exhilaration of adventure with just you\, your special friends and a guide. This is for you! You can choose from any of our adventures and classes\, or combine any of them into a custom trip. ( we can help you design the experience) \nAll trips are guided by Andy… \nAll Private Adventures are led by Andy Nichols\, one of the top outdoor adventure educators in the country. Andy has been recognized as an “Outdoor Legend” by “Blue Ridge Outdoors” magazine\, and has been featured in magazines including National Geographic Adventure and Southern Living. His students range from Tier 1 operators to Scouts\, from corporate executives to family vacationers\, from NPS Search and Rescue teams to foreign embassy staff. His more than 50 years of experience will guarantee that you will have an amazing time!
URL:https://teamlinkinc.com/event/private-adventure/2026-12-04/
END:VEVENT
BEGIN:VEVENT
DTSTART;TZID=UTC:20261204T090000
DTEND;TZID=UTC:20261204T153000
DTSTAMP:20260423T230225
CREATED:20170406T011944Z
LAST-MODIFIED:20260422T005319Z
UID:26556-1796374800-1796398200@teamlinkinc.com
SUMMARY:Map and Compass (Land Navigation)
DESCRIPTION:Learn about land navigation in the absence of technology. Magnetic Compass\, topographic map.. even the Sun! Learn how to find out: Where you are; Where you are going; and\, How you are going to get there. This is a full day course\, taught outdoors\, in the mountains! All needed equipment is provided. Never feel helplessly lost again! \nNavigation in the absence of technology is a thousands of years old skill…. But it’s not rocket science. Too many navigation courses become needlessly complex and overly complicated… and leave students more frustrated than empowered… and that is definitely not fun! \nSee why our class draws students from all over the country.\nIt’s simple\, it’s effective\, it’s fun! \n  \nTaught in the mountains of Virginia’s Shenandoah National Park National Park\, and Maryland’s Catoctin Mountains\, the scenery just adds to the magic! \nMaryland dates: \nMarch 6\, April 3\, May 1\, August 7\, September 4\, October 2\, November 6 \n*This class can be offered anytime during the year and in many locations. It is not restricted to just the dates shown. Contact us to schedule your custom class. \n 
URL:https://teamlinkinc.com/event/map-compass-land-navigation/2026-12-04/
LOCATION:Various
CATEGORIES:Outdoor skill classes
ORGANIZER;CN="Shenandoah Mountain Guides":MAILTO:mtnjedi@gmail.com
END:VEVENT
BEGIN:VEVENT
DTSTART;TZID=America/New_York:20261205T080000
DTEND;TZID=America/New_York:20261205T170000
DTSTAMP:20260423T230225
CREATED:20250710T115341Z
LAST-MODIFIED:20260422T005009Z
UID:25996-1796457600-1796490000@teamlinkinc.com
SUMMARY:*Private Adventure
DESCRIPTION:Sometimes\, you just want to experience the exhilaration of adventure with just you\, your special friends and a guide. This is for you! You can choose from any of our adventures and classes\, or combine any of them into a custom trip. ( we can help you design the experience) \nAll trips are guided by Andy… \nAll Private Adventures are led by Andy Nichols\, one of the top outdoor adventure educators in the country. Andy has been recognized as an “Outdoor Legend” by “Blue Ridge Outdoors” magazine\, and has been featured in magazines including National Geographic Adventure and Southern Living. His students range from Tier 1 operators to Scouts\, from corporate executives to family vacationers\, from NPS Search and Rescue teams to foreign embassy staff. His more than 50 years of experience will guarantee that you will have an amazing time!
URL:https://teamlinkinc.com/event/private-adventure/2026-12-05/
END:VEVENT
BEGIN:VEVENT
DTSTART;TZID=America/New_York:20261206T080000
DTEND;TZID=America/New_York:20261206T170000
DTSTAMP:20260423T230225
CREATED:20250710T115341Z
LAST-MODIFIED:20260422T005009Z
UID:25997-1796544000-1796576400@teamlinkinc.com
SUMMARY:*Private Adventure
DESCRIPTION:Sometimes\, you just want to experience the exhilaration of adventure with just you\, your special friends and a guide. This is for you! You can choose from any of our adventures and classes\, or combine any of them into a custom trip. ( we can help you design the experience) \nAll trips are guided by Andy… \nAll Private Adventures are led by Andy Nichols\, one of the top outdoor adventure educators in the country. Andy has been recognized as an “Outdoor Legend” by “Blue Ridge Outdoors” magazine\, and has been featured in magazines including National Geographic Adventure and Southern Living. His students range from Tier 1 operators to Scouts\, from corporate executives to family vacationers\, from NPS Search and Rescue teams to foreign embassy staff. His more than 50 years of experience will guarantee that you will have an amazing time!
URL:https://teamlinkinc.com/event/private-adventure/2026-12-06/
END:VEVENT
END:VCALENDAR